{"text_format":"1","workbook":"xlsx","n_sheets":14,"sheets":["Титульный","Титульный 2","прайс-лист","прайс-лист2","Альфа_Бета_пр","Альфа_Бета_пр (2)","Loft","Loft (2)","Александрия","Александрия (2)","Retro","Retro (2)","Лист-калькулятор","Инструкция лист-калькулятор"],"not_rendered":{"charts":0,"images":270,"macros":1,"external_links":0,"defined_names":3,"comments":3,"pivot_tables":0},"unopened":[],"bounds":{"document_bytes":16777216,"sheet_cells":100000,"rows_first":2000,"rows_last":500,"rows_between":2000,"halvings":0,"cell_chars":16384,"cell_head_chars":4096},"cells_cut":0,"cells_raw":0,"read":"whole","date_system":"1900"}

{"sheet":"Титульный","index":0,"n_rows":329,"n_cols":51,"rows_kept":329,"cut":false,"hidden":false,"merged":[[44,0,45,7],[44,8,45,42],[82,37,82,40],[113,31,113,33],[35,0,35,46],[43,0,43,7],[43,8,43,42],[29,21,29,31],[28,0,28,9],[29,0,29,9],[28,21,28,31],[71,0,71,6],[74,7,74,13],[75,0,75,6],[76,0,76,42],[108,1,108,4],[108,21,108,24],[74,0,74,6],[95,1,95,4],[95,9,95,12],[91,9,91,11],[67,0,67,6],[68,7,68,13],[69,15,69,21],[70,22,70,28],[65,0,65,6],[57,22,57,28],[58,30,58,36],[68,0,68,6],[70,0,70,6],[70,7,70,13],[68,22,68,28],[60,30,60,36],[66,0,66,6],[63,30,63,36],[62,15,62,21],[65,7,65,13],[62,22,62,28],[64,7,64,13],[319,0,319,46],[263,7,263,10],[136,9,136,11],[132,9,132,11],[130,9,130,11],[128,9,128,11],[126,9,126,11],[63,7,63,13],[58,7,58,13],[128,25,128,27],[128,28,128,30],[136,12,136,14],[126,12,126,14],[128,12,128,14],[130,12,130,14],[132,12,132,14],[126,25,126,27],[126,28,126,30],[117,28,117,30],[122,12,122,14],[124,12,124,14],[121,1,121,4],[75,22,75,28],[150,32,150,35],[284,7,284,22],[284,31,284,46],[286,15,286,18],[287,35,287,38],[287,11,287,14],[158,43,158,45],[158,46,158,48],[286,43,286,46],[286,19,286,22],[286,31,286,34],[287,31,287,34],[285,7,285,22],[286,11,286,14],[287,43,287,46],[286,35,286,38],[286,39,286,42],[274,15,274,18],[278,15,278,18],[278,19,278,22],[281,0,281,42],[279,11,279,14],[161,4,161,6],[161,7,161,9],[161,24,161,26],[286,7,286,10],[287,7,287,10],[285,31,285,46],[287,39,287,42],[274,19,274,22],[274,39,274,42],[311,0,311,42],[303,0,303,42],[290,7,290,22],[291,7,291,10],[291,11,291,14],[291,15,291,18],[291,19,291,22],[292,7,292,10],[292,11,292,14],[292,15,292,18],[292,19,292,22],[301,0,301,42],[294,0,294,46],[296,11,296,30],[297,11,297,14],[289,7,289,22],[287,15,287,18],[287,19,287,22],[277,7,277,22],[274,7,274,10],[274,11,274,14],[272,7,272,22],[279,15,279,18],[274,35,274,38],[279,19,279,22],[279,7,279,10],[278,11,278,14],[278,7,278,10],[274,31,274,34],[269,11,269,14],[268,15,268,18],[268,19,268,22],[267,7,267,22],[269,15,269,18],[269,19,269,22],[268,11,268,14],[276,0,276,22],[273,7,273,10],[273,43,273,46],[269,43,269,46],[272,31,272,46],[268,35,268,38],[266,0,266,22],[268,7,268,10],[274,43,274,46],[264,39,264,42],[273,35,273,38],[273,39,273,42],[269,35,269,38],[269,39,269,42],[271,24,271,46],[269,31,269,34],[273,31,273,34],[264,19,264,22],[264,11,264,14],[264,15,264,18],[264,7,264,10],[273,11,273,14],[273,15,273,18],[273,19,273,22],[271,0,271,22],[269,7,269,10],[263,39,263,42],[263,43,263,46],[266,24,266,46],[264,43,264,46],[264,35,264,38],[263,31,263,34],[267,31,267,46],[268,31,268,34],[268,39,268,42],[264,31,264,34],[263,35,263,38],[259,15,259,18],[258,11,258,14],[258,7,258,10],[258,19,258,22],[259,7,259,10],[249,35,251,38],[259,19,259,22],[258,35,258,38],[258,15,258,18],[257,31,257,46],[259,43,259,46],[249,39,251,42],[254,0,254,42],[251,14,251,16],[259,39,259,42],[249,31,251,34],[249,11,249,13],[250,20,250,22],[249,7,249,10],[249,17,249,19],[250,7,250,10],[259,11,259,14],[258,39,258,42],[258,43,258,46],[249,43,251,46],[256,24,256,46],[256,0,256,22],[258,31,258,34],[248,7,248,10],[248,39,248,42],[150,12,150,16],[150,0,150,3],[150,4,150,10],[251,7,251,10],[251,17,251,19],[247,20,247,22],[246,11,246,13],[243,14,243,16],[243,17,243,19],[243,11,243,13],[250,17,250,19],[250,14,250,16],[249,14,249,16],[251,20,251,22],[181,0,181,6],[161,27,161,29],[161,39,161,41],[161,42,161,44],[261,0,261,22],[268,43,268,46],[67,37,67,42],[249,24,251,30],[249,20,249,22],[102,24,102,26],[104,21,104,23],[104,24,104,26],[106,21,106,23],[106,24,106,26],[96,33,96,35],[96,36,96,38],[109,12,109,14],[109,15,109,17],[100,24,100,26],[102,21,102,23],[100,21,100,23],[109,39,109,41],[246,7,246,10],[243,0,251,6],[243,20,243,22],[251,11,251,13],[176,19,176,25],[177,19,177,25],[27,10,27,19],[25,21,25,31],[26,21,26,31],[27,21,27,31],[21,45,21,55],[18,1,18,46],[21,21,21,31],[22,0,22,9],[23,10,23,19],[24,10,24,19],[23,0,23,9],[24,0,24,9],[25,10,25,19],[25,0,25,9],[26,0,26,9],[22,33,22,43],[22,45,22,55],[23,45,23,55],[24,45,24,55],[25,45,25,55],[26,10,26,19],[22,21,22,31],[23,21,23,31],[24,21,24,31],[23,33,23,43],[24,33,24,43],[13,47,13,57],[14,47,14,57],[15,47,15,57],[16,47,16,57],[17,47,17,57],[21,10,21,19],[17,1,17,46],[158,31,158,33],[158,34,158,36],[158,5,158,7],[158,8,158,10],[158,19,158,21],[158,22,158,24],[0,0,0,42],[1,0,1,42],[37,0,37,42],[38,0,38,7],[38,8,38,42],[39,0,39,7],[39,8,39,42],[41,0,41,42],[42,0,42,7],[42,8,42,42],[31,14,34,31],[21,33,21,43],[20,0,20,46],[12,0,12,46],[11,0,11,46],[21,0,21,9],[22,10,22,19],[27,0,27,9],[111,15,111,17],[109,28,109,30],[111,28,111,30],[113,28,113,30],[115,28,115,30],[122,25,122,27],[124,25,124,27],[119,31,119,33],[150,26,150,30],[145,0,145,42],[109,31,109,33],[111,31,111,33],[175,38,175,41],[95,5,95,8],[163,0,163,46],[172,1,172,5],[175,7,175,18],[122,9,122,11],[124,9,124,11],[117,31,117,33],[119,28,119,30],[175,30,175,33],[96,21,96,23],[96,24,96,26],[174,30,174,33],[115,31,115,33],[174,34,174,37],[154,16,154,19],[154,21,154,24],[154,26,154,29],[150,20,150,23],[150,37,150,40],[174,38,174,41],[122,28,122,30],[124,28,124,30],[111,12,111,14],[91,12,91,14],[108,5,108,8],[174,26,174,29],[173,26,173,41],[98,21,98,23],[98,24,98,26],[73,0,73,6],[72,0,72,6],[87,9,87,11],[87,12,87,14],[77,0,77,46],[73,7,73,13],[83,9,83,11],[91,24,91,26],[93,9,93,11],[93,12,93,14],[75,7,75,13],[82,9,82,15],[84,9,84,15],[85,9,85,11],[85,12,85,14],[83,21,83,23],[79,0,79,42],[89,21,89,23],[89,9,89,11],[89,12,89,14],[82,1,82,4],[85,24,85,26],[57,7,57,13],[62,30,62,36],[64,15,64,21],[58,0,58,6],[58,15,58,21],[60,0,60,6],[62,0,62,6],[75,15,75,21],[74,22,74,28],[68,30,68,36],[59,7,59,13],[59,15,59,21],[70,15,70,21],[64,0,64,6],[61,15,61,21],[61,22,61,28],[65,22,65,28],[65,15,65,21],[58,22,58,28],[67,7,67,13],[46,0,46,7],[56,30,56,36],[56,22,56,28],[56,15,56,21],[49,0,49,7],[49,8,49,42],[57,30,57,36],[57,0,57,6],[50,0,50,7],[56,0,56,6],[53,0,53,42],[56,7,56,13],[50,8,50,42],[47,0,47,42],[48,0,48,7],[48,8,48,42],[56,37,56,42],[46,8,46,42],[57,15,57,21],[61,30,61,36],[57,37,57,42],[58,37,58,42],[73,22,73,28],[73,15,73,21],[71,37,71,42],[70,30,70,36],[65,30,65,36],[71,22,71,28],[72,22,72,28],[72,15,72,21],[71,15,71,21],[69,37,69,42],[59,30,59,36],[67,15,67,21],[70,37,70,42],[71,30,71,36],[68,37,68,42],[65,37,65,42],[66,30,66,36],[64,37,64,42],[63,37,63,42],[109,42,109,44],[173,7,174,18],[173,19,174,25],[178,7,178,18],[59,0,59,6],[64,22,64,28],[69,0,69,6],[61,0,61,6],[61,7,61,13],[60,15,60,21],[60,22,60,28],[60,7,60,13],[63,22,63,28],[63,15,63,21],[63,0,63,6],[66,7,66,13],[68,15,68,21],[66,22,66,28],[66,15,66,21],[69,22,69,28],[62,37,62,42],[64,30,64,36],[89,24,89,26],[91,21,91,23],[241,31,241,46],[242,31,242,34],[242,17,242,19],[242,20,242,22],[240,1,240,20],[223,20,223,24],[176,30,176,33],[176,34,176,37],[176,38,176,41],[178,0,178,6],[177,26,177,29],[176,7,176,18],[177,7,177,18],[180,7,180,18],[181,7,181,18],[177,30,177,33],[242,43,242,46],[189,7,189,18],[190,7,190,18],[241,0,242,6],[187,19,187,25],[243,7,243,10],[245,20,245,22],[246,24,246,46],[247,24,248,30],[248,14,248,16],[248,17,248,19],[248,31,248,34],[244,7,244,10],[244,11,244,13],[247,17,247,19],[248,20,248,22],[243,43,245,46],[244,14,244,16],[244,17,244,19],[244,20,244,22],[245,11,245,13],[243,31,245,34],[246,17,246,19],[247,14,247,16],[247,11,247,13],[245,14,245,16],[246,14,246,16],[245,17,245,19],[247,31,247,46],[236,0,236,42],[191,26,191,29],[191,30,191,33],[191,34,191,37],[191,38,191,41],[192,26,192,29],[192,30,192,33],[192,34,192,37],[192,38,192,41],[223,38,223,42],[234,20,234,24],[226,0,226,46],[214,0,214,46],[203,1,203,18],[234,38,234,42],[199,25,199,42],[194,0,194,42],[199,1,199,18],[191,7,191,18],[257,7,257,22],[245,7,245,10],[241,7,242,10],[263,15,263,18],[263,19,263,22],[259,35,259,38],[203,25,203,42],[242,35,242,38],[223,29,223,33],[234,29,234,33],[240,24,240,46],[243,24,245,30],[241,24,242,30],[243,39,245,42],[242,39,242,42],[261,24,261,46],[259,31,259,34],[248,11,248,13],[248,43,248,46],[262,7,262,22],[262,31,262,46],[263,11,263,14],[241,11,241,22],[242,11,242,13],[250,11,250,13],[243,35,245,38],[26,48,26,58],[190,34,190,37],[190,38,190,41],[184,34,184,37],[184,38,184,41],[185,26,185,29],[185,30,185,33],[185,34,185,37],[185,38,185,41],[189,26,189,29],[189,30,189,33],[189,34,189,37],[189,38,189,41],[186,26,186,29],[186,30,186,33],[186,34,186,37],[186,38,186,41],[187,26,187,29],[187,30,187,33],[187,34,187,37],[187,38,187,41],[188,26,188,29],[248,35,248,38],[182,30,182,33],[182,34,182,37],[182,38,182,41],[181,26,181,29],[184,26,184,29],[184,30,184,33],[182,7,182,18],[183,7,183,18],[183,34,183,37],[183,38,183,41],[184,19,184,25],[183,19,183,25],[183,26,183,29],[183,30,183,33],[185,19,185,25],[186,19,186,25],[190,26,190,29],[190,30,190,33],[191,19,191,25],[192,19,192,25],[247,7,247,10],[246,20,246,22],[242,14,242,16],[182,26,182,29],[180,38,180,41],[192,7,192,18],[189,19,189,25],[190,19,190,25],[188,7,188,18],[188,38,188,41],[181,19,181,25],[182,19,182,25],[181,30,181,33],[181,34,181,37],[181,38,181,41],[188,30,188,33],[188,34,188,37],[184,7,184,18],[188,19,188,25],[185,7,185,18],[186,7,186,18],[187,7,187,18],[177,38,177,41],[178,26,178,29],[178,30,178,33],[178,34,178,37],[176,26,176,29],[179,30,179,33],[180,26,180,29],[180,30,180,33],[180,34,180,37],[179,38,179,41],[178,38,178,41],[179,19,179,25],[180,19,180,25],[175,34,175,37],[178,19,178,25],[179,7,179,18],[175,26,175,29],[177,0,177,6],[179,26,179,29],[179,34,179,37],[177,34,177,37],[175,19,175,25],[87,21,87,23],[87,24,87,26],[72,7,72,13],[71,7,71,13],[83,12,83,14],[69,7,69,13],[59,37,59,42],[60,37,60,42],[61,37,61,42],[67,22,67,28],[67,30,67,36],[59,22,59,28],[62,7,62,13],[74,15,74,21],[69,30,69,36],[85,21,85,23],[66,37,66,42]]}
["Базовая комплектация",null,null,null,null,null,null,null,null,null,null,null,null,null,null,null,null,null,null,null,null,null,null,null,null,null,null,null,null,null,null,null,null,null,null,null,null,null,null,null,null,null,null,null,null,null,null,null,null,null,1]
["1. Каркас модулей изготовлен из ЛДСП оклеенной кромкой ПВХ 0,4 мм. Задняя стенка модулей из облагороженной ХДФ;"]
["2. Фасад;",null,null,null,null,null,null,null,null,null,null,null,null,null,null,null,null,null,null,null,null,null,null,null,null,null,null,null,null,null,null,null,null,null,null,null,null,null,null,null,null,null,null,null,null,null,null,null,null,null,1]
["3. Петли Hettich Sensys плавного закрывания;"]
["4.","Полки ЛДСП"]
["5. Роликовые направляющие в выкатных ящиках тумб и шкафов;"]
["6. Шариковые направляющие Hafele в выкатном ящике стола туалетного, кровати 2 ящика и тумб с соответствующей пометкой \"Шар\";"]
["7. Штанга в шкафах для одежды и шкафах комбинированных;"]
["8. Регулируемые ножки PI04;"]
["9. Стекло тонированное в шкафах-витринах;"]
["10. Крючки FK 009 020 на панелях настенных. (На панелях шириной 400 - 2 крючка, а на панелях шириной 540 - 3 крючка)"]
["11. Обращаем внимание, что в стоимость мебели ручки не входят! Кроме: кнопка \"Латунь\" в мебели для гостинной \"Альфа\" и ручка Скоба 1069, 128 мм. для мебели \"Бета\". \"Сириус\" комплектуется ручкой FM-021."]
["Марго, краткое описание"]
[1,"Фасад Марого и Марго 16 выполнен из ЛДСП толщиной 16 мм. оклеенной кромкой ПВХ толщиной 1 мм.",null,null,null,null,null,null,null,null,null,null,null,null,null,null,null,null,null,null,null,null,null,null,null,null,null,null,null,null,null,null,null,null,null,null,null,null,null,null,null,null,null,null,null,null,null,"Цвета Марго"]
[2,"Фасад шкафов витрин и полувитрин - рамочный, из алюминиевого профиля толщиной 21 мм. Стекло - Тонированное",null,null,null,null,null,null,null,null,null,null,null,null,null,null,null,null,null,null,null,null,null,null,null,null,null,null,null,null,null,null,null,null,null,null,null,null,null,null,null,null,null,null,null,null,null,"Дуб шамони темный"]
[3,"Крышки столов, тумб, комода, стола туалетного, спинки кроватей Марго выполнены из  ЛДСП толщиной 22 мм. и оклеенной кромкой ПВХ толщиной 1 мм.   ",null,null,null,null,null,null,null,null,null,null,null,null,null,null,null,null,null,null,null,null,null,null,null,null,null,null,null,null,null,null,null,null,null,null,null,null,null,null,null,null,null,null,null,null,null,"Дуб шамони светлый"]
[4,"Сверловка под ручку 160 мм.",null,null,null,null,null,null,null,null,null,null,null,null,null,null,null,null,null,null,null,null,null,null,null,null,null,null,null,null,null,null,null,null,null,null,null,null,null,null,null,null,null,null,null,null,null,"Сонома"]
[5,"Обращаем Ваше внимание на то, что каркас \"Марго\" изготавливается только следующих цветов - Капучино, Дуб шамони темный и Дуб шамони светлый, Сонома"]
[6,"Обращаем Ваше внимание на то, что каркас тумб Марго 16 может изготавливаться в любом цвете ЛДСП за исключением Зеленого лайма и Лаванды. Фасад набора мебели Марго и  тумб Марго 16 может изготавливаться в любом цвете ЛДСП согласно классификации цветов фасадов."]
[7,"Для фасада Марго и Марго 16 может быть использовано только накладное зеркало."]
["Классификация цветов фасадов Марго и Марго 16"]
["1 ценовая категория Марго 16",null,null,null,null,null,null,null,null,null,"2 ценовая категория Марго 16",null,null,null,null,null,null,null,null,null,null,"3 ценовая категория Марго 16",null,null,null,null,null,null,null,null,null,null,null,"3 ценовая категория Марго 16",null,null,null,null,null,null,null,null,null,null,null,"4 ценовая категория Марго 16"]
["Антрацит",null,null,null,null,null,null,null,null,null,"Бежевый",null,null,null,null,null,null,null,null,null,null,"Сосна Касцина EG",null,null,null,null,null,null,null,null,null,null,null,"Зеленый шалфей",null,null,null,null,null,null,null,null,null,null,null,"Дуб Галифакс натур-й EG"]
["Белая шагрень+",null,null,null,null,null,null,null,null,null,"Сонома+",null,null,null,null,null,null,null,null,null,null,"Чикаго серый EG",null,null,null,null,null,null,null,null,null,null,null,"Зеленый эвкалипт",null,null,null,null,null,null,null,null,null,null,null,"Дуб каселла коричневый"]
["Венге+",null,null,null,null,null,null,null,null,null,"Дуб шамони светлый+",null,null,null,null,null,null,null,null,null,null,"Чикаго темный EG",null,null,null,null,null,null,null,null,null,null,null,"Кашемир серый",null,null,null,null,null,null,null,null,null,null,null,"Дуб каселла натуральный"]
["Серый",null,null,null,null,null,null,null,null,null,"Выбеленное дерево+",null,null,null,null,null,null,null,null,null,null,"Хюгге",null,null,null,null,null,null,null,null,null,null,null,null,null,null,null,null,null,null,null,null,null,null,null,"Желтый песок"]
["Зеленый лайм+",null,null,null,null,null,null,null,null,null,"Дуб гранж колон-ный+",null,null,null,null,null,null,null,null,null,null,"Крафт"]
["Черный",null,null,null,null,null,null,null,null,null,"Цемент+",null,null,null,null,null,null,null,null,null,null,"Рейн"]
["Дуб эвок приб-ный +",null,null,null,null,null,null,null,null,null,null,null,null,null,null,null,null,null,null,null,null,"Дуб барония светлый"]
["Винтаж+",null,null,null,null,null,null,null,null,null,null,null,null,null,null,null,null,null,null,null,null,"Дуб Хантон EG"]
[]
[null,null,null,null,null,null,null,null,null,null,null,null,null,null,"Внимание! Следующие цвета ЛДСП: Лаванда, Бежевый, Серый, Антрацит и Черный кромяться кромкой тощиной 0.4 мм.",null,null,null,null,null,null,null,null,null,null,null,null,null,null,null,null,null,null,null,"В случае заказа каркаса в цветах не 1-й ц.к., нужно к стоимости каркаса прибавить % соответсвующей категории"]
[null,null,null,null,null,null,null,null,null,null,null,null,null,null,null,null,null,null,null,null,null,null,null,null,null,null,null,null,null,null,null,null,null,null,"2 ц.к. - 10%",null,null,null,null,null,null,"4 ц.к. - 80%"]
[null,null,null,null,null,null,null,null,null,null,null,null,null,null,null,null,null,null,null,null,null,null,null,null,null,null,null,null,null,null,null,null,null,null,"3 ц.к. - 40%"]
[]
["Классификация цветов фасадов МДФ в пленке ПВХ"]
[]
["1 ценовая категория"]
["Древесные матовые",null,null,null,null,null,null,null,"Сандал белый, Дуб Венге, Дуб Сонома, Кремовый Ясень, Ель сизая, Крымское дерево,  Дримвуд Латте, Софора канзати, Софора давиди, Карельская береза, Снежное дерево, Миндаль"]
["Однотонные матовые",null,null,null,null,null,null,null,"Черные цветы, Белая матовая, Моти, Макарун"]
[]
["2 ценовая категория"]
["Супер матовые",null,null,null,null,null,null,null,"Графит, Шафран, Тирамиссу, Пикрит, Керамик, Миррис, Пудра, Риолит, Базальт, Магнолия, Рубелит, Селенит, Нефрит, Обсидиан"]
["Древесные матовые",null,null,null,null,null,null,null,"Белая сосна,  Оливковое дерево, Лазурное дерево, Дуб филадельфия, Сосна фактурная, Зеленый патина белая, Стоун, Тис, Квазар, Темное дерево"]
["Однотонные глянцевые",null,null,null,null,null,null,null,"Белый металлик, Ваниль металлик,  Белый глянец,  Черный глянец, Латте, Макиотти глянец"]
[]
[]
["3 ценовая категория"]
["Древесные матовые",null,null,null,null,null,null,null,"Вяз седой, Томан, Московский ясень"]
["Супер матовые",null,null,null,null,null,null,null,",Авери, Шелк аметист, Желтый пик, Космический оранжевый"]
["Фантазийные",null,null,null,null,null,null,null,"Камень гранж светлый Бруклин"]
["ВНИМАНИЕ!!! Возможны незначительные изменения в тональности пленки ПВХ (2-3 тона), что не является браком"]
[]
["Таблица зависимости цвета внутренней стороны фасада от цвета пленки ПВХ:"]
[]
[]
["Пленка ПВХ",null,null,null,null,null,null,"Обратная сторона",null,null,null,null,null,null,null,"Пленка ПВХ",null,null,null,null,null,null,"Обратная сторона",null,null,null,null,null,null,null,"Пленка ПВХ",null,null,null,null,null,null,"Обратная сторона"]
["Платан глянец",null,null,null,null,null,null,"Белая",null,null,null,null,null,null,null,"Серебрянный дождь",null,null,null,null,null,null,"Белая",null,null,null,null,null,null,null,"Ярко-зеленый мет",null,null,null,null,null,null,"Белая"]
["Каштан золотистый",null,null,null,null,null,null,"Белая",null,null,null,null,null,null,null,"Черный глянец",null,null,null,null,null,null,"Белая",null,null,null,null,null,null,null,"Кожа крокодила",null,null,null,null,null,null,"Белая"]
["Тик",null,null,null,null,null,null,"Белая",null,null,null,null,null,null,null,"Желтый глянец",null,null,null,null,null,null,"Белая",null,null,null,null,null,null,null,"Черные цветы",null,null,null,null,null,null,"Белая"]
["Яблоня Тадж",null,null,null,null,null,null,"Белая",null,null,null,null,null,null,null,"Белый глянец",null,null,null,null,null,null,"Белая",null,null,null,null,null,null,null,"Шелк Аметист",null,null,null,null,null,null,"Белая"]
["Дуб сокальский",null,null,null,null,null,null,"Белая",null,null,null,null,null,null,null,"Ваниль глянец",null,null,null,null,null,null,"Белая",null,null,null,null,null,null,null,"Шелк Крем",null,null,null,null,null,null,"Белая"]
["Миндаль",null,null,null,null,null,null,"Белая",null,null,null,null,null,null,null,"Серый металлик",null,null,null,null,null,null,"Белая",null,null,null,null,null,null,null,"Бонди металлик",null,null,null,null,null,null,"Белая"]
["Оливковый глянец",null,null,null,null,null,null,"Белая",null,null,null,null,null,null,null,"Красный металлик",null,null,null,null,null,null,"Белая",null,null,null,null,null,null,null,"Фиолет",null,null,null,null,null,null,"Белая"]
["Чайное дерево",null,null,null,null,null,null,"Белая",null,null,null,null,null,null,null,"Белый металлик",null,null,null,null,null,null,"Белая",null,null,null,null,null,null,null,"Лайм",null,null,null,null,null,null,"Белая"]
["Темный Венге",null,null,null,null,null,null,"Белая",null,null,null,null,null,null,null,"Золотой металлик",null,null,null,null,null,null,"Белая",null,null,null,null,null,null,null,"Индиго",null,null,null,null,null,null,"Белая"]
["Вяз седой",null,null,null,null,null,null,"Белая",null,null,null,null,null,null,null,"Хамелеон коричневый",null,null,null,null,null,null,"Белая",null,null,null,null,null,null,null,"Базилик",null,null,null,null,null,null,"Белая"]
["Сандал белый",null,null,null,null,null,null,"Белая",null,null,null,null,null,null,null,"Фиолетовый мет",null,null,null,null,null,null,"Белая",null,null,null,null,null,null,null,"Графит",null,null,null,null,null,null,"Белая"]
["Дуб солнечный",null,null,null,null,null,null,"Белая",null,null,null,null,null,null,null,"Черный металлик",null,null,null,null,null,null,"Белая",null,null,null,null,null,null,null,"Шафран",null,null,null,null,null,null,"Белая"]
["Дуб беленый",null,null,null,null,null,null,"Белая",null,null,null,null,null,null,null,"Оранжевый мет",null,null,null,null,null,null,"Белая",null,null,null,null,null,null,null,"Венге глянец",null,null,null,null,null,null,"Белая"]
["Бордо глянец",null,null,null,null,null,null,"Белая",null,null,null,null,null,null,null,"Салатовый мет",null,null,null,null,null,null,"Белая",null,null,null,null,null,null,null,"Латте",null,null,null,null,null,null,"Белая"]
["Кремовый ясень",null,null,null,null,null,null,"Белая",null,null,null,null,null,null,null,"Огни Нью-Йорка",null,null,null,null,null,null,"Белая",null,null,null,null,null,null,null,"Гранат металлик",null,null,null,null,null,null,"Белая"]
["Патина Радиал",null,null,null,null,null,null,"Белая",null,null,null,null,null,null,null,"Цветы",null,null,null,null,null,null,"Белая"]
["Дуб сонома",null,null,null,null,null,null,"Белая",null,null,null,null,null,null,null,"Жемчужное дерево",null,null,null,null,null,null,"Белая"]
["Ель сизая",null,null,null,null,null,null,"Белая",null,null,null,null,null,null,null,"Крымское дерево",null,null,null,null,null,null,"Белая"]
["Гриджио/Крема Вен",null,null,null,null,null,null,"Белая",null,null,null,null,null,null,null,"Шоколад",null,null,null,null,null,null,"Белая"]
["Цветовое исполнение каркасов "]
["Белый, Серый, Венге, Бежевый, Выбеленное дерево, Капучино, Дуб шамони темный, Дуб шамони светлый, Сонома, Антрацит"]
[]
["Варианты фрезеровок фасадов с привязкой ручки"]
["Для новой серии модулей разработаны следующие типы фасадов:"]
[]
[null,"Прованс",null,null,null,null,null,null,null,"Вензель цинк, 96мм",null,null,null,null,null,null,null,null,null,null,null,"Ручка RS407BAB.4 \"Вензель латунь\" 96мм",null,null,null,null,null,null,null,null,null,null,null,null,null,null,null,"Юлия"]
[null,null,null,null,null,null,null,null,null,{"$f":"CEILING('Титульный 2'!J79:L79*Титульный!$AY$1,Титульный!$AY$3)","v":101},null,null,"руб/шт.",null,null,null,null,null,null,null,null,{"$f":"CEILING('Титульный 2'!V79:X79*Титульный!$AY$1,Титульный!$AY$3)","v":101}]
[null,null,null,null,null,null,null,null,null,"Скоба зол/сер 96мм.",null,null,null,null,null,null,null,null,null,null,null,"Ручка RS408BAZ.4 \"Ладья цинк, 96мм",null,null,null,null,null,null,null,null,null,null,null,null,null,null,null,null,null,null,null,null,null,null,null,null,null," "]
[null,null,null,null,null,null,null,null,null,{"$f":"CEILING('Титульный 2'!J81:L81*Титульный!$AY$1,Титульный!$AY$3)","v":72},null,null,"руб/шт.",null,null,null,null,null,null,null,null,{"$f":"CEILING('Титульный 2'!V81:X81*Титульный!$AY$1,Титульный!$AY$3)","v":141},null,null,"руб/шт."]
[null,null,null,null,null,null,null,null,null,null,null,null,null,null,null,null,null,null,null,null,null,"Ручка RS408BAB.4 \"Ладья латунь\" 96 мм."]
[null,null,null,null,null,null,null,null,null,null,null,null,"руб/шт.",null,null,null,null,null,null,null,null,{"$f":"CEILING('Титульный 2'!V83:X83*Титульный!$AY$1,Титульный!$AY$3)","v":113},null,null,"руб/шт."]
[null,null,null,null,null,null,null,null,null,"Ручка RS-75, антик латунь, 96 мм.",null,null,null,null,null,null,null,null,null,null,null,"ОФК 747, 96мм Бронза+белый"]
[null,null,null,null,null,null,null,null,null,{"$f":"CEILING('Титульный 2'!J85:L85*Титульный!$AY$1,Титульный!$AY$3)","v":96},null,null,"руб/шт.",null,null,null,null,null,null,null,null,{"$f":"CEILING('Титульный 2'!V85:X85*Титульный!$AY$1,Титульный!$AY$3)","v":150},null,null,"руб/шт."]
[null,null,null,null,null,null,null,null,null,"Ручка Рейлинг 96",null,null,null,null,null,null,null,null,null,null,null,"Ручка RS-77, 96 мм."]
[null,null,null,null,null,null,null,null,null,{"$f":"CEILING('Титульный 2'!J87:L87*Титульный!$AY$1,Титульный!$AY$3)","v":66},null,null,"руб/шт.",null,null,null,null,null,null,null,null,{"$f":"CEILING('Титульный 2'!V87:X87*Титульный!$AY$1,Титульный!$AY$3)","v":83},null,null,"руб/шт."]
[null,null,null,null,null,null,null,null,null,"Ручка 96 (фарфор/узор золото)"]
[null,null,null,null,null,null,null,null,null,{"$f":"CEILING('Титульный 2'!J89:L89*Титульный!$AY$1,Титульный!$AY$3)","v":81},null,null,"руб/шт."]
[]
[null,"Бриз",null,null,null,"Амелия",null,null,null,"Марго",null,null,null,null,null,null,null,null,null,null,null,"Ручка FS-074 \"Волна\" 160мм",null,null,null,null,null,null,null,null,null,null,null,"Ручка RS-47-1 \"хром+черный 160 мм"]
[null,null,null,null,null,null,null,null,null,null,null,null,null,null,null,null,null,null,null,null,null,{"$f":"CEILING('Титульный 2'!V92:X92*Титульный!$AY$1,Титульный!$AY$3)","v":185},null,null,"руб/шт.",null,null,null,null,null,null,null,null,{"$f":"CEILING('Титульный 2'!AH92:AJ92*Титульный!$AY$1,Титульный!$AY$3)","v":285},null,null,"руб/шт."]
[null,null,null,null,null,null,null,null,null,null,null,null,null,null,null,null,null,null,null,null,null,"Ручка Модерн 160 мм."]
[null,null,null,null,null,null,null,null,null,null,null,null,null,null,null,null,null,null,null,null,null,{"$f":"CEILING('Титульный 2'!V94:X94*Титульный!$AY$1,Титульный!$AY$3)","v":215},null,null,"руб/шт."]
[null,null,null,null,null,null,null,null,null,null,null,null,null,null,null,null,null,null,null,null,null,"Ручка FS-040 , 160мм"]
[null,null,null,null,null,null,null,null,null,null,null,null,null,null,null,null,null,null,null,null,null,{"$f":"CEILING('Титульный 2'!V96:X96*Титульный!$AY$1,Титульный!$AY$3)","v":318},null,null,"руб/шт."]
[null,null,null,null,null,null,null,null,null,null,null,null,null,null,null,null,null,null,null,null,null,"Ручка Рейлинг 160 мм"]
[null,null,null,null,null,null,null,null,null,null,null,null,null,null,null,null,null,null,null,null,null,{"$f":"CEILING('Титульный 2'!V98:X98*Титульный!$AY$1,Титульный!$AY$3)","v":62},null,null,"руб/шт."]
[null,null,null,null,null,null,null,null,null,null,null,null,null,null,null,null,null,null,null,null,null,"Ручка RS-74 \"Бруш\" сатин светлый, 160 мм."]
[null,null,null,null,null,null,null,null,null,null,null,null,null,null,null,null,null,null,null,null,null,{"$f":"CEILING('Титульный 2'!V100:X100*Титульный!$AY$1,Титульный!$AY$3)","v":168},null,null,"руб/шт."]
[null,null,null,null,null,null,null,null,null,null,null,null,null,null,null,null,null,null,null,null,null,"Ручка RS-47 \"хром+белый 160 мм"]
[null,null,null,null,null,null,null,null,null,null,null,null,null,null,null,null,null,null,null,null,null,{"$f":"CEILING('Титульный 2'!V102:X102*Титульный!$AY$1,Титульный!$AY$3)","v":285},null,null,"руб/шт."]
[]
[null,"Лаура",null,null,null,"Натали",null,null,null,null,null,null,"Скоба 224мм",null,null,null,null,null,null,null,null,"Диана",null,null,null,null,null,null,"Скоба 1069, 128 мм",null,null,null,null,null,null,null,null,null,null,"Ручка скоба RS-33 128 мм."]
[null,null,null,null,null,null,null,null,null,null,null,null,{"$f":"CEILING('Титульный 2'!M105:O105*Титульный!$AY$1,Титульный!$AY$3)","v":155},null,null,"руб/шт.",null,null,null,null,null,null,null,null,null,null,null,null,{"$f":"CEILING('Титульный 2'!AC105:AE105*Титульный!$AY$1,Титульный!$AY$3)","v":164},null,null,"руб/шт.",null,null,null,null,null,null,null,{"$f":"CEILING('Титульный 2'!AN105:AP105*Титульный!$AY$1,Титульный!$AY$3)","v":188},null,null,"руб/шт."]
[null,null,null,null,null,null,null,null,null,null,null,null,"Скоба RLB224, 224 мм"]
[null,null,null,null,null,null,null,null,null,null,null,null,{"$f":"CEILING('Титульный 2'!M107:O107*Титульный!$AY$1,Титульный!$AY$3)","v":155},null,null,"руб/шт."]
[null,null,null,null,null,null,null,null,null,null,null,null,null,null,null,null,null,null,null,null,null,null,null,null,null,null,null,null,"Ручка FS-111 \"Сатин светлый\" 128мм."]
[null,null,null,null,null,null,null,null,null,null,null,null,null,null,null,null,null,null,null,null,null,null,null,null,null,null,null,null,{"$f":"CEILING('Титульный 2'!AC109:AE109*Титульный!$AY$1,Титульный!$AY$3)","v":345},null,null,"руб/шт."]
[null,null,null,null,null,null,null,null,null,null,null,null,null,null,null,null,null,null,null,null,null,null,null,null,null,null,null,null,"Ручка скоба RS-52 128 мм."]
[null,null,null,null,null,null,null,null,null,null,null,null,null,null,null,null,null,null,null,null,null,null,null,null,null,null,null,null,{"$f":"CEILING('Титульный 2'!AC111:AE111*Титульный!$AY$1,Титульный!$AY$3)","v":84},null,null,"руб/шт."]
[null,null,null,null,null,null,null,null,null,null,null,null,null,null,null,null,null,null,null,null,null,null,null,null,null,null,null,null,"Ручка скоба RS-56 128 мм."]
[null,null,null,null,null,null,null,null,null,null,null,null,null,null,null,null,null,null,null,null,null,null,null,null,null,null,null,null,{"$f":"CEILING('Титульный 2'!AC113:AE113*Титульный!$AY$1,Титульный!$AY$3)","v":185},null,null,"руб/шт."]
[null,null,null,null,null,null,null,null,null,null,null,null,null,null,null,null,null,null,null,null,null,null,null,null,null,null,null,null,"Ручка скоба \"Спираль\" 128 мм."]
[null,null,null,null,null,null,null,null,null,null,null,null,null,null,null,null,null,null,null,null,null,null,null,null,null,null,null,null,{"$f":"CEILING('Титульный 2'!AC115:AE115*Титульный!$AY$1,Титульный!$AY$3)","v":176},null,null,"руб/шт."]
[]
[null,"Гретта",null,null,null,null,null,null,null,null,null,null,null,null,null,null,null,null,null,null,null,null,null,null,null,"Ручка RC404BAZ.4 \"Вензель цинк\""]
[null,null,null,null,null,null,null,null,null,{"$f":"CEILING('Титульный 2'!J118:L118*Титульный!$AY$1,Титульный!$AY$3)","v":301},null,null,"руб/шт.",null,null,null,null,null,null,null,null,null,null,null,null,{"$f":"CEILING('Титульный 2'!Z118:AB118*Титульный!$AY$1,Титульный!$AY$3)","v":141},null,null,"руб/шт."]
[null,null,null,null,null,null,null,null,null,null,null,null,null,null,null,null,null,null,null,null,null,null,null,null,null,"Ручка RC404BAВ.4 \"Вензель латунь\""]
[null,null,null,null,null,null,null,null,null,null,null,null,"руб/шт.",null,null,null,null,null,null,null,null,null,null,null,null,{"$f":"CEILING('Титульный 2'!Z120:AB120*Титульный!$AY$1,Титульный!$AY$3)","v":71},null,null,"руб/шт."]
[null,null,null,null,null,null,null,null,null,null,null,null,null,null,null,null,null,null,null,null,null,null,null,null,null,"Ручка RC405BAZ.4 \"Ладья цинк\""]
[null,null,null,null,null,null,null,null,null,null,null,null,"руб/шт.",null,null,null,null,null,null,null,null,null,null,null,null,{"$f":"CEILING('Титульный 2'!Z122:AB122*Титульный!$AY$1,Титульный!$AY$3)","v":24},null,null,"руб/шт."]
[null,null,null,null,null,null,null,null,null,null,null,null,null,null,null,null,null,null,null,null,null,null,null,null,null,"Ручка - кнопка (фарфор/узор золото)"]
[null,null,null,null,null,null,null,null,null,null,null,null,"руб/шт.",null,null,null,null,null,null,null,null,null,null,null,null,{"$f":"CEILING('Титульный 2'!Z124:AB124*Титульный!$AY$1,Титульный!$AY$3)","v":60},null,null,"руб/шт."]
[null,null,null,null,null,null,null,null,null,"Ручка RC405BAB.4 \"Ладья латунь\""]
[null,null,null,null,null,null,null,null,null,{"$f":"CEILING('Титульный 2'!J126:L126*Титульный!$AY$1,Титульный!$AY$3)","v":30},null,null,"руб/шт."]
[null,null,null,null,null,null,null,null,null,"RC 052AB.4/w16 Бронза+белый"]
[null,null,null,null,null,null,null,null,null,{"$f":"CEILING('Титульный 2'!J128:L128*Титульный!$AY$1,Титульный!$AY$3)","v":76},null,null,"руб/шт."]
[]
[]
[]
[]
[]
[]
[]
[]
[]
[]
[]
[]
["Фасады UV-лак"]
["Фасады UV-лак для корпусной мебели могут быть изготовлены, по умолчанию, в кромке ABS и, по желанию, в кромке 3D акриловой 2 в 1."]
[]
[]
[]
["Белый скандинавский",null,null,null,"Желтый Нарцисс",null,null,null,null,null,null,null,"Капучино",null,null,null,null,null,null,null,null,null,null,null,null,null,"Оранжевый",null,null,null,null,null,"Крем",null,null,null,null,"Серый шелк"]
["ВНИМАНИЕ!",null,null,null,"Фасады UV-лак не изготавливаются на шкафы - витрины!"]
[]
[]
[]
[]
["Рекомендуемые ручки:"]
[null,null,null,null,null,"Ручка FS-074 \"Волна\" 160мм",null,null,null,null,null,null,null,null,null,null,null,null,null,"Ручка Модерн 160 мм.",null,null,null,null,null,null,null,null,null,null,null,"Ручка FS-040 , 160мм",null,null,null,null,null,null,null,null,null,null,null,"Ручка Рейлинг 160 мм"]
[null,null,null,null,null,{"$f":"V97","v":185},null,null,"руб/шт.",null,null,null,null,null,null,null,null,null,null,{"$f":"V99","v":215},null,null,"руб/шт.",null,null,null,null,null,null,null,null,{"$f":"V101","v":318},null,null,"руб/шт.",null,null,null,null,null,null,null,null,{"$f":"V103","v":62},null,null,"руб/шт."]
[]
[null,null,null,null,"Ручка RS-74 \"Бруш\" сатин светлый, 160 мм.",null,null,null,null,null,null,null,null,null,null,null,null,null,null,null,null,null,null,null,"Ручка RS-47 \"хром+белый 160 мм",null,null,null,null,null,null,null,null,null,null,null,null,null,null,"Ручка RS-47-1 \"хром+черный 160 мм"]
[null,null,null,null,{"$f":"V105","v":168},null,null,"руб/шт.",null,null,null,null,null,null,null,null,null,null,null,null,null,null,null,null,{"$f":"V107","v":285},null,null,"руб/шт.",null,null,null,null,null,null,null,null,null,null,null,{"$f":"AH97","v":285},null,null,"руб/шт."]
[]
["Александрия"]
[null,null,null,null,null,null,null,"Максимальная высота шкафов - 2040 мм. В прайс-листе считается по колонке \"1ЦК+патина\""]
[null,null,null,null,null,null,null,"Для Вашего удобства мы рекомендуем Вам комплектовать шкафы багетными блоками."]
[null,null,null,null,null,null,null,"Багетный блок состоит:"]
[null,null,null,null,null,null,null,null,null,null,null,null,null,null,null,null,null,null,null,null,null,"1. Багет 16, запиленный под необходимым углом;"]
[null,null,null,null,null,null,null,null,null,null,null,null,null,null,null,null,null,null,null,null,null,"2. Панель - козырек \"Классика\""]
[]
[]
[null,null,null,null,null,null,null,"Все составляющие багетного блока имеют необходимые сверловки для облегчения процесса сборки и правильной"]
[null,"Фасад",null,null,null,null,null,"стыковки багета."]
[null,null,null,null,null,null,null,"Наименование",null,null,null,null,null,null,null,null,null,null,null,"Габариты,  ШхГхВ мм.",null,null,null,null,null,null,"Цена, руб.\\шт."]
[null,null,null,null,null,null,null,null,null,null,null,null,null,null,null,null,null,null,null,null,null,null,null,null,null,null,"1 ЦК",null,null,null,"1 ЦК + патина",null,null,null,"2 ЦК",null,null,null,"3 ЦК"]
[null,null,null,null,null,null,null,"Багетный блок 16 (420) 420",null,null,null,null,null,null,null,null,null,null,null,"510х475х86",null,null,null,null,null,null,{"$f":"_xlfn.CEILING.PRECISE('Титульный 2'!AA159:AD159*Титульный!$AY$1,Титульный!$AY$3)","v":1014},null,null,null,{"$f":"_xlfn.CEILING.PRECISE('Титульный 2'!AE159:AH159*Титульный!$AY$1,Титульный!$AY$3)","v":2054},null,null,null,{"$f":"_xlfn.CEILING.PRECISE('Титульный 2'!AI159:AL159*Титульный!$AY$1,Титульный!$AY$3)","v":1174},null,null,null,{"$f":"_xlfn.CEILING.PRECISE('Титульный 2'!AM159:AP159*Титульный!$AY$1,Титульный!$AY$3)","v":1484}]
[null,null,null,null,null,null,null,"Багетный блок 16 (420) 560",null,null,null,null,null,null,null,null,null,null,null,"650х475х86",null,null,null,null,null,null,{"$f":"_xlfn.CEILING.PRECISE('Титульный 2'!AA160:AD160*Титульный!$AY$1,Титульный!$AY$3)","v":1244},null,null,null,{"$f":"_xlfn.CEILING.PRECISE('Титульный 2'!AE160:AH160*Титульный!$AY$1,Титульный!$AY$3)","v":2544},null,null,null,{"$f":"_xlfn.CEILING.PRECISE('Титульный 2'!AI160:AL160*Титульный!$AY$1,Титульный!$AY$3)","v":1434},null,null,null,{"$f":"_xlfn.CEILING.PRECISE('Титульный 2'!AM160:AP160*Титульный!$AY$1,Титульный!$AY$3)","v":1834}]
["Кремовый ясень ",null,null,null,null,null,null,"Багетный блок 16 (420)  840 ",null,null,null,null,null,null,null,null,null,null,null,"930х475х86",null,null,null,null,null,null,{"$f":"_xlfn.CEILING.PRECISE('Титульный 2'!AA161:AD161*Титульный!$AY$1,Титульный!$AY$3)","v":1714},null,null,null,{"$f":"_xlfn.CEILING.PRECISE('Титульный 2'!AE161:AH161*Титульный!$AY$1,Титульный!$AY$3)","v":3504},null,null,null,{"$f":"_xlfn.CEILING.PRECISE('Титульный 2'!AI161:AL161*Титульный!$AY$1,Титульный!$AY$3)","v":1984},null,null,null,{"$f":"_xlfn.CEILING.PRECISE('Титульный 2'!AM161:AP161*Титульный!$AY$1,Титульный!$AY$3)","v":2534}]
["с золотой патиной",null,null,null,null,null,null,"Багетный блок 16 (420) 1120",null,null,null,null,null,null,null,null,null,null,null,"1210х475х86",null,null,null,null,null,null,{"$f":"_xlfn.CEILING.PRECISE('Титульный 2'!AA162:AD162*Титульный!$AY$1,Титульный!$AY$3)","v":2194},null,null,null,{"$f":"_xlfn.CEILING.PRECISE('Титульный 2'!AE162:AH162*Титульный!$AY$1,Титульный!$AY$3)","v":4484},null,null,null,{"$f":"_xlfn.CEILING.PRECISE('Титульный 2'!AI162:AL162*Титульный!$AY$1,Титульный!$AY$3)","v":2524},null,null,null,{"$f":"_xlfn.CEILING.PRECISE('Титульный 2'!AM162:AP162*Титульный!$AY$1,Титульный!$AY$3)","v":3244}]
[null,null,null,null,null,null,null,"Багетный блок 16 (420) 1260",null,null,null,null,null,null,null,null,null,null,null,"1350х475х86",null,null,null,null,null,null,{"$f":"_xlfn.CEILING.PRECISE('Титульный 2'!AA163:AD163*Титульный!$AY$1,Титульный!$AY$3)","v":2424},null,null,null,{"$f":"_xlfn.CEILING.PRECISE('Титульный 2'!AE163:AH163*Титульный!$AY$1,Титульный!$AY$3)","v":4964},null,null,null,{"$f":"_xlfn.CEILING.PRECISE('Титульный 2'!AI163:AL163*Титульный!$AY$1,Титульный!$AY$3)","v":2794},null,null,null,{"$f":"_xlfn.CEILING.PRECISE('Титульный 2'!AM163:AP163*Титульный!$AY$1,Титульный!$AY$3)","v":3584}]
[null,null,null,null,null,null,null,"Багетный блок 16 (420) 1400",null,null,null,null,null,null,null,null,null,null,null,"1490х475х86",null,null,null,null,null,null,{"$f":"_xlfn.CEILING.PRECISE('Титульный 2'!AA164:AD164*Титульный!$AY$1,Титульный!$AY$3)","v":2654},null,null,null,{"$f":"_xlfn.CEILING.PRECISE('Титульный 2'!AE164:AH164*Титульный!$AY$1,Титульный!$AY$3)","v":5454},null,null,null,{"$f":"_xlfn.CEILING.PRECISE('Титульный 2'!AI164:AL164*Титульный!$AY$1,Титульный!$AY$3)","v":3064},null,null,null,{"$f":"_xlfn.CEILING.PRECISE('Титульный 2'!AM164:AP164*Титульный!$AY$1,Титульный!$AY$3)","v":3934}]
["Ручка-кнопка \"Вензель латунь\"",null,null,null,null,null,null,"Багетный блок 16 (420) 1680",null,null,null,null,null,null,null,null,null,null,null,"1770х475х86",null,null,null,null,null,null,{"$f":"_xlfn.CEILING.PRECISE('Титульный 2'!AA165:AD165*Титульный!$AY$1,Титульный!$AY$3)","v":3134},null,null,null,{"$f":"_xlfn.CEILING.PRECISE('Титульный 2'!AE165:AH165*Титульный!$AY$1,Титульный!$AY$3)","v":6424},null,null,null,{"$f":"_xlfn.CEILING.PRECISE('Титульный 2'!AI165:AL165*Титульный!$AY$1,Титульный!$AY$3)","v":3604},null,null,null,{"$f":"_xlfn.CEILING.PRECISE('Титульный 2'!AM165:AP165*Титульный!$AY$1,Титульный!$AY$3)","v":4644}]
[null,null,null,null,null,null,null,"Багетный блок 16 (420) 1960",null,null,null,null,null,null,null,null,null,null,null,"2050х475х86",null,null,null,null,null,null,{"$f":"_xlfn.CEILING.PRECISE('Титульный 2'!AA166:AD166*Титульный!$AY$1,Титульный!$AY$3)","v":3594},null,null,null,{"$f":"_xlfn.CEILING.PRECISE('Титульный 2'!AE166:AH166*Титульный!$AY$1,Титульный!$AY$3)","v":7394},null,null,null,{"$f":"_xlfn.CEILING.PRECISE('Титульный 2'!AI166:AL166*Титульный!$AY$1,Титульный!$AY$3)","v":4154},null,null,null,{"$f":"_xlfn.CEILING.PRECISE('Титульный 2'!AM166:AP166*Титульный!$AY$1,Титульный!$AY$3)","v":5354}]
[null,null,null,null,null,null,null,"Багетный блок 16 (420) 2240",null,null,null,null,null,null,null,null,null,null,null,"2330х475х86",null,null,null,null,null,null,{"$f":"_xlfn.CEILING.PRECISE('Титульный 2'!AA167:AD167*Титульный!$AY$1,Титульный!$AY$3)","v":4074},null,null,null,{"$f":"_xlfn.CEILING.PRECISE('Титульный 2'!AE167:AH167*Титульный!$AY$1,Титульный!$AY$3)","v":8364},null,null,null,{"$f":"_xlfn.CEILING.PRECISE('Титульный 2'!AI167:AL167*Титульный!$AY$1,Титульный!$AY$3)","v":4694},null,null,null,{"$f":"_xlfn.CEILING.PRECISE('Титульный 2'!AM167:AP167*Титульный!$AY$1,Титульный!$AY$3)","v":6044}]
[null,null,null,null,null,null,null,"Багетный блок 16 (560)  420",null,null,null,null,null,null,null,null,null,null,null,"510х615х86",null,null,null,null,null,null,{"$f":"_xlfn.CEILING.PRECISE('Титульный 2'!AA168:AD168*Титульный!$AY$1,Титульный!$AY$3)","v":1274},null,null,null,{"$f":"_xlfn.CEILING.PRECISE('Титульный 2'!AE168:AH168*Титульный!$AY$1,Титульный!$AY$3)","v":2594},null,null,null,{"$f":"_xlfn.CEILING.PRECISE('Титульный 2'!AI168:AL168*Титульный!$AY$1,Титульный!$AY$3)","v":1464},null,null,null,{"$f":"_xlfn.CEILING.PRECISE('Титульный 2'!AM168:AP168*Титульный!$AY$1,Титульный!$AY$3)","v":1894}]
[null,null,null,null,null,null,null,"Багетный блок 16 (560)  560",null,null,null,null,null,null,null,null,null,null,null,"650х615х86",null,null,null,null,null,null,{"$f":"_xlfn.CEILING.PRECISE('Титульный 2'!AA169:AD169*Титульный!$AY$1,Титульный!$AY$3)","v":1574},null,null,null,{"$f":"_xlfn.CEILING.PRECISE('Титульный 2'!AE169:AH169*Титульный!$AY$1,Титульный!$AY$3)","v":3214},null,null,null,{"$f":"_xlfn.CEILING.PRECISE('Титульный 2'!AI169:AL169*Титульный!$AY$1,Титульный!$AY$3)","v":1804},null,null,null,{"$f":"_xlfn.CEILING.PRECISE('Титульный 2'!AM169:AP169*Титульный!$AY$1,Титульный!$AY$3)","v":2334}]
[null,null,null,null,null,null,null,"Багетный блок 16 (560)  840",null,null,null,null,null,null,null,null,null,null,null,"930х615х86",null,null,null,null,null,null,{"$f":"_xlfn.CEILING.PRECISE('Титульный 2'!AA170:AD170*Титульный!$AY$1,Титульный!$AY$3)","v":2174},null,null,null,{"$f":"_xlfn.CEILING.PRECISE('Титульный 2'!AE170:AH170*Титульный!$AY$1,Титульный!$AY$3)","v":4444},null,null,null,{"$f":"_xlfn.CEILING.PRECISE('Титульный 2'!AI170:AL170*Титульный!$AY$1,Титульный!$AY$3)","v":2504},null,null,null,{"$f":"_xlfn.CEILING.PRECISE('Титульный 2'!AM170:AP170*Титульный!$AY$1,Титульный!$AY$3)","v":3224}]
[null,null,null,null,null,null,null,"Багетный блок 16 (560)  1120",null,null,null,null,null,null,null,null,null,null,null,"1210х615х86",null,null,null,null,null,null,{"$f":"_xlfn.CEILING.PRECISE('Титульный 2'!AA171:AD171*Титульный!$AY$1,Титульный!$AY$3)","v":2774},null,null,null,{"$f":"_xlfn.CEILING.PRECISE('Титульный 2'!AE171:AH171*Титульный!$AY$1,Титульный!$AY$3)","v":5694},null,null,null,{"$f":"_xlfn.CEILING.PRECISE('Титульный 2'!AI171:AL171*Титульный!$AY$1,Титульный!$AY$3)","v":3184},null,null,null,{"$f":"_xlfn.CEILING.PRECISE('Титульный 2'!AM171:AP171*Титульный!$AY$1,Титульный!$AY$3)","v":4124}]
[null,null,null,null,null,null,null,"Багетный блок 16 (560)  1260",null,null,null,null,null,null,null,null,null,null,null,"1350х615х86",null,null,null,null,null,null,{"$f":"_xlfn.CEILING.PRECISE('Титульный 2'!AA172:AD172*Титульный!$AY$1,Титульный!$AY$3)","v":3074},null,null,null,{"$f":"_xlfn.CEILING.PRECISE('Титульный 2'!AE172:AH172*Титульный!$AY$1,Титульный!$AY$3)","v":6304},null,null,null,{"$f":"_xlfn.CEILING.PRECISE('Титульный 2'!AI172:AL172*Титульный!$AY$1,Титульный!$AY$3)","v":3534},null,null,null,{"$f":"_xlfn.CEILING.PRECISE('Титульный 2'!AM172:AP172*Титульный!$AY$1,Титульный!$AY$3)","v":4564}]
[null,null,null,null,null,null,null,"Багетный блок 16 (560)  1400",null,null,null,null,null,null,null,null,null,null,null,"1490х615х86",null,null,null,null,null,null,{"$f":"_xlfn.CEILING.PRECISE('Титульный 2'!AA173:AD173*Титульный!$AY$1,Титульный!$AY$3)","v":3374},null,null,null,{"$f":"_xlfn.CEILING.PRECISE('Титульный 2'!AE173:AH173*Титульный!$AY$1,Титульный!$AY$3)","v":6924},null,null,null,{"$f":"_xlfn.CEILING.PRECISE('Титульный 2'!AI173:AL173*Титульный!$AY$1,Титульный!$AY$3)","v":3884},null,null,null,{"$f":"_xlfn.CEILING.PRECISE('Титульный 2'!AM173:AP173*Титульный!$AY$1,Титульный!$AY$3)","v":5014}]
[null,null,null,null,null,null,null,"Багетный блок 16 (560)  1680",null,null,null,null,null,null,null,null,null,null,null,"1770х615х86",null,null,null,null,null,null,{"$f":"_xlfn.CEILING.PRECISE('Титульный 2'!AA174:AD174*Титульный!$AY$1,Титульный!$AY$3)","v":3974},null,null,null,{"$f":"_xlfn.CEILING.PRECISE('Титульный 2'!AE174:AH174*Титульный!$AY$1,Титульный!$AY$3)","v":8154},null,null,null,{"$f":"_xlfn.CEILING.PRECISE('Титульный 2'!AI174:AL174*Титульный!$AY$1,Титульный!$AY$3)","v":4574},null,null,null,{"$f":"_xlfn.CEILING.PRECISE('Титульный 2'!AM174:AP174*Титульный!$AY$1,Титульный!$AY$3)","v":5914}]
[null,null,null,null,null,null,null,"Багетный блок 16 (560)  1960",null,null,null,null,null,null,null,null,null,null,null,"2050х615х86",null,null,null,null,null,null,{"$f":"_xlfn.CEILING.PRECISE('Титульный 2'!AA175:AD175*Титульный!$AY$1,Титульный!$AY$3)","v":4574},null,null,null,{"$f":"_xlfn.CEILING.PRECISE('Титульный 2'!AE175:AH175*Титульный!$AY$1,Титульный!$AY$3)","v":9404},null,null,null,{"$f":"_xlfn.CEILING.PRECISE('Титульный 2'!AI175:AL175*Титульный!$AY$1,Титульный!$AY$3)","v":5264},null,null,null,{"$f":"_xlfn.CEILING.PRECISE('Титульный 2'!AM175:AP175*Титульный!$AY$1,Титульный!$AY$3)","v":6814}]
[null,null,null,null,null,null,null,"Багетный блок 16 (560)  2240",null,null,null,null,null,null,null,null,null,null,null,"2330х615х86",null,null,null,null,null,null,{"$f":"_xlfn.CEILING.PRECISE('Титульный 2'!AA176:AD176*Титульный!$AY$1,Титульный!$AY$3)","v":5184},null,null,null,{"$f":"_xlfn.CEILING.PRECISE('Титульный 2'!AE176:AH176*Титульный!$AY$1,Титульный!$AY$3)","v":10634},null,null,null,{"$f":"_xlfn.CEILING.PRECISE('Титульный 2'!AI176:AL176*Титульный!$AY$1,Титульный!$AY$3)","v":5954},null,null,null,{"$f":"_xlfn.CEILING.PRECISE('Титульный 2'!AM176:AP176*Титульный!$AY$1,Титульный!$AY$3)","v":7704}]
[]
["Схема расположения зеркал"]
[]
[]
[]
[]
[null,"1 зеркало",null,null,null,null,null,null,null,null,null,null,null,null,null,null,null,null,null,null,null,null,null,null,null,"2 зеркала"]
["Внимание!!! В прайс-листе указана стоимость за комплект зеркал"]
["Обращаем Ваше внимание на необходимость при заказе шкафа с зеркалом указывать накладное оно или в рамке!!!"]
[]
[null,"Зеркало накладное*",null,null,null,null,null,null,null,null,null,null,null,null,null,null,null,null,null,null,null,null,null,null,null,"Зеркало в рамке**"]
[]
[]
[]
[]
[]
[]
[]
[null,null,null,null," ",null,null,null,null,null,null,null,null,null,null,null,null,null,null,null,null,null,null,null,null,"**-Зеркало крепится на дверь стеклодержателями "]
["1. ВНИМАНИЕ! Для наборов мебели \"Марго\" использовать только зеркало накладное!"]
[]
["Шкафы-витрины с фрезеровкой Прованс."]
["Обращаем Ваше внимание, что фасады шкафа (420) 1 дверь или 2 двери витрины, с фрезеровкой \"Прованс\" будут изготовлены с перемычкой"]
[]
[]
[]
[]
[]
[]
[]
[null,"Шкаф (420)",null,null,null,null,null,null,null,null,null,"Шкаф (420)",null,null,null,null,null,null,null,null,"Шкаф (420)",null,null,null,null,null,null,null,null,"Шкаф (420)",null,null,null,null,null,null,null,null,"Шкаф (420)"]
[" 1 дв. 2 ящ. Витрина",null,null,null,null,null,null,null,null,null," 2 дв. 1 ящ. Витрина",null,null,null,null,null,null,null,null,null," 1 дв. Витрина",null,null,null,null,null,null,null," 2 дв. 2 ящ. Витрина",null,null,null,null,null,null,null,null,null," 2 дв. Витрина"]
[]
["Шкафы-витрины с фрезеровками Бриз, Амелия, Лаура, Юлия, Гретта, Диана"]
["Обращаем Ваше внимание, что фасады  на всех шкафах-витринах с фрезеровками Амелия, Бриз, Лаура, Юлия, выглядят следующим образом "]
[]
[]
[]
[]
[]
[]
[null,"Шкаф (420)",null,null,null,null,null,null,null,null,null,"Шкаф (420)",null,null,null,null,null,null,null,null,"Шкаф (420)",null,null,null,null,null,null,null,null,"Шкаф (420)",null,null,null,null,null,null,null,null,"Шкаф (420)"]
[" 1 дв. 2 ящ. Витрина",null,null,null,null,null,null,null,null,null," 2 дв. 1 ящ. Витрина",null,null,null,null,null,null,null,null,null," 1 дв. Витрина",null,null,null,null,null,null,null," 2 дв. 2 ящ. Витрина",null,null,null,null,null,null,null,null,null," 2 дв. Витрина"]
["Козырьки МДФ"]
[null,"Козырьки, по желанию, могут быть отфрезерованы под светодиодную ленту (необходимо указывать в заказе), за исключением"]
["козырьков торцевых радиусных и торцевых скошенных."]
[]
[null,"Козырек МДФ прямой",null,null,null,null,null,null,null,null,null,null,null,null,null,null,null,null,null,null,null,null,null,null,"Козырек МДФ на шкаф угл. (420) трапеция"]
["Изображение",null,null,null,null,null,null,"Длина, мм",null,null,null,"Цена, руб.\\шт.",null,null,null,null,null,null,null,null,null,null,null,null,"Изображение",null,null,null,null,null,null,"Цена, руб.\\шт."]
[null,null,null,null,null,null,null,null,null,null,null,"1 ЦК",null,null,"1 ЦК + патина",null,null,"2 ЦК",null,null,"3 ЦК",null,null,null,null,null,null,null,null,null,null,"1 ЦК",null,null,null,"1 ЦК + патина",null,null,null,"2 ЦК",null,null,null,"3 ЦК"]
["Козырек МДФ прямой",null,null,null,null,null,null,420,null,null,null,{"$f":"CEILING('Титульный 2'!L224:N224*Титульный!$AY$1,Титульный!$AY$3)","v":420},null,null,{"$f":"CEILING('Титульный 2'!O224:Q224*Титульный!$AY$1,Титульный!$AY$3)","v":750},null,null,{"$f":"CEILING('Титульный 2'!R224:T224*Титульный!$AY$1,Титульный!$AY$3)","v":510},null,null,{"$f":"CEILING('Титульный 2'!U224:W224*Титульный!$AY$1,Титульный!$AY$3)","v":600},null,null,null,"Козырек МДФ на шкаф угл. (420) трапеция",null,null,null,null,null,null,{"$f":"CEILING('Титульный 2'!AF224:AH224*Титульный!$AY$1,Титульный!$AY$3)","v":420},null,null,null,{"$f":"CEILING('Титульный 2'!AJ224:AL224*Титульный!$AY$1,Титульный!$AY$3)","v":730},null,null,null,{"$f":"CEILING('Титульный 2'!AN224:AP224*Титульный!$AY$1,Титульный!$AY$3)","v":500},null,null,null,{"$f":"CEILING('Титульный 2'!AR224:AT224*Титульный!$AY$1,Титульный!$AY$3)","v":590}]
[null,null,null,null,null,null,null,560,null,null,null,{"$f":"CEILING('Титульный 2'!L225:N225*Титульный!$AY$1,Титульный!$AY$3)","v":570},null,null,{"$f":"CEILING('Титульный 2'!O225:Q225*Титульный!$AY$1,Титульный!$AY$3)","v":1000},null,null,{"$f":"CEILING('Титульный 2'!R225:T225*Титульный!$AY$1,Титульный!$AY$3)","v":680},null,null,{"$f":"CEILING('Титульный 2'!U225:W225*Титульный!$AY$1,Титульный!$AY$3)","v":800}]
[null,null,null,null,null,null,null,840,null,null,null,{"$f":"CEILING('Титульный 2'!L226:N226*Титульный!$AY$1,Титульный!$AY$3)","v":850},null,null,{"$f":"CEILING('Титульный 2'!O226:Q226*Титульный!$AY$1,Титульный!$AY$3)","v":1500},null,null,{"$f":"CEILING('Титульный 2'!R226:T226*Титульный!$AY$1,Титульный!$AY$3)","v":1010},null,null,{"$f":"CEILING('Титульный 2'!U226:W226*Титульный!$AY$1,Титульный!$AY$3)","v":1200}]
[null,null,null,null,null,null,null,1120,null,null,null,{"$f":"CEILING('Титульный 2'!L227:N227*Титульный!$AY$1,Титульный!$AY$3)","v":1130},null,null,{"$f":"CEILING('Титульный 2'!O227:Q227*Титульный!$AY$1,Титульный!$AY$3)","v":1990},null,null,{"$f":"CEILING('Титульный 2'!R227:T227*Титульный!$AY$1,Титульный!$AY$3)","v":1350},null,null,{"$f":"CEILING('Титульный 2'!U227:W227*Титульный!$AY$1,Титульный!$AY$3)","v":1590},null,null,null,"Козырек МДФ на шкаф угл. (560) трапеция"]
[null,null,null,null,null,null,null,1260,null,null,null,{"$f":"CEILING('Титульный 2'!L228:N228*Титульный!$AY$1,Титульный!$AY$3)","v":1270},null,null,{"$f":"CEILING('Титульный 2'!O228:Q228*Титульный!$AY$1,Титульный!$AY$3)","v":2240},null,null,{"$f":"CEILING('Титульный 2'!R228:T228*Титульный!$AY$1,Титульный!$AY$3)","v":1520},null,null,{"$f":"CEILING('Титульный 2'!U228:W228*Титульный!$AY$1,Титульный!$AY$3)","v":1790},null,null,null,"Изображение",null,null,null,null,null,null,"Цена, руб.\\шт."]
[null,null,null,null,null,null,null,1400,null,null,null,{"$f":"CEILING('Титульный 2'!L229:N229*Титульный!$AY$1,Титульный!$AY$3)","v":1410},null,null,{"$f":"CEILING('Титульный 2'!O229:Q229*Титульный!$AY$1,Титульный!$AY$3)","v":2490},null,null,{"$f":"CEILING('Титульный 2'!R229:T229*Титульный!$AY$1,Титульный!$AY$3)","v":1690},null,null,{"$f":"CEILING('Титульный 2'!U229:W229*Титульный!$AY$1,Титульный!$AY$3)","v":1990},null,null,null,null,null,null,null,null,null,null,"1 ЦК",null,null,null,"1 ЦК + патина",null,null,null,"2 ЦК",null,null,null,"3 ЦК"]
[null,null,null,null,null,null,null,1680,null,null,null,{"$f":"CEILING('Титульный 2'!L230:N230*Титульный!$AY$1,Титульный!$AY$3)","v":1700},null,null,{"$f":"CEILING('Титульный 2'!O230:Q230*Титульный!$AY$1,Титульный!$AY$3)","v":2990},null,null,{"$f":"CEILING('Титульный 2'!R230:T230*Титульный!$AY$1,Титульный!$AY$3)","v":2030},null,null,{"$f":"CEILING('Титульный 2'!U230:W230*Титульный!$AY$1,Титульный!$AY$3)","v":2390},null,null,null,"Козырек МДФ на шкаф угл. (560) трапеция",null,null,null,null,null,null,{"$f":"CEILING('Титульный 2'!AF230:AH230*Титульный!$AY$1,Титульный!$AY$3)","v":540},null,null,null,{"$f":"CEILING('Титульный 2'!AJ230:AL230*Титульный!$AY$1,Титульный!$AY$3)","v":950},null,null,null,{"$f":"CEILING('Титульный 2'!AN230:AP230*Титульный!$AY$1,Титульный!$AY$3)","v":640},null,null,null,{"$f":"CEILING('Титульный 2'!AR230:AT230*Титульный!$AY$1,Титульный!$AY$3)","v":760}]
[null,null,null,null,null,null,null,1960,null,null,null,{"$f":"CEILING('Титульный 2'!L231:N231*Титульный!$AY$1,Титульный!$AY$3)","v":1980},null,null,{"$f":"CEILING('Титульный 2'!O231:Q231*Титульный!$AY$1,Титульный!$AY$3)","v":3490},null,null,{"$f":"CEILING('Титульный 2'!R231:T231*Титульный!$AY$1,Титульный!$AY$3)","v":2360},null,null,{"$f":"CEILING('Титульный 2'!U231:W231*Титульный!$AY$1,Титульный!$AY$3)","v":2790}]
[null,null,null,null,null,null,null,2240,null,null,null,{"$f":"CEILING('Титульный 2'!L232:N232*Титульный!$AY$1,Титульный!$AY$3)","v":2260},null,null,{"$f":"CEILING('Титульный 2'!O232:Q232*Титульный!$AY$1,Титульный!$AY$3)","v":3990},null,null,{"$f":"CEILING('Титульный 2'!R232:T232*Титульный!$AY$1,Титульный!$AY$3)","v":2700},null,null,{"$f":"CEILING('Титульный 2'!U232:W232*Титульный!$AY$1,Титульный!$AY$3)","v":3190}]
[]
[]
["Козырьки торцевые радиусные и скошенные"]
[]
["Козырек МДФ на шкаф (420) торцевой скошенный Л\\Пр.",null,null,null,null,null,null,null,null,null,null,null,null,null,null,null,null,null,null,null,null,null,null,null,"Козырек МДФ на стеллаж (420) торцевой радиусный Л\\Пр."]
[null,null,null,null,null,null,null,"Цена руб.\\шт.",null,null,null,null,null,null,null,null,null,null,null,null,null,null,null,null,null,null,null,null,null,null,null,"Цена, руб.\\шт."]
[null,null,null,null,null,null,null,"1 ЦК",null,null,null,"1 ЦК + патина",null,null,null,"2 ЦК",null,null,null,"3 ЦК",null,null,null,null,null,null,null,null,null,null,null,"1 ЦК",null,null,null,"1 ЦК + патина",null,null,null,"2 ЦК",null,null,null,"3 ЦК"]
[null,null,null,null,null,null,null,{"$f":"CEILING('Титульный 2'!H240:K240*Титульный!$AY$1,Титульный!$AY$3)","v":600},null,null,null,{"$f":"CEILING('Титульный 2'!L240:O240*Титульный!$AY$1,Титульный!$AY$3)","v":1060},null,null,null,{"$f":"CEILING('Титульный 2'!P240:S240*Титульный!$AY$1,Титульный!$AY$3)","v":720},null,null,null,{"$f":"CEILING('Титульный 2'!T240:W240*Титульный!$AY$1,Титульный!$AY$3)","v":850},null,null,null,null,null,null,null,null,null,null,null,{"$f":"CEILING('Титульный 2'!AF240:AI240*Титульный!$AY$1,Титульный!$AY$3)","v":500},null,null,null,{"$f":"CEILING('Титульный 2'!AJ240:AM240*Титульный!$AY$1,Титульный!$AY$3)","v":880},null,null,null,{"$f":"CEILING('Титульный 2'!AN240:AQ240*Титульный!$AY$1,Титульный!$AY$3)","v":590},null,null,null,{"$f":"CEILING('Титульный 2'!AR240:AU240*Титульный!$AY$1,Титульный!$AY$3)","v":700}]
[]
["Козырек_02 МДФ на шкаф (420) торц скошенный Л\\Пр.",null,null,null,null,null,null,null,null,null,null,null,null,null,null,null,null,null,null,null,null,null,null,null,"Козырек_02 МДФ на стеллаж (420) торц радиусный Л\\Пр."]
[null,null,null,null,null,null,null,"Цена руб.\\шт.",null,null,null,null,null,null,null,null,null,null,null,null,null,null,null,null,null,null,null,null,null,null,null,"Цена, руб.\\шт."]
[null,null,null,null,null,null,null,"1 ЦК",null,null,null,"1 ЦК + патина",null,null,null,"2 ЦК",null,null,null,"3 ЦК",null,null,null,null,null,null,null,null,null,null,null,"1 ЦК",null,null,null,"1 ЦК + патина",null,null,null,"2 ЦК",null,null,null,"3 ЦК"]
[null,null,null,null,null,null,null,{"$f":"CEILING('Титульный 2'!H245:K245*Титульный!$AY$1,Титульный!$AY$3)","v":590},null,null,null,{"$f":"CEILING('Титульный 2'!L245:O245*Титульный!$AY$1,Титульный!$AY$3)","v":1030},null,null,null,{"$f":"CEILING('Титульный 2'!P245:S245*Титульный!$AY$1,Титульный!$AY$3)","v":700},null,null,null,{"$f":"CEILING('Титульный 2'!T245:W245*Титульный!$AY$1,Титульный!$AY$3)","v":830},null,null,null,null,null,null,null,null,null,null,null,{"$f":"CEILING('Титульный 2'!AF245:AI245*Титульный!$AY$1,Титульный!$AY$3)","v":500},null,null,null,{"$f":"CEILING('Титульный 2'!AJ245:AM245*Титульный!$AY$1,Титульный!$AY$3)","v":890},null,null,null,{"$f":"CEILING('Титульный 2'!AN245:AQ245*Титульный!$AY$1,Титульный!$AY$3)","v":600},null,null,null,{"$f":"CEILING('Титульный 2'!AR245:AU245*Титульный!$AY$1,Титульный!$AY$3)","v":710}]
[]
["Козырек МДФ на шкаф (560)  торцевой скошенный Л\\Пр.",null,null,null,null,null,null,null,null,null,null,null,null,null,null,null,null,null,null,null,null,null,null,null,"Козырек МДФ стеллаж (560) торцевой радиусный Л\\Пр."]
[null,null,null,null,null,null,null,"Цена руб.\\шт.",null,null,null,null,null,null,null,null,null,null,null,null,null,null,null,null,null,null,null,null,null,null,null,"Цена руб.\\шт."]
[null,null,null,null,null,null,null,"1 ЦК",null,null,null,"1 ЦК + патина",null,null,null,"2 ЦК",null,null,null,"3 ЦК",null,null,null,null,null,null,null,null,null,null,null,"1 ЦК",null,null,null,"1 ЦК + патина",null,null,null,"2 ЦК",null,null,null,"3 ЦК"]
[null,null,null,null,null,null,null,{"$f":"CEILING('Титульный 2'!H250:K250*Титульный!$AY$1,Титульный!$AY$3)","v":960},null,null,null,{"$f":"CEILING('Титульный 2'!L250:O250*Титульный!$AY$1,Титульный!$AY$3)","v":1690},null,null,null,{"$f":"CEILING('Титульный 2'!P250:S250*Титульный!$AY$1,Титульный!$AY$3)","v":1140},null,null,null,{"$f":"CEILING('Титульный 2'!T250:W250*Титульный!$AY$1,Титульный!$AY$3)","v":1350},null,null,null,null,null,null,null,null,null,null,null,{"$f":"CEILING('Титульный 2'!AF250:AI250*Титульный!$AY$1,Титульный!$AY$3)","v":710},null,null,null,{"$f":"CEILING('Титульный 2'!AJ250:AM250*Титульный!$AY$1,Титульный!$AY$3)","v":1250},null,null,null,{"$f":"CEILING('Титульный 2'!AN250:AQ250*Титульный!$AY$1,Титульный!$AY$3)","v":840},null,null,null,{"$f":"CEILING('Титульный 2'!AR250:AU250*Титульный!$AY$1,Титульный!$AY$3)","v":1000}]
[]
["Козырек_02 МДФ на шкаф (560)  торц скошенный Л\\Пр.",null,null,null,null,null,null,null,null,null,null,null,null,null,null,null,null,null,null,null,null,null,null,null,"Козырек_02 МДФ стеллаж (560) торц радиусный Л\\Пр."]
[null,null,null,null,null,null,null,"Цена руб.\\шт.",null,null,null,null,null,null,null,null,null,null,null,null,null,null,null,null,null,null,null,null,null,null,null,"Цена руб.\\шт."]
[null,null,null,null,null,null,null,"1 ЦК",null,null,null,"1 ЦК + патина",null,null,null,"2 ЦК",null,null,null,"3 ЦК",null,null,null,null,null,null,null,null,null,null,null,"1 ЦК",null,null,null,"1 ЦК + патина",null,null,null,"2 ЦК",null,null,null,"3 ЦК"]
[null,null,null,null,null,null,null,{"$f":"CEILING('Титульный 2'!H255:K255*Титульный!$AY$1,Титульный!$AY$3)","v":930},null,null,null,{"$f":"CEILING('Титульный 2'!L255:O255*Титульный!$AY$1,Титульный!$AY$3)","v":1640},null,null,null,{"$f":"CEILING('Титульный 2'!P255:S255*Титульный!$AY$1,Титульный!$AY$3)","v":1110},null,null,null,{"$f":"CEILING('Титульный 2'!T255:W255*Титульный!$AY$1,Титульный!$AY$3)","v":1310},null,null,null,null,null,null,null,null,null,null,null,{"$f":"CEILING('Титульный 2'!AF255:AI255*Титульный!$AY$1,Титульный!$AY$3)","v":710},null,null,null,{"$f":"CEILING('Титульный 2'!AJ255:AM255*Титульный!$AY$1,Титульный!$AY$3)","v":1250},null,null,null,{"$f":"CEILING('Титульный 2'!AN255:AQ255*Титульный!$AY$1,Титульный!$AY$3)","v":850},null,null,null,{"$f":"CEILING('Титульный 2'!AR255:AU255*Титульный!$AY$1,Титульный!$AY$3)","v":1000}]
[]
["Козырек_02 МДФ на шкафы прямых позиций.2200х100 мм.*"]
[null,null,null,null,null,null,null,"Цена руб.\\шт."]
[null,null,null,null,null,null,null,"1 ЦК",null,null,null,"1 ЦК + патина",null,null,null,"2 ЦК",null,null,null,"3 ЦК"]
[null,null,null,null,null,null,null,{"$f":"CEILING('Титульный 2'!H262:K262*Титульный!$AY$1,Титульный!$AY$3)","v":1110},null,null,null,{"$f":"CEILING('Титульный 2'!L262:O262*Титульный!$AY$1,Титульный!$AY$3)","v":1960},null,null,null,{"$f":"CEILING('Титульный 2'!P262:S262*Титульный!$AY$1,Титульный!$AY$3)","v":1330},null,null,null,{"$f":"CEILING('Титульный 2'!T262:W262*Титульный!$AY$1,Титульный!$AY$3)","v":1570}]
[]
["Багеты"]
["Багет прямой, высотой 75 мм, может стыковаться под углом в 90⁰ без запила, с использованием углового элемента."]
[]
[null,null,null,null,null,null,null,"Багет ТИП-1, высотой 75мм, L-1200",null,null,null,null,null,null,null,null,null,null,null,null,null,null,null,null,null,null,null,null,null,null,null,"Багет Тип-1, высотой 75мм, L-2200"]
[null,null,null,null,null,null,null,"Цена руб.\\шт.",null,null,null,null,null,null,null,null,null,null,null,null,null,null,null,null,null,null,null,null,null,null,null,"Цена руб.\\шт."]
[null,null,null,null,null,null,null,"1 ЦК",null,null,null,"1 ЦК + патина",null,null,null,"2 ЦК",null,null,null,"3 ЦК",null,null,null,null,null,null,null,null,null,null,null,"1 ЦК",null,null,null,"1 ЦК + патина",null,null,null,"2 ЦК",null,null,null,"3 ЦК"]
[null,null,null,null,null,null,null,{"$f":"CEILING('Титульный 2'!H270:K270*Титульный!$AY$1,Титульный!$AY$3)","v":610},null,null,null,{"$f":"CEILING('Титульный 2'!L270:O270*Титульный!$AY$1,Титульный!$AY$3)","v":1070},null,null,null,{"$f":"CEILING('Титульный 2'!P270:S270*Титульный!$AY$1,Титульный!$AY$3)","v":720},null,null,null,{"$f":"CEILING('Титульный 2'!T270:W270*Титульный!$AY$1,Титульный!$AY$3)","v":850},null,null,null,null,null,null,null,null,null,null,null,{"$f":"CEILING('Титульный 2'!AF270:AI270*Титульный!$AY$1,Титульный!$AY$3)","v":1110},null,null,null,{"$f":"CEILING('Титульный 2'!AJ270:AM270*Титульный!$AY$1,Титульный!$AY$3)","v":1960},null,null,null,{"$f":"CEILING('Титульный 2'!AN270:AQ270*Титульный!$AY$1,Титульный!$AY$3)","v":1330},null,null,null,{"$f":"CEILING('Титульный 2'!AR270:AU270*Титульный!$AY$1,Титульный!$AY$3)","v":1570}]
[]
[null,null,null,null,null,null,null,"Угол внешни, 90⁰",null,null,null,null,null,null,null,null,null,null,null,null,null,null,null,null,null,"Для установки багета и его стыковки под углом 90⁰"]
[null,null,null,null,null,null,null,"Цена руб.\\шт."]
[null,null,null,null,null,null,null,"1 ЦК",null,null,null,"1 ЦК + патина",null,null,null,"2 ЦК",null,null,null,"3 ЦК",null,null,null,null,null,"смотри - схема 3"]
[null,null,null,null,null,null,null,{"$f":"CEILING('Титульный 2'!H275:K275*Титульный!$AY$1,Титульный!$AY$3)","v":1592},null,null,null,{"$f":"CEILING('Титульный 2'!L275:O275*Титульный!$AY$1,Титульный!$AY$3)","v":1592},null,null,null,{"$f":"CEILING('Титульный 2'!P275:S275*Титульный!$AY$1,Титульный!$AY$3)","v":1960},null,null,null,{"$f":"CEILING('Титульный 2'!T275:W275*Титульный!$AY$1,Титульный!$AY$3)","v":2380}]
[]
["Светильник"]
[]
[null,null,null,null,null,null,null,null,null,null,null,"Светильник FC103,с выкл.на плафоне руб./шт."]
[null,null,null,null,null,null,null,null,null,null,null,{"$f":"CEILING('Титульный 2'!L280:O280*Титульный!$AY$1,Титульный!$AY$3)","v":1725}]
[]
[]
[]
["Схемы"]
[null,null,null,null,null,null,null,null,null,null,null,null,null,null,null,null,null,null,null,null,null,null,null,"   "]
["1. Схема стыковки шкафа углового прямого со шкафом 1 дверным "]
[]
[]
[]
[]
[]
[]
[]
["2. Схема шкафа углового (560х420) Трапеция"]
[]
[]
[]
[]
[]
[]
[]
["3. Схема установки багета, высотой 75 мм, с внешним углом."]
[]
[]
[]
[]
[]
[]
[]
[]
["ВНИМАНИЕ!!! Для установки багета и его стыковки под углом 90⁰ РЕКОМЕНДУЕТСЯ использовать угловой элемент как указано на схеме"]

{"sheet":"Титульный 2","index":1,"n_rows":297,"n_cols":44,"rows_kept":297,"cut":false,"hidden":true,"merged":[[167,26,167,29],[167,30,167,33],[167,34,167,37],[167,38,167,41],[168,26,168,29],[168,30,168,33],[168,34,168,37],[168,38,168,41],[169,26,169,29],[169,30,169,33],[169,34,169,37],[169,38,169,41],[161,34,161,37],[161,38,161,41],[162,34,162,37],[162,38,162,41],[163,26,163,29],[163,30,163,33],[163,34,163,37],[163,38,163,41],[166,30,166,33],[166,34,166,37],[166,38,166,41],[127,9,127,11],[127,12,127,14],[129,1,129,4],[131,9,131,11],[131,12,131,14],[121,9,121,11],[121,12,121,14],[121,25,121,27],[121,28,121,30],[123,9,123,11],[123,12,123,14],[123,25,123,27],[123,28,123,30],[125,9,125,11],[125,12,125,14],[114,28,114,30],[114,31,114,33],[116,1,116,4],[117,9,117,11],[117,12,117,14],[117,25,117,27],[117,28,117,30],[119,9,119,11],[119,12,119,14],[119,25,119,27],[119,28,119,30],[106,28,106,30],[106,31,106,33],[106,12,106,14],[106,15,106,17],[108,28,108,30],[108,31,108,33],[110,28,110,30],[110,31,110,33],[112,28,112,30],[112,31,112,33],[103,1,103,4],[103,5,103,8],[103,21,103,24],[104,28,104,30],[104,31,104,33],[104,39,104,41],[104,42,104,44],[104,12,104,14],[104,15,104,17],[93,24,93,26],[95,21,95,23],[95,24,95,26],[97,21,97,23],[97,24,97,26],[99,21,99,23],[99,24,99,26],[101,21,101,23],[101,24,101,26],[93,21,93,23],[88,9,88,11],[88,12,88,14],[90,1,90,4],[90,5,90,8],[90,9,90,12],[91,21,91,23],[91,24,91,26],[91,33,91,35],[91,36,91,38],[82,9,82,11],[82,12,82,14],[82,21,82,23],[82,24,82,26],[84,9,84,11],[84,12,84,14],[84,21,84,23],[84,24,84,26],[86,9,86,11],[86,12,86,14],[86,21,86,23],[86,24,86,26],[77,9,77,15],[78,9,78,11],[78,12,78,14],[78,21,78,23],[79,9,79,15],[80,9,80,11],[80,12,80,14],[80,21,80,23],[80,24,80,26],[269,39,269,42],[267,7,267,22],[228,43,228,46],[229,43,231,46],[222,43,222,46],[238,7,238,10],[239,7,239,10],[237,31,237,46],[238,31,238,34],[239,31,239,34],[238,11,238,14],[238,15,238,18],[238,19,238,22],[223,43,225,46],[224,20,224,22],[231,14,231,16],[231,17,231,19],[231,20,231,22],[225,14,225,16],[225,17,225,19],[228,35,228,38],[226,7,226,10],[226,14,226,16],[227,7,227,10],[41,0,41,42],[43,0,43,7],[43,8,43,42],[238,35,238,38],[238,39,238,42],[222,11,222,13],[223,11,223,13],[224,11,224,13],[225,11,225,13],[226,11,226,13],[237,7,237,22],[227,11,227,13],[228,11,228,13],[229,11,229,13],[222,20,222,22],[227,24,228,30],[223,39,225,42],[225,20,225,22],[228,39,228,42],[229,39,231,42],[228,7,228,10],[228,14,228,16],[228,17,228,19],[228,20,228,22],[35,0,35,7],[35,8,35,42],[36,0,36,7],[36,8,36,42],[37,0,37,7],[37,8,37,42],[38,0,38,7],[38,8,38,42],[39,0,39,7],[39,8,39,42],[0,0,0,42],[1,0,1,42],[29,0,29,42],[30,0,30,42],[31,0,31,7],[31,8,31,42],[32,0,32,7],[32,8,32,42],[34,0,34,42],[11,0,11,46],[16,1,16,46],[17,1,17,46],[47,0,47,42],[51,0,51,6],[51,7,51,13],[51,15,51,21],[51,22,51,28],[51,30,51,36],[51,37,51,42],[52,0,52,6],[52,7,52,13],[52,15,52,21],[52,22,52,28],[52,30,52,36],[52,37,52,42],[53,0,53,6],[53,7,53,13],[53,15,53,21],[53,22,53,28],[53,30,53,36],[53,37,53,42],[54,0,54,6],[54,7,54,13],[54,15,54,21],[54,22,54,28],[54,30,54,36],[54,37,54,42],[55,0,55,6],[55,7,55,13],[55,15,55,21],[55,22,55,28],[55,30,55,36],[55,37,55,42],[56,0,56,6],[56,7,56,13],[56,15,56,21],[56,22,56,28],[56,30,56,36],[56,37,56,42],[57,0,57,6],[57,7,57,13],[57,15,57,21],[57,22,57,28],[57,30,57,36],[57,37,57,42],[58,0,58,6],[58,7,58,13],[58,15,58,21],[58,22,58,28],[58,30,58,36],[58,37,58,42],[59,0,59,6],[59,7,59,13],[59,15,59,21],[59,22,59,28],[59,30,59,36],[59,37,59,42],[60,0,60,6],[60,7,60,13],[60,15,60,21],[60,22,60,28],[60,30,60,36],[60,37,60,42],[61,0,61,6],[61,7,61,13],[61,15,61,21],[61,22,61,28],[61,30,61,36],[61,37,61,42],[62,0,62,6],[62,7,62,13],[62,15,62,21],[62,22,62,28],[62,30,62,36],[62,37,62,42],[63,0,63,6],[63,7,63,13],[63,15,63,21],[63,22,63,28],[63,30,63,36],[63,37,63,42],[64,0,64,6],[64,7,64,13],[64,15,64,21],[64,22,64,28],[64,30,64,36],[64,37,64,42],[65,0,65,6],[65,7,65,13],[65,15,65,21],[65,22,65,28],[65,30,65,36],[65,37,65,42],[66,0,66,6],[66,7,66,13],[66,15,66,21],[66,22,66,28],[66,30,66,36],[66,37,66,42],[67,0,67,6],[67,7,67,13],[67,15,67,21],[67,22,67,28],[67,30,67,36],[67,37,67,42],[68,0,68,6],[68,7,68,13],[68,15,68,21],[68,22,68,28],[68,30,68,36],[68,37,68,42],[156,7,157,18],[70,0,70,42],[74,0,74,42],[77,1,77,4],[156,26,156,41],[157,26,157,29],[157,30,157,33],[157,34,157,37],[227,17,227,19],[221,31,221,46],[222,31,222,34],[226,17,226,19],[226,20,226,22],[226,24,226,42],[223,31,225,34],[227,31,227,46],[157,38,157,41],[158,7,158,18],[158,19,158,25],[158,26,158,29],[156,19,157,25],[172,19,172,25],[172,26,172,29],[172,30,172,33],[177,0,177,42],[182,1,182,18],[182,25,182,42],[184,1,184,18],[184,25,184,42],[195,0,195,46],[220,1,220,20],[220,24,220,42],[221,0,222,6],[221,7,222,10],[221,24,222,30],[222,14,222,16],[222,17,222,19],[222,35,222,38],[222,39,222,42],[221,11,221,22],[216,0,216,42],[223,0,231,6],[223,7,223,10],[223,14,223,16],[223,17,223,19],[223,20,223,22],[229,14,229,16],[229,17,229,19],[229,20,229,22],[229,7,229,10],[230,11,230,13],[231,11,231,13],[228,31,228,34],[229,31,231,34],[223,35,225,38],[227,20,227,22],[224,7,224,10],[224,14,224,16],[224,17,224,19],[225,7,225,10],[227,14,227,16],[230,7,230,10],[230,14,230,16],[230,17,230,19],[230,20,230,22],[231,7,231,10],[229,35,231,38],[238,43,238,46],[239,11,239,14],[239,15,239,18],[239,19,239,22],[239,35,239,38],[239,39,239,42],[239,43,239,46],[241,0,241,18],[241,24,241,42],[243,43,243,46],[242,7,242,22],[243,7,243,10],[242,31,242,46],[243,31,243,34],[247,7,247,22],[244,31,244,34],[247,31,247,46],[244,19,244,22],[244,35,244,38],[244,39,244,42],[244,43,244,46],[246,0,246,18],[246,24,246,42],[244,7,244,10],[244,11,244,14],[244,15,244,18],[253,43,253,46],[252,31,252,46],[253,31,253,34],[252,7,252,22],[253,7,253,10],[251,0,251,18],[248,7,248,10],[249,35,249,38],[249,39,249,42],[249,43,249,46],[248,31,248,34],[249,31,249,34],[248,11,248,14],[248,15,248,18],[248,19,248,22],[248,35,248,38],[249,7,249,10],[249,11,249,14],[249,15,249,18],[249,19,249,22],[248,39,248,42],[248,43,248,46],[279,11,279,14],[278,11,278,30],[283,0,283,42],[288,0,288,42],[296,0,296,42],[254,39,254,42],[254,43,254,46],[258,0,258,19],[260,11,260,14],[269,43,269,46],[269,7,269,10],[269,31,269,34],[269,11,269,14],[269,15,269,18],[269,19,269,22],[254,31,254,34],[261,11,261,14],[261,15,261,18],[261,19,261,22],[268,43,268,46],[268,7,268,10],[267,31,267,46],[268,31,268,34],[274,7,274,10],[259,7,259,22],[260,7,260,10],[261,7,261,10],[254,11,254,14],[254,15,254,18],[254,19,254,22],[260,15,260,18],[260,19,260,22],[276,0,276,42],[274,11,274,14],[274,15,274,18],[274,19,274,22],[268,11,268,14],[268,15,268,18],[268,19,268,22],[263,0,263,42],[272,7,272,22],[273,7,273,10],[273,11,273,14],[273,15,273,18],[273,19,273,22],[268,35,268,38],[268,39,268,42],[269,35,269,38],[254,35,254,38],[254,7,254,10],[251,24,251,42],[253,11,253,14],[253,15,253,18],[253,19,253,22],[253,35,253,38],[253,39,253,42],[243,11,243,14],[243,15,243,18],[243,19,243,22],[243,35,243,38],[243,39,243,42],[234,0,234,42],[236,0,236,18],[236,24,236,42],[161,7,161,18],[161,19,161,25],[162,7,162,18],[162,19,162,25],[159,7,159,18],[159,19,159,25],[160,7,160,18],[160,19,160,25],[167,19,167,25],[168,7,168,18],[168,19,168,25],[165,7,165,18],[165,19,165,25],[166,7,166,18],[166,19,166,25],[163,7,163,18],[163,19,163,25],[164,7,164,18],[164,19,164,25],[171,34,171,37],[171,38,171,41],[170,19,170,25],[175,7,175,18],[174,7,174,18],[175,19,175,25],[171,7,171,18],[173,19,173,25],[172,7,172,18],[174,19,174,25],[173,7,173,18],[171,19,171,25],[167,7,167,18],[173,34,173,37],[173,38,173,41],[174,26,174,29],[174,30,174,33],[174,34,174,37],[174,38,174,41],[175,34,175,37],[175,38,175,41],[170,26,170,29],[170,30,170,33],[170,34,170,37],[170,38,170,41],[173,26,173,29],[173,30,173,33],[171,26,171,29],[171,30,171,33],[172,34,172,37],[172,38,172,41],[175,26,175,29],[175,30,175,33],[169,7,169,18],[169,19,169,25],[170,7,170,18],[158,30,158,33],[158,34,158,37],[158,38,158,41],[165,34,165,37],[165,38,165,41],[166,26,166,29],[164,34,164,37],[164,38,164,41],[159,26,159,29],[159,30,159,33],[162,26,162,29],[162,30,162,33],[165,26,165,29],[165,30,165,33],[164,26,164,29],[164,30,164,33],[159,34,159,37],[159,38,159,41],[160,26,160,29],[160,30,160,33],[160,34,160,37],[160,38,160,41],[161,26,161,29],[161,30,161,33]]}
["Базовая комплектация"]
["1. Каркас модулей изготовлен из ЛДСП оклеенной кромкой ПВХ 0,4 мм. Задняя стенка модулей из облагороженной ХДФ;"]
["2. Фасад из МДФ, покрытый пленкой ПВХ с лицевой стороны (базовая ценовая категория), обратная сторона (см. таблицу зависимости);"]
["3. Петли Hettich Sensys плавного закрывания;"]
["4.","Полки ЛДСП"]
["5. Роликовые направляющие в выкатных ящиках тумб и шкафов;"]
["6. Шариковые направляющие Hafele в выкатном ящике стола туалетного и кровати 2 ящика;"]
["7. Штанга в шкафах для одежды и шкафах комбинированных;"]
["8. Регулируемые ножки PI04;"]
["9. Стекло тонированное в шкафах-витринах;"]
["10. Крючки FK 009 020 на панелях настенных. (На панелях шириной 400 - 2 крючка, а на панелях шириной 540 - 3 крючка)"]
["Марго, краткое описание"]
[1,"Фасад выполнен из ЛДСП толщиной 16 мм. оклеенной кромкой ПВХ толщиной 2 мм."]
[2,"Фасад шкафов витрин и полувитрин - рамочный, из алюминиевого профиля толщиной 21 мм. Стекло - Тонированное"]
[3,"Крышки столов, тумб, комода, стола туалетного, спинки кроватей выполнены из  ЛДСП толщиной 22 мм. и оклеенной кромкой ПВХ толщиной 2 мм.   "]
[4,"Ручка - FS040, 160 мм."]
[5,"Обращаем Ваше внимание на то, что каркас \"Марго\" изготавливается только следующих цветов - Капучино и Выбеленное дерево, Дуб шамони темный, Дуб шамони светлый"]
[6,"Обращаем Ваше внимание на то, что каркас тумб Марго 16 может изготавливаться в любом цвете ЛДСП за исключением серого и 3-й ценовой категории. Фасад набора мебели Марго и  тумб Марго 16 может изготавливаться в любом цвете ЛДСП за исключением серого."]
[7,"Для фасада Марго может быть использовано только накладное зеркало."]
[]
[]
[]
[]
[]
[]
[]
[]
[]
[]
["Классификация цветов фасадов"]
["1 ценовая категория"]
["Древесные матовые",null,null,null,null,null,null,null,"Ольха, Тик, Слива Тадж, Орех золотистый, Сандал белый, Темный Венге, Дуб беленый, Дуб солнечный,  Яблоня Тадж, Коричневый холст, Бежевый холст"]
["Однотонные матовые",null,null,null,null,null,null,null,"Белые цветы, Черные цветы"]
[]
["2 ценовая категория"]
["Древесные матовые",null,null,null,null,null,null,null,"Эффект старения"]
["Однотонные матовые",null,null,null,null,null,null,null,"Фиолет, Лайм, Фуксия, Индиго"]
["Древесные глянцевые",null,null,null,null,null,null,null,"Вишня, Клен, Платан, Жемчужное Дерево"]
["Однотонные глянцевые",null,null,null,null,null,null,null,"Красный металлик, Чёрный металлик, Белый металлик, Оранжевый металлик, Фиолетовый металлик, Салатовый металлик, Синий металлик, Серый металлик, Золотистый металлик, Корица металлик,  Хамелеон Коричневый, Белый глянец, Оливковый, Баклажан, Бордо, Ваниль, Оранжевый, Желтый, Черный."]
["Фантазийные",null,null,null,null,null,null,null,"Мрамор глянцевый, Кожа крокодила, Огни Нью-Йорка, Цветы, Серебряный дождь."]
[]
["3 ценовая категория"]
[]
["Фантазийные",null,null,null,null,null,null,null,"Вяз седой, Синга-крем, Синга-аметист, Шелк-крем, Шелк-аметист"]
["ВНИМАНИЕ!!! Возможны незначительные изменения в тональности пленки ПВХ (2-3 тона), что не является браком"]
[]
[]
["Таблица зависимости цвета внутренней стороны фасада от цвета пленки ПВХ:"]
[null,"Цвет внутренней стороны фасадов зависит от цвета пленки ПВХ, исключение составляют наборы мебели, каркасы"]
["которых изготовлены из ЛДСП цвета \"Бук Бавария\", в этом случае обратная сторона фасадов будет всегда в цвете \"Ольха\""]
[]
["Пленка ПВХ",null,null,null,null,null,null,"Обратная сторона",null,null,null,null,null,null,null,"Пленка ПВХ",null,null,null,null,null,null,"Обратная сторона",null,null,null,null,null,null,null,"Пленка ПВХ",null,null,null,null,null,null,"Обратная сторона"]
["Слива Тадж",null,null,null,null,null,null,"Ольха",null,null,null,null,null,null,null,"Оливковый глянец",null,null,null,null,null,null,"Белая",null,null,null,null,null,null,null,"Салатовый металлик",null,null,null,null,null,null,"Белая"]
["Вишня глянец",null,null,null,null,null,null,"Ольха",null,null,null,null,null,null,null,"Баклажан глянец",null,null,null,null,null,null,"Белая",null,null,null,null,null,null,null,"Огни Нью-Йорка",null,null,null,null,null,null,"Белая"]
["Клен глянец",null,null,null,null,null,null,"Ольха",null,null,null,null,null,null,null,"Черный глянец",null,null,null,null,null,null,"Белая",null,null,null,null,null,null,null,"Цветы",null,null,null,null,null,null,"Белая"]
["Платан глянец",null,null,null,null,null,null,"Ольха",null,null,null,null,null,null,null,"Желтый глянец",null,null,null,null,null,null,"Белая",null,null,null,null,null,null,null,"Жемчужное дерево",null,null,null,null,null,null,"Белая"]
["Каштан золотистый",null,null,null,null,null,null,"Ольха",null,null,null,null,null,null,null,"Белый глянец",null,null,null,null,null,null,"Белая",null,null,null,null,null,null,null,"Серебрянный дождь",null,null,null,null,null,null,"Белая"]
["Тик",null,null,null,null,null,null,"Ольха",null,null,null,null,null,null,null,"Ваниль глянец",null,null,null,null,null,null,"Белая",null,null,null,null,null,null,null,"Белые цветы",null,null,null,null,null,null,"Белая"]
["Орех золотистый",null,null,null,null,null,null,"Ольха",null,null,null,null,null,null,null,"Оранжевый глянец",null,null,null,null,null,null,"Белая",null,null,null,null,null,null,null,"Кожа крокодила",null,null,null,null,null,null,"Белая"]
["Яблоня Тадж",null,null,null,null,null,null,"Ольха",null,null,null,null,null,null,null,"Серый металлик",null,null,null,null,null,null,"Белая",null,null,null,null,null,null,null,"Черные цветы",null,null,null,null,null,null,"Белая"]
["Ольха",null,null,null,null,null,null,"Ольха",null,null,null,null,null,null,null,"Красный металлик",null,null,null,null,null,null,"Белая",null,null,null,null,null,null,null,"Шелк Аметист",null,null,null,null,null,null,"Белая"]
["Темный Венге",null,null,null,null,null,null,"Белая",null,null,null,null,null,null,null,"Белый металлик",null,null,null,null,null,null,"Белая",null,null,null,null,null,null,null,"Шелк Крем",null,null,null,null,null,null,"Белая"]
["Эффект старения",null,null,null,null,null,null,"Белая",null,null,null,null,null,null,null,"Корица металлик",null,null,null,null,null,null,"Белая",null,null,null,null,null,null,null,"Синга Аметист",null,null,null,null,null,null,"Белая"]
["Вяз седой",null,null,null,null,null,null,"Белая",null,null,null,null,null,null,null,"Синий металлик",null,null,null,null,null,null,"Белая",null,null,null,null,null,null,null,"Коричневый холст",null,null,null,null,null,null,"Белая"]
["Сандал белый",null,null,null,null,null,null,"Белая",null,null,null,null,null,null,null,"Золотой металлик",null,null,null,null,null,null,"Белая",null,null,null,null,null,null,null,"Бежевый холст",null,null,null,null,null,null,"Белая"]
["Дуб солнечный",null,null,null,null,null,null,"Белая",null,null,null,null,null,null,null,"Хамелион коричневый",null,null,null,null,null,null,"Белая",null,null,null,null,null,null,null,"Фиолет",null,null,null,null,null,null,"Белая"]
["Дуб беленый",null,null,null,null,null,null,"Белая",null,null,null,null,null,null,null,"Фиолетовый металлик",null,null,null,null,null,null,"Белая",null,null,null,null,null,null,null,"Лайм",null,null,null,null,null,null,"Белая"]
["Бордо глянец",null,null,null,null,null,null,"Белая",null,null,null,null,null,null,null,"Черный металлик",null,null,null,null,null,null,"Белая",null,null,null,null,null,null,null,"Фуксия",null,null,null,null,null,null,"Белая"]
["Мрамор глянец",null,null,null,null,null,null,"Белая",null,null,null,null,null,null,null,"Оранжевый металлик",null,null,null,null,null,null,"Белая",null,null,null,null,null,null,null,"Индиго",null,null,null,null,null,null,"Белая"]
[]
["Цветовое исполнение каркасов "]
["Белый, Серый, Бук Бавария, Орех итальянский, Гварнери, Венге, Бежевый, Выбеленное дерево, Капучино"]
[]
[]
["Варианты фрезеровок фасадов с привязкой ручки"]
["Для новой серии модулей разработаны следующие типы фасадов:"]
[]
[null,"Прованс",null,null,null,null,null,null,null,"Вензель цинк, 96мм",null,null,null,null,null,null,null,null,null,null,null,"Ручка RS407BAB.4 \"Вензель латунь\" 96мм"]
[null,null,null,null,null,null,null,null,null,101,null,null,"руб/шт.",null,null,null,null,null,null,null,null,101]
[null,null,null,null,null,null,null,null,null,"Скоба зол/сер 96мм.",null,null,null,null,null,null,null,null,null,null,null,"Ручка RS408BAZ.4 \"Ладья цинк, 96мм"]
[null,null,null,null,null,null,null,null,null,72,null,null,"руб/шт.",null,null,null,null,null,null,null,null,141,null,null,"руб/шт."]
[null,null,null,null,null,null,null,null,null,null,null,null,null,null,null,null,null,null,null,null,null,"Ручка RS408BAB.4 \"Ладья латунь\" 96 мм."]
[null,null,null,null,null,null,null,null,null,null,null,null,"руб/шт.",null,null,null,null,null,null,null,null,113,null,null,"руб/шт."]
[null,null,null,null,null,null,null,null,null,"Ручка RS-75, антик латунь, 96 мм.",null,null,null,null,null,null,null,null,null,null,null,"ОФК 747, 96мм Бронза+белый"]
[null,null,null,null,null,null,null,null,null,96,null,null,"руб/шт.",null,null,null,null,null,null,null,null,150,null,null,"руб/шт."]
[null,null,null,null,null,null,null,null,null,"Ручка Рейлинг 96",null,null,null,null,null,null,null,null,null,null,null,"Ручка RS-77, 96 мм."]
[null,null,null,null,null,null,null,null,null,66,null,null,"руб/шт.",null,null,null,null,null,null,null,null,83,null,null,"руб/шт."]
[null,null,null,null,null,null,null,null,null,"Ручка 96 (фарфор/узор золото)"]
[null,null,null,null,null,null,null,null,null,81,null,null,"руб/шт."]
[]
[null,"Бриз",null,null,null,"Амелия",null,null,null,"Марго",null,null,null,null,null,null,null,null,null,null,null,"Ручка FS-074 \"Волна\" 160мм",null,null,null,null,null,null,null,null,null,null,null,"Ручка RS-47-1 \"хром+черный 160 мм"]
[null,null,null,null,null,null,null,null,null,null,null,null,null,null,null,null,null,null,null,null,null,185,null,null,"руб/шт.",null,null,null,null,null,null,null,null,285,null,null,"руб/шт."]
[null,null,null,null,null,null,null,null,null,null,null,null,null,null,null,null,null,null,null,null,null,"Ручка Модерн 160 мм."]
[null,null,null,null,null,null,null,null,null,null,null,null,null,null,null,null,null,null,null,null,null,215,null,null,"руб/шт."]
[null,null,null,null,null,null,null,null,null,null,null,null,null,null,null,null,null,null,null,null,null,"Ручка FS-040 , 160мм"]
[null,null,null,null,null,null,null,null,null,null,null,null,null,null,null,null,null,null,null,null,null,318,null,null,"руб/шт."]
[null,null,null,null,null,null,null,null,null,null,null,null,null,null,null,null,null,null,null,null,null,"Ручка Рейлинг 160 мм"]
[null,null,null,null,null,null,null,null,null,null,null,null,null,null,null,null,null,null,null,null,null,62,null,null,"руб/шт."]
[null,null,null,null,null,null,null,null,null,null,null,null,null,null,null,null,null,null,null,null,null,"Ручка RS-74 \"Бруш\" сатин светлый, 160 мм."]
[null,null,null,null,null,null,null,null,null,null,null,null,null,null,null,null,null,null,null,null,null,168,null,null,"руб/шт."]
[null,null,null,null,null,null,null,null,null,null,null,null,null,null,null,null,null,null,null,null,null,"Ручка RS-47 \"хром+белый 160 мм"]
[null,null,null,null,null,null,null,null,null,null,null,null,null,null,null,null,null,null,null,null,null,285,null,null,"руб/шт."]
[]
[null,"Лаура",null,null,null,"Натали",null,null,null,null,null,null,"Скоба 224мм",null,null,null,null,null,null,null,null,"Диана",null,null,null,null,null,null,"Скоба 1069, 128 мм",null,null,null,null,null,null,null,null,null,null,"Ручка скоба RS-33 128 мм."]
[null,null,null,null,null,null,null,null,null,null,null,null,155,null,null,"руб/шт.",null,null,null,null,null,null,null,null,null,null,null,null,164,null,null,"руб/шт.",null,null,null,null,null,null,null,188,null,null,"руб/шт."]
[null,null,null,null,null,null,null,null,null,null,null,null,"Скоба RLB224, 224 мм"]
[null,null,null,null,null,null,null,null,null,null,null,null,155,null,null,"руб/шт.",null,null,null,null,null,null,null,null,null,null,null,null,null,null,null,"руб/шт."]
[null,null,null,null,null,null,null,null,null,null,null,null,null,null,null,null,null,null,null,null,null,null,null,null,null,null,null,null,"Ручка FS-111 \"Сатин светлый\" 128мм."]
[null,null,null,null,null,null,null,null,null,null,null,null,null,null,null,null,null,null,null,null,null,null,null,null,null,null,null,null,345,null,null,"руб/шт."]
[null,null,null,null,null,null,null,null,null,null,null,null,null,null,null,null,null,null,null,null,null,null,null,null,null,null,null,null,"Ручка скоба RS-52 128 мм."]
[null,null,null,null,null,null,null,null,null,null,null,null,null,null,null,null,null,null,null,null,null,null,null,null,null,null,null,null,84,null,null,"руб/шт."]
[null,null,null,null,null,null,null,null,null,null,null,null,null,null,null,null,null,null,null,null,null,null,null,null,null,null,null,null,"Ручка скоба RS-56 128 мм."]
[null,null,null,null,null,null,null,null,null,null,null,null,null,null,null,null,null,null,null,null,null,null,null,null,null,null,null,null,185,null,null,"руб/шт."]
[null,null,null,null,null,null,null,null,null,null,null,null,null,null,null,null,null,null,null,null,null,null,null,null,null,null,null,null,"Ручка скоба \"Спираль\" 128 мм."]
[null,null,null,null,null,null,null,null,null,null,null,null,null,null,null,null,null,null,null,null,null,null,null,null,null,null,null,null,176,null,null,"руб/шт."]
[]
[null,"Гретта",null,null,null,null,null,null,null,"Ручка GG-3105 кнопка \"Латунь\"",null,null,null,null,null,null,null,null,null,null,null,null,null,null,null,"Ручка RC404BAZ.4 \"Вензель цинк\""]
[null,null,null,null,null,null,null,null,null,301,null,null,"руб/шт.",null,null,null,null,null,null,null,null,null,null,null,null,141,null,null,"руб/шт."]
[null,null,null,null,null,null,null,null,null,null,null,null,null,null,null,null,null,null,null,null,null,null,null,null,null,"Ручка RC404BAВ.4 \"Вензель латунь\""]
[null,null,null,null,null,null,null,null,null,"-",null,null,"руб/шт.",null,null,null,null,null,null,null,null,null,null,null,null,71,null,null,"руб/шт."]
[null,null,null,null,null,null,null,null,null,null,null,null,null,null,null,null,null,null,null,null,null,null,null,null,null,"Ручка RC405BAZ.4 \"Ладья цинк\""]
[null,null,null,null,null,null,null,null,null,127,null,null,"руб/шт.",null,null,null,null,null,null,null,null,null,null,null,null,24,null,null,"руб/шт."]
[null,null,null,null,null,null,null,null,null,"Ручка GR-1006 кнопка \"Никель\"",null,null,null,null,null,null,null,null,null,null,null,null,null,null,null,"Ручка - кнопка (фарфор/узор золото)"]
[null,null,null,null,null,null,null,null,null,null,null,null,"руб/шт.",null,null,null,null,null,null,null,null,null,null,null,null,60,null,null,"руб/шт."]
[null,null,null,null,null,null,null,null,null,"Ручка RC405BAB.4 \"Ладья латунь\""]
[null,null,null,null,null,null,null,null,null,30,null,null,"руб/шт."]
[null,null,null,null,null,null,null,null,null,"RC 052AB.4/w16 Бронза+белый"]
[null,null,null,null,null,null,null,null,null,76,null,null,"руб/шт."]
[]
[null,"Юлия"]
[null,null,null,null,null,null,null,null,null,"FS024 064, 64 мм"]
[null,null,null,null,null,null,null,null,null,180,null,null,"руб/шт."]
[]
[]
[]
[]
[]
[]
[]
[]
[]
[]
[]
[]
[]
[]
[]
[]
[]
[]
[]
[]
[]
[]
[]
[]
[null,null,null,null,null,null,null,"Наименование",null,null,null,null,null,null,null,null,null,null,null,"Габариты,  ШхГхВ мм.",null,null,null,null,null,null,"Цена, руб.\\шт."]
[null,null,null,null,null,null,null,null,null,null,null,null,null,null,null,null,null,null,null,null,null,null,null,null,null,null,"1 ЦК",null,null,null,"1 ЦК + патина",null,null,null,"2 ЦК",null,null,null,"3 ЦК"]
[null,null,null,null,null,null,null,"Багетный блок 16 (420) 420",null,null,null,null,null,null,null,null,null,null,null,null,null,null,null,null,null,null,1014,null,null,null,2054,null,null,null,1174,null,null,null,1484]
[null,null,null,null,null,null,null,"Багетный блок 16 (420) 560",null,null,null,null,null,null,null,null,null,null,null,null,null,null,null,null,null,null,1244,null,null,null,2544,null,null,null,1434,null,null,null,1834]
[null,null,null,null,null,null,null,"Багетный блок 16 (420)  840 ",null,null,null,null,null,null,null,null,null,null,null,null,null,null,null,null,null,null,1714,null,null,null,3504,null,null,null,1984,null,null,null,2534]
[null,null,null,null,null,null,null,"Багетный блок 16 (420) 1120",null,null,null,null,null,null,null,null,null,null,null,null,null,null,null,null,null,null,2194,null,null,null,4484,null,null,null,2524,null,null,null,3244]
[null,null,null,null,null,null,null,"Багетный блок 16 (420) 1260",null,null,null,null,null,null,null,null,null,null,null,null,null,null,null,null,null,null,2424,null,null,null,4964,null,null,null,2794,null,null,null,3584]
[null,null,null,null,null,null,null,"Багетный блок 16 (420) 1400",null,null,null,null,null,null,null,null,null,null,null,null,null,null,null,null,null,null,2654,null,null,null,5454,null,null,null,3064,null,null,null,3934]
[null,null,null,null,null,null,null,"Багетный блок 16 (420) 1680",null,null,null,null,null,null,null,null,null,null,null,null,null,null,null,null,null,null,3134,null,null,null,6424,null,null,null,3604,null,null,null,4644]
[null,null,null,null,null,null,null,"Багетный блок 16 (420) 1960",null,null,null,null,null,null,null,null,null,null,null,null,null,null,null,null,null,null,3594,null,null,null,7394,null,null,null,4154,null,null,null,5354]
[null,null,null,null,null,null,null,"Багетный блок 16 (420) 2240",null,null,null,null,null,null,null,null,null,null,null,null,null,null,null,null,null,null,4074,null,null,null,8364,null,null,null,4694,null,null,null,6044]
[null,null,null,null,null,null,null,"Багетный блок 16 (560)  420",null,null,null,null,null,null,null,null,null,null,null,null,null,null,null,null,null,null,1274,null,null,null,2594,null,null,null,1464,null,null,null,1894]
[null,null,null,null,null,null,null,"Багетный блок 16 (560)  560",null,null,null,null,null,null,null,null,null,null,null,null,null,null,null,null,null,null,1574,null,null,null,3214,null,null,null,1804,null,null,null,2334]
[null,null,null,null,null,null,null,"Багетный блок 16 (560)  840",null,null,null,null,null,null,null,null,null,null,null,null,null,null,null,null,null,null,2174,null,null,null,4444,null,null,null,2504,null,null,null,3224]
[null,null,null,null,null,null,null,"Багетный блок 16 (560)  1120",null,null,null,null,null,null,null,null,null,null,null,null,null,null,null,null,null,null,2774,null,null,null,5694,null,null,null,3184,null,null,null,4124]
[null,null,null,null,null,null,null,"Багетный блок 16 (560)  1260",null,null,null,null,null,null,null,null,null,null,null,null,null,null,null,null,null,null,3074,null,null,null,6304,null,null,null,3534,null,null,null,4564]
[null,null,null,null,null,null,null,"Багетный блок 16 (560)  1400",null,null,null,null,null,null,null,null,null,null,null,null,null,null,null,null,null,null,3374,null,null,null,6924,null,null,null,3884,null,null,null,5014]
[null,null,null,null,null,null,null,"Багетный блок 16 (560)  1680",null,null,null,null,null,null,null,null,null,null,null,null,null,null,null,null,null,null,3974,null,null,null,8154,null,null,null,4574,null,null,null,5914]
[null,null,null,null,null,null,null,"Багетный блок 16 (560)  1960",null,null,null,null,null,null,null,null,null,null,null,null,null,null,null,null,null,null,4574,null,null,null,9404,null,null,null,5264,null,null,null,6814]
[null,null,null,null,null,null,null,"Багетный блок 16 (560)  2240",null,null,null,null,null,null,null,null,null,null,null,null,null,null,null,null,null,null,5184,null,null,null,10634,null,null,null,5954,null,null,null,7704]
[]
["Схема расположения зеркал"]
[]
[]
[]
[]
[null,"1 зеркало",null,null,null,null,null,null,null,null,null,null,null,null,null,null,null,null,null,null,null,null,null,null,null,"2 зеркала"]
["Внимание!!! В прайс-листе указана стоимость за комплект зеркал"]
[null,"Зеркало накладное",null,null,null,null,null,null,null,null,null,null,null,null,null,null,null,null,null,null,null,null,null,null,null,"Зеркало в рамке"]
[]
[]
[]
[]
[]
[]
[]
[]
[]
[]
["Шкафы-витрины с фрезеровкой \"Прованс\""]
[]
[]
[]
[]
[]
[]
[]
[]
[]
[]
[]
[]
[]
[]
[]
[]
[]
[]
[]
[]
["Козырьки МДФ"]
[null,"Козырьки, по желанию, могут быть отфрезерованы под светодиодную ленту (необходимо указывать в заказе), за исключением"]
["козырьков торцевых радиусных и торцевых скошенных."]
[]
[null,"Козырек МДФ прямой",null,null,null,null,null,null,null,null,null,null,null,null,null,null,null,null,null,null,null,null,null,null,"Козырек МДФ на шкаф угл. (420) трапеция"]
["Изображение",null,null,null,null,null,null,"Длина, мм",null,null,null,"Цена, руб.\\шт.",null,null,null,null,null,null,null,null,null,null,null,null,"Изображение",null,null,null,null,null,null,"Цена, руб.\\шт."]
[null,null,null,null,null,null,null,null,null,null,null,"1 ЦК",null,null,"1 ЦК + патина",null,null,"2 ЦК",null,null,"3 ЦК",null,null,null,null,null,null,null,null,null,null,"0 ЦК",null,null,null,"1 ЦК",null,null,null,"2 ЦК",null,null,null,"3 ЦК"]
[null,null,null,null,null,null,null,420,null,null,null,420,null,null,750,350,350,510,230,230,600,290,290,null,null,null,null,null,null,null,null,420,null,null,null,730,null,null,null,500,null,null,null,590]
[null,null,null,null,null,null,null,560,null,null,null,570,250,250,1000,470,470,680,310,310,800,380,380]
[null,null,null,null,null,null,null,840,null,null,null,850,370,370,1500,710,710,1010,460,460,1200,570,570]
[null,null,null,null,null,null,null,1120,null,null,null,1130,490,490,1990,940,940,1350,610,610,1590,770,770,null,"Козырек МДФ на шкаф угл. (560) трапеция"]
[null,null,null,null,null,null,null,1260,null,null,null,1270,550,550,2240,1060,1060,1520,690,690,1790,860,860,null,"Изображение",null,null,null,null,null,null,"Цена, руб.\\шт."]
[null,null,null,null,null,null,null,1400,null,null,null,1410,620,620,2490,1180,1180,1690,760,760,1990,960,960,null,null,null,null,null,null,null,null,"0 ЦК",null,null,null,"1 ЦК",null,null,null,"2 ЦК",null,null,null,"3 ЦК"]
[null,null,null,null,null,null,null,1680,null,null,null,1700,740,740,2990,1410,1410,2030,920,920,2390,1150,1150,null,null,null,null,null,null,null,null,540,null,null,null,950,null,null,null,640,null,null,null,760]
[null,null,null,null,null,null,null,1960,null,null,null,1980,860,860,3490,1650,1650,2360,1070,1070,2790,1340,1340]
[null,null,null,null,null,null,null,2240,null,null,null,2260,990,990,3990,1880,1880,2700,1220,1220,3190,1530,1530]
[]
[]
["Козырьки торцевые радиусные и скошенные"]
[]
["Козырек МДФ на шкаф (420) торцевой скошенный Л\\Пр.",null,null,null,null,null,null,null,null,null,null,null,null,null,null,null,null,null,null,null,null,null,null,null,"Козырек МДФ на стеллаж (420) торцевой радиусный Л\\Пр."]
[null,null,null,null,null,null,null,"Цена руб.\\шт.",null,null,null,null,null,null,null,null,null,null,null,null,null,null,null,null,null,null,null,null,null,null,null,"Цена, руб.\\шт."]
[null,null,null,null,null,null,null,"0 ЦК",null,null,null,"1 ЦК",null,null,null,"2 ЦК",null,null,null,"3 ЦК",null,null,null,null,null,null,null,null,null,null,null,"0 ЦК",null,null,null,"1 ЦК",null,null,null,"2 ЦК",null,null,null,"3 ЦК"]
[null,null,null,null,null,null,null,600,null,null,null,1060,null,null,null,720,null,null,null,850,null,null,null,null,null,null,null,null,null,null,null,500,null,null,null,880,null,null,null,590,null,null,null,700]
[]
["Козырек_02 МДФ на шкаф (420) торц скошенный Л\\Пр.",null,null,null,null,null,null,null,null,null,null,null,null,null,null,null,null,null,null,null,null,null,null,null,"Козырек_02 МДФ на стеллаж (420) торц радиусный Л\\Пр."]
[null,null,null,null,null,null,null,"Цена руб.\\шт.",null,null,null,null,null,null,null,null,null,null,null,null,null,null,null,null,null,null,null,null,null,null,null,"Цена, руб.\\шт."]
[null,null,null,null,null,null,null,"0 ЦК",null,null,null,"1 ЦК",null,null,null,"2 ЦК",null,null,null,"3 ЦК",null,null,null,null,null,null,null,null,null,null,null,"0 ЦК",null,null,null,"1 ЦК",null,null,null,"2 ЦК",null,null,null,"3 ЦК"]
[null,null,null,null,null,null,null,590,null,null,null,1030,null,null,null,700,null,null,null,830,null,null,null,null,null,null,null,null,null,null,null,500,null,null,null,890,null,null,null,600,null,null,null,710]
[]
["Козырек МДФ на шкаф (560)  торцевой скошенный Л\\Пр.",null,null,null,null,null,null,null,null,null,null,null,null,null,null,null,null,null,null,null,null,null,null,null,"Козырек МДФ стеллаж (560) торцевой радиусный Л\\Пр."]
[null,null,null,null,null,null,null,"Цена руб.\\шт.",null,null,null,null,null,null,null,null,null,null,null,null,null,null,null,null,null,null,null,null,null,null,null,"Цена руб.\\шт."]
[null,null,null,null,null,null,null,"0 ЦК",null,null,null,"1 ЦК",null,null,null,"2 ЦК",null,null,null,"3 ЦК",null,null,null,null,null,null,null,null,null,null,null,"0 ЦК",null,null,null,"1 ЦК",null,null,null,"2 ЦК",null,null,null,"3 ЦК"]
[null,null,null,null,null,null,null,960,null,null,null,1690,null,null,null,1140,null,null,null,1350,null,null,null,null,null,null,null,null,null,null,null,710,null,null,null,1250,null,null,null,840,null,null,null,1000]
[]
["Козырек_02 МДФ на шкаф (560)  торц скошенный Л\\Пр.",null,null,null,null,null,null,null,null,null,null,null,null,null,null,null,null,null,null,null,null,null,null,null,"Козырек_02 МДФ стеллаж (560) торц радиусный Л\\Пр."]
[null,null,null,null,null,null,null,"Цена руб.\\шт.",null,null,null,null,null,null,null,null,null,null,null,null,null,null,null,null,null,null,null,null,null,null,null,"Цена руб.\\шт."]
[null,null,null,null,null,null,null,"0 ЦК",null,null,null,"1 ЦК",null,null,null,"2 ЦК",null,null,null,"3 ЦК",null,null,null,null,null,null,null,null,null,null,null,"0 ЦК",null,null,null,"1 ЦК",null,null,null,"2 ЦК",null,null,null,"3 ЦК"]
[null,null,null,null,null,null,null,930,null,null,null,1640,null,null,null,1110,null,null,null,1310,null,null,null,null,null,null,null,null,null,null,null,710,null,null,null,1250,null,null,null,850,null,null,null,1000]
[]
["ВНИМАНИЕ!!! Для шкафа угл (560х420) Прямого 1000 козырька нет."]
[]
["Козырек_02 МДФ на шкафы прямых позиций.2200х100 мм.*"]
[null,null,null,null,null,null,null,"Цена руб.\\шт."]
[null,null,null,null,null,null,null,"0 ЦК",null,null,null,"1 ЦК",null,null,null,"2 ЦК",null,null,null,"3 ЦК"]
[null,null,null,null,null,null,null,1110,null,null,null,1960,null,null,null,1330,null,null,null,1570]
[]
["Багеты"]
["Багет прямой, высотой 75 мм, может стыковаться под углом в 90⁰ без запила, с использованием углового элемента."]
[]
[null,null,null,null,null,null,null,"Багет высотой 75мм, L-1200",null,null,null,null,null,null,null,null,null,null,null,null,null,null,null,null,null,null,null,null,null,null,"Багет высотой 75мм, L-2400"]
[null,null,null,null,null,null,null,"Цена руб.\\шт.",null,null,null,null,null,null,null,null,null,null,null,null,null,null,null,null,null,null,null,null,null,null,null,"Цена руб.\\шт."]
[null,null,null,null,null,null,null,"0 ЦК",null,null,null,"1 ЦК",null,null,null,"2 ЦК",null,null,null,"3 ЦК",null,null,null,null,null,null,null,null,null,null,null,"0 ЦК",null,null,null,"1 ЦК",null,null,null,"2 ЦК",null,null,null,"3 ЦК"]
[null,null,null,null,null,null,null,610,null,null,null,1070,null,null,null,720,null,null,null,850,null,null,null,null,null,null,null,null,null,null,null,1110,null,null,null,1960,null,null,null,1330,null,null,null,1570]
[]
[null,null,null,null,null,null,null,"Угол внешни, 90⁰"]
[null,null,null,null,null,null,null,"Цена руб.\\шт."]
[null,null,null,null,null,null,null,"Б.Ц.К.",null,null,null,"1 ЦК",null,null,null,"2 ЦК",null,null,null,"3 ЦК"]
[null,null,null,null,null,null,null,1592,null,null,null,1592,null,null,null,1960,null,null,null,2380]
[]
["Светильник"]
[]
[null,null,null,null,null,null,null,null,null,null,null,"Светильник FC103,с выкл.на плафоне руб./шт."]
[null,null,null,null,null,null,null,null,null,null,null,1725]
[]
[]
[]
["Пояснения и ограничения"]
["1. Для кровати с наборным изголовьем, необходимо заказывать основание с круглыми опорами. Кроватьс не устанавливается"]
["без основания"]
["2. Каркас \"Кровати 2 ящика\" не может быть исполнен в Сером цвете. "]
[null,null,null,null,null,null,null,null,null,null,null,null,null,null,null,null,null,null,null,null,null,null,null,"   "]
["3. Схема стыковки шкафа углового прямого со шкафом 1 дверным "]
[]
[]
[]
[]
[]
[]
[]
["4. Схема шкафа углового (560х420) Трапеция"]

{"sheet":"прайс-лист","index":2,"n_rows":422,"n_cols":20,"rows_kept":422,"cut":false,"hidden":false,"merged":[[416,0,416,7],[417,0,418,0],[417,1,418,1],[417,2,418,2],[417,3,417,7],[311,3,311,5],[311,0,312,0],[311,1,312,1],[311,2,312,2],[341,0,342,0],[330,3,330,6],[328,1,331,1],[333,3,333,6],[334,1,337,1],[336,3,336,6],[411,0,412,0],[411,1,412,1],[411,2,412,2],[399,0,401,0],[399,1,401,1],[399,2,401,2],[398,0,398,6],[399,3,399,6],[395,3,395,8],[307,3,307,6],[303,3,303,6],[265,0,267,0],[262,1,263,1],[264,0,264,18],[265,3,265,18],[266,18,267,18],[266,13,266,14],[266,15,266,16],[266,17,267,17],[274,1,275,1],[268,1,269,1],[270,1,271,1],[266,8,266,12],[304,0,306,0],[307,0,309,0],[307,1,309,1],[309,3,309,6],[226,0,231,0],[232,0,237,0],[392,1,394,1],[276,1,277,1],[288,1,293,1],[335,3,335,6],[334,3,334,6],[326,0,326,6],[327,3,327,6],[332,0,332,6],[357,3,357,6],[354,1,357,1],[373,3,373,6],[372,0,374,0],[372,1,374,1],[376,1,383,1],[355,3,355,6],[354,0,357,0],[365,0,365,6],[384,0,387,0],[372,2,374,2],[226,1,231,1],[251,1,252,1],[251,2,251,7],[0,0,0,19],[40,3,40,6],[106,3,106,6],[134,3,134,6],[184,7,185,7],[186,7,187,7],[194,3,194,12],[100,1,103,1],[184,4,185,4],[186,4,187,4],[1,17,1,18],[40,17,40,18],[40,0,41,0],[64,1,65,1],[82,1,83,1],[194,1,195,1],[184,13,185,13],[106,14,106,15],[106,0,107,0],[121,1,123,1],[130,1,131,1],[54,1,55,1],[85,0,85,19],[76,1,79,1],[239,19,245,19],[239,0,241,0],[306,3,306,6],[310,0,310,5],[304,1,306,1],[304,3,304,6],[260,1,261,1],[279,1,283,1],[251,0,252,0],[246,0,249,0],[242,1,249,1],[239,4,239,18],[240,16,240,17],[285,1,287,1],[302,0,302,6],[240,18,241,18],[240,14,240,15],[239,3,241,3],[239,1,241,1],[239,2,241,2],[265,1,267,1],[294,1,297,1],[256,0,257,0],[242,0,245,0],[396,3,396,8],[404,1,405,1],[400,3,400,6],[411,3,411,7],[410,0,410,7],[402,1,403,1],[376,0,379,0],[354,3,354,6],[388,1,391,1],[369,3,369,6],[367,0,369,0],[367,1,369,1],[380,0,383,0],[363,3,363,6],[359,0,359,6],[360,3,360,6],[361,3,361,6],[362,0,362,6],[388,0,391,0],[367,3,367,6],[384,1,387,1],[356,3,356,6],[368,3,368,6],[366,3,366,6],[349,3,349,6],[38,0,38,19],[40,1,41,1],[1,0,2,0],[1,1,2,1],[58,1,61,1],[66,1,67,1],[69,0,69,19],[70,16,71,16],[184,12,185,12],[184,3,185,3],[134,14,134,15],[177,0,177,19],[132,0,132,19],[134,17,134,18],[134,12,134,13],[128,1,129,1],[184,17,185,17],[26,1,27,1],[32,1,35,1],[208,19,213,19],[222,13,222,17],[319,0,321,0],[322,0,324,0],[106,16,107,16],[90,1,93,1],[70,14,70,15],[86,1,89,1],[62,1,63,1],[161,1,162,1],[348,3,348,6],[341,1,342,1],[341,3,341,6],[340,3,340,6],[200,2,201,2],[200,16,200,17],[188,1,193,1],[222,3,222,7],[238,0,238,18],[240,4,240,7],[224,3,225,3],[200,4,200,7],[339,0,339,6],[342,3,342,6],[313,0,315,0],[316,0,318,0],[308,3,308,6],[328,3,328,6],[134,1,135,1],[186,1,187,1],[186,5,187,5],[178,1,179,1],[153,1,156,1],[118,1,120,1],[106,1,107,1],[50,1,51,1],[52,1,53,1],[74,1,75,1],[186,2,187,2],[68,0,68,19],[70,0,71,0],[70,1,71,1],[70,2,71,2],[70,3,70,6],[96,1,97,1],[80,1,81,1],[70,12,70,13],[98,1,99,1],[56,1,57,1],[72,1,73,1],[108,1,109,1],[110,1,111,1],[114,1,117,1],[106,12,106,13],[1,16,2,16],[40,14,40,15],[40,16,41,16],[40,7,40,9],[11,1,13,1],[24,1,25,1],[46,1,47,1],[48,1,49,1],[22,1,23,1],[14,1,19,1],[39,0,39,19],[40,2,41,2],[1,7,1,11],[1,3,1,6],[3,1,8,1],[9,1,10,1],[1,2,2,2],[40,12,40,13],[36,1,37,1],[1,14,1,15],[42,1,43,1],[44,1,45,1],[1,12,1,13],[353,3,353,6],[350,3,350,6],[345,3,345,6],[346,3,346,6],[352,0,352,6],[346,0,350,0],[347,3,347,6],[313,1,324,1],[346,1,350,1],[344,0,344,6],[160,0,160,19],[149,1,152,1],[184,6,185,6],[184,8,185,8],[305,3,305,6],[331,3,331,6],[329,3,329,6],[200,18,201,18],[186,17,187,17],[186,9,187,9],[186,15,187,15],[186,16,187,16],[186,3,187,3],[200,14,200,15],[224,0,225,0],[224,2,225,2],[195,3,195,12],[196,3,196,12],[197,3,197,12],[186,8,187,8],[214,1,215,1],[186,12,187,12],[186,6,187,6],[196,1,197,1],[198,0,198,19],[200,1,201,1],[200,3,201,3],[199,0,199,18],[208,1,213,1],[216,1,217,1],[223,0,223,7],[224,4,224,7],[224,1,225,1],[218,1,220,1],[337,3,337,6],[167,1,168,1],[159,3,159,13],[180,1,183,1],[172,1,173,1],[184,5,185,5],[184,9,185,9],[167,2,168,2],[184,1,185,1],[184,2,185,2],[232,1,237,1],[272,1,273,1],[265,2,267,2],[255,0,255,7],[256,2,256,7],[259,0,259,7],[260,2,260,7],[260,0,261,0],[256,1,257,1],[202,1,207,1],[200,9,200,13],[240,9,240,13],[250,0,250,7],[266,3,266,6],[184,15,185,15],[186,18,187,18],[200,0,201,0],[208,0,213,0],[325,0,325,19],[70,17,70,18],[104,0,104,19],[373,7,373,11],[371,0,371,11],[372,3,372,11],[70,7,70,11],[106,7,106,11],[134,7,134,11],[167,7,167,11],[184,10,185,10],[184,11,185,11],[186,10,187,10],[186,11,187,11],[134,0,135,0],[133,0,133,19],[184,14,185,14],[139,1,141,1],[94,1,95,1],[184,18,185,18],[167,14,167,15],[136,1,137,1],[138,0,138,19],[142,1,143,1],[232,19,237,19],[202,0,207,0],[184,16,185,16],[105,0,105,19],[134,16,135,16],[112,1,113,1],[106,17,106,18],[126,1,127,1],[124,1,125,1],[106,2,107,2],[134,2,135,2],[167,16,168,16],[166,0,166,19],[167,0,168,0],[167,17,167,18],[167,3,167,6],[167,12,167,13],[144,1,146,1],[186,13,187,13],[186,14,187,14]]}
["Шкафы глубиной 420мм"]
["Наименование","Эскиз","Габариты,  ШхГхВ мм.","МДФ фасады",null,null,null,"Марго16",null,null,null,null,"UV-лак",null,"ТСС",null,"ТСС сборный","Стоимость зеркал"]
[null,null,null,"1 ЦК","1 ЦК + патина","2 ЦК","3 ЦК","1 ц.к.","2 ц.к.","3 ц.к.","4 ц.к.","5 ц.к.","UV-лак кромка ABC/AL кромка","кромка 3D","1 ЦК","2 ЦК",null,"Зеркало в рамке**","Зеркало накладное*"]
["Шкаф (420) 1дв 2040х420",null,"420х440х2040",{"$f":"CEILING('прайс-лист2'!E4*Титульный!$AY$1,Титульный!$AY$3)","v":10595},{"$f":"CEILING('прайс-лист2'!F4*Титульный!$AY$1,Титульный!$AY$3)","v":14135},{"$f":"CEILING('прайс-лист2'!G4*Титульный!$AY$1,Титульный!$AY$3)","v":11135},{"$f":"CEILING('прайс-лист2'!H4*Титульный!$AY$1,Титульный!$AY$3)","v":12455},{"$f":"CEILING('прайс-лист2'!I4*Титульный!$AY$1,Титульный!$AY$3)","v":9105},{"$f":"CEILING('прайс-лист2'!J4*Титульный!$AY$1,Титульный!$AY$3)","v":9385},{"$f":"CEILING('прайс-лист2'!K4*Титульный!$AY$1,Титульный!$AY$3)","v":10085},{"$f":"CEILING('прайс-лист2'!L4*Титульный!$AY$1,Титульный!$AY$3)","v":10915},"-",{"$f":"CEILING('прайс-лист2'!N4*Титульный!$AY$1,Титульный!$AY$3)","v":13885},{"$f":"CEILING('прайс-лист2'!O4*Титульный!$AY$1,Титульный!$AY$3)","v":14895},{"$f":"CEILING('прайс-лист2'!P4*Титульный!$AY$1,Титульный!$AY$3)","v":13865},{"$f":"CEILING('прайс-лист2'!Q4*Титульный!$AY$1,Титульный!$AY$3)","v":15075},"-",{"$f":"CEILING('прайс-лист2'!S4*Титульный!$AY$1,Титульный!$AY$3)","v":1344},{"$f":"CEILING('прайс-лист2'!T4*Титульный!$AY$1,Титульный!$AY$3)","v":2490}]
["Шкаф (420) 1дв 2040х560",null,"560х440х2040",{"$f":"CEILING('прайс-лист2'!E5*Титульный!$AY$1,Титульный!$AY$3)","v":12519},{"$f":"CEILING('прайс-лист2'!F5*Титульный!$AY$1,Титульный!$AY$3)","v":17239},{"$f":"CEILING('прайс-лист2'!G5*Титульный!$AY$1,Титульный!$AY$3)","v":13229},{"$f":"CEILING('прайс-лист2'!H5*Титульный!$AY$1,Титульный!$AY$3)","v":14999},{"$f":"CEILING('прайс-лист2'!I5*Титульный!$AY$1,Титульный!$AY$3)","v":10499},{"$f":"CEILING('прайс-лист2'!J5*Титульный!$AY$1,Титульный!$AY$3)","v":10849},{"$f":"CEILING('прайс-лист2'!K5*Титульный!$AY$1,Титульный!$AY$3)","v":11739},{"$f":"CEILING('прайс-лист2'!L5*Титульный!$AY$1,Титульный!$AY$3)","v":12829},"-",{"$f":"CEILING('прайс-лист2'!N5*Титульный!$AY$1,Титульный!$AY$3)","v":16649},{"$f":"CEILING('прайс-лист2'!O5*Титульный!$AY$1,Титульный!$AY$3)","v":17719},{"$f":"CEILING('прайс-лист2'!P5*Титульный!$AY$1,Титульный!$AY$3)","v":16629},{"$f":"CEILING('прайс-лист2'!Q5*Титульный!$AY$1,Титульный!$AY$3)","v":18239},"-",{"$f":"CEILING('прайс-лист2'!S5*Титульный!$AY$1,Титульный!$AY$3)","v":1932},{"$f":"CEILING('прайс-лист2'!T5*Титульный!$AY$1,Титульный!$AY$3)","v":3314}]
["Шкаф (420) 1дв 2240х420",null,"420х440х2240",{"$f":"CEILING('прайс-лист2'!E6*Титульный!$AY$1,Титульный!$AY$3)","v":11487},{"$f":"CEILING('прайс-лист2'!F6*Титульный!$AY$1,Титульный!$AY$3)","v":15367},{"$f":"CEILING('прайс-лист2'!G6*Титульный!$AY$1,Титульный!$AY$3)","v":12067},{"$f":"CEILING('прайс-лист2'!H6*Титульный!$AY$1,Титульный!$AY$3)","v":13527},{"$f":"CEILING('прайс-лист2'!I6*Титульный!$AY$1,Титульный!$AY$3)","v":9847},{"$f":"CEILING('прайс-лист2'!J6*Титульный!$AY$1,Титульный!$AY$3)","v":10147},{"$f":"CEILING('прайс-лист2'!K6*Титульный!$AY$1,Титульный!$AY$3)","v":10917},{"$f":"CEILING('прайс-лист2'!L6*Титульный!$AY$1,Титульный!$AY$3)","v":11827},"-",{"$f":"CEILING('прайс-лист2'!N6*Титульный!$AY$1,Титульный!$AY$3)","v":15077},{"$f":"CEILING('прайс-лист2'!O6*Титульный!$AY$1,Титульный!$AY$3)","v":16177},{"$f":"CEILING('прайс-лист2'!P6*Титульный!$AY$1,Титульный!$AY$3)","v":15057},{"$f":"CEILING('прайс-лист2'!Q6*Титульный!$AY$1,Титульный!$AY$3)","v":16387},"-",{"$f":"CEILING('прайс-лист2'!S6*Титульный!$AY$1,Титульный!$AY$3)","v":1523},{"$f":"CEILING('прайс-лист2'!T6*Титульный!$AY$1,Титульный!$AY$3)","v":2730}]
["Шкаф (420) 1дв 2240х560 ",null,"560х440х2240",{"$f":"CEILING('прайс-лист2'!E7*Титульный!$AY$1,Титульный!$AY$3)","v":13588},{"$f":"CEILING('прайс-лист2'!F7*Титульный!$AY$1,Титульный!$AY$3)","v":18778},{"$f":"CEILING('прайс-лист2'!G7*Титульный!$AY$1,Титульный!$AY$3)","v":14368},{"$f":"CEILING('прайс-лист2'!H7*Титульный!$AY$1,Титульный!$AY$3)","v":16308},{"$f":"CEILING('прайс-лист2'!I7*Титульный!$AY$1,Титульный!$AY$3)","v":11368},{"$f":"CEILING('прайс-лист2'!J7*Титульный!$AY$1,Титульный!$AY$3)","v":11748},{"$f":"CEILING('прайс-лист2'!K7*Титульный!$AY$1,Титульный!$AY$3)","v":12718},{"$f":"CEILING('прайс-лист2'!L7*Титульный!$AY$1,Титульный!$AY$3)","v":13908},"-",{"$f":"CEILING('прайс-лист2'!N7*Титульный!$AY$1,Титульный!$AY$3)","v":18108},{"$f":"CEILING('прайс-лист2'!O7*Титульный!$AY$1,Титульный!$AY$3)","v":19258},{"$f":"CEILING('прайс-лист2'!P7*Титульный!$AY$1,Титульный!$AY$3)","v":18078},{"$f":"CEILING('прайс-лист2'!Q7*Титульный!$AY$1,Титульный!$AY$3)","v":19858},"-",{"$f":"CEILING('прайс-лист2'!S7*Титульный!$AY$1,Титульный!$AY$3)","v":2190},{"$f":"CEILING('прайс-лист2'!T7*Титульный!$AY$1,Титульный!$AY$3)","v":3632}]
["Шкаф (420) 1дв 1240х420",null,"420х440х1240",{"$f":"CEILING('прайс-лист2'!E8*Титульный!$AY$1,Титульный!$AY$3)","v":7177},{"$f":"CEILING('прайс-лист2'!F8*Титульный!$AY$1,Титульный!$AY$3)","v":9297},{"$f":"CEILING('прайс-лист2'!G8*Титульный!$AY$1,Титульный!$AY$3)","v":7497},{"$f":"CEILING('прайс-лист2'!H8*Титульный!$AY$1,Титульный!$AY$3)","v":8287},{"$f":"CEILING('прайс-лист2'!I8*Титульный!$AY$1,Титульный!$AY$3)","v":6297},{"$f":"CEILING('прайс-лист2'!J8*Титульный!$AY$1,Титульный!$AY$3)","v":6467},{"$f":"CEILING('прайс-лист2'!K8*Титульный!$AY$1,Титульный!$AY$3)","v":6897},{"$f":"CEILING('прайс-лист2'!L8*Титульный!$AY$1,Титульный!$AY$3)","v":7397},"-",{"$f":"CEILING('прайс-лист2'!N8*Титульный!$AY$1,Титульный!$AY$3)","v":9207},{"$f":"CEILING('прайс-лист2'!O8*Титульный!$AY$1,Титульный!$AY$3)","v":9887},{"$f":"CEILING('прайс-лист2'!P8*Титульный!$AY$1,Титульный!$AY$3)","v":9197},{"$f":"CEILING('прайс-лист2'!Q8*Титульный!$AY$1,Титульный!$AY$3)","v":9927},"-","-","-"]
["Шкаф (420) 1дв 1240х560",null,"560х440х1240",{"$f":"CEILING('прайс-лист2'!E9*Титульный!$AY$1,Титульный!$AY$3)","v":8251},{"$f":"CEILING('прайс-лист2'!F9*Титульный!$AY$1,Титульный!$AY$3)","v":11081},{"$f":"CEILING('прайс-лист2'!G9*Титульный!$AY$1,Титульный!$AY$3)","v":8681},{"$f":"CEILING('прайс-лист2'!H9*Титульный!$AY$1,Титульный!$AY$3)","v":9731},{"$f":"CEILING('прайс-лист2'!I9*Титульный!$AY$1,Титульный!$AY$3)","v":7051},{"$f":"CEILING('прайс-лист2'!J9*Титульный!$AY$1,Титульный!$AY$3)","v":7271},{"$f":"CEILING('прайс-лист2'!K9*Титульный!$AY$1,Титульный!$AY$3)","v":7811},{"$f":"CEILING('прайс-лист2'!L9*Титульный!$AY$1,Титульный!$AY$3)","v":8471},"-",{"$f":"CEILING('прайс-лист2'!N9*Титульный!$AY$1,Титульный!$AY$3)","v":10811},{"$f":"CEILING('прайс-лист2'!O9*Титульный!$AY$1,Титульный!$AY$3)","v":11551},{"$f":"CEILING('прайс-лист2'!P9*Титульный!$AY$1,Титульный!$AY$3)","v":10801},{"$f":"CEILING('прайс-лист2'!Q9*Титульный!$AY$1,Титульный!$AY$3)","v":11771},"-","-","-"]
["Шкаф (420) 1дв витрина 1240х420",null,"420х440х1240",{"$f":"CEILING('прайс-лист2'!E10*Титульный!$AY$1,Титульный!$AY$3)","v":8338},{"$f":"CEILING('прайс-лист2'!F10*Титульный!$AY$1,Титульный!$AY$3)","v":10458},{"$f":"CEILING('прайс-лист2'!G10*Титульный!$AY$1,Титульный!$AY$3)","v":8658},{"$f":"CEILING('прайс-лист2'!H10*Титульный!$AY$1,Титульный!$AY$3)","v":9448},{"$f":"CEILING('прайс-лист2'!I10*Титульный!$AY$1,Титульный!$AY$3)","v":6951},{"$f":"CEILING('прайс-лист2'!J10*Титульный!$AY$1,Титульный!$AY$3)","v":7061},{"$f":"CEILING('прайс-лист2'!K10*Титульный!$AY$1,Титульный!$AY$3)","v":7401},{"$f":"CEILING('прайс-лист2'!L10*Титульный!$AY$1,Титульный!$AY$3)","v":7861},"-","-","-",{"$f":"CEILING('прайс-лист2'!P10*Титульный!$AY$1,Титульный!$AY$3)","v":10231},{"$f":"CEILING('прайс-лист2'!Q10*Титульный!$AY$1,Титульный!$AY$3)","v":10981},"-","-","-"]
["Шкаф (420) 1дв витрина 1240х560",null,"560х440х1240",{"$f":"CEILING('прайс-лист2'!E11*Титульный!$AY$1,Титульный!$AY$3)","v":9839},{"$f":"CEILING('прайс-лист2'!F11*Титульный!$AY$1,Титульный!$AY$3)","v":12669},{"$f":"CEILING('прайс-лист2'!G11*Титульный!$AY$1,Титульный!$AY$3)","v":10269},{"$f":"CEILING('прайс-лист2'!H11*Титульный!$AY$1,Титульный!$AY$3)","v":11319},{"$f":"CEILING('прайс-лист2'!I11*Титульный!$AY$1,Титульный!$AY$3)","v":7919},{"$f":"CEILING('прайс-лист2'!J11*Титульный!$AY$1,Титульный!$AY$3)","v":8079},{"$f":"CEILING('прайс-лист2'!K11*Титульный!$AY$1,Титульный!$AY$3)","v":8539},{"$f":"CEILING('прайс-лист2'!L11*Титульный!$AY$1,Титульный!$AY$3)","v":9149},"-","-","-",{"$f":"CEILING('прайс-лист2'!P11*Титульный!$AY$1,Титульный!$AY$3)","v":12149},{"$f":"CEILING('прайс-лист2'!Q11*Титульный!$AY$1,Титульный!$AY$3)","v":13159},"-","-","-"]
["Шкаф (420) 1дв витрина 2040х420",null,"420х440х2040",{"$f":"CEILING('прайс-лист2'!E12*Титульный!$AY$1,Титульный!$AY$3)","v":11584},{"$f":"CEILING('прайс-лист2'!F12*Титульный!$AY$1,Титульный!$AY$3)","v":15124},{"$f":"CEILING('прайс-лист2'!G12*Титульный!$AY$1,Титульный!$AY$3)","v":12124},{"$f":"CEILING('прайс-лист2'!H12*Титульный!$AY$1,Титульный!$AY$3)","v":13444},{"$f":"CEILING('прайс-лист2'!I12*Титульный!$AY$1,Титульный!$AY$3)","v":9228},{"$f":"CEILING('прайс-лист2'!J12*Титульный!$AY$1,Титульный!$AY$3)","v":9428},{"$f":"CEILING('прайс-лист2'!K12*Титульный!$AY$1,Титульный!$AY$3)","v":10018},{"$f":"CEILING('прайс-лист2'!L12*Титульный!$AY$1,Титульный!$AY$3)","v":10798},"-","-","-",{"$f":"CEILING('прайс-лист2'!P12*Титульный!$AY$1,Титульный!$AY$3)","v":14578},{"$f":"CEILING('прайс-лист2'!Q12*Титульный!$AY$1,Титульный!$AY$3)","v":15868},"-","-","-"]
["Шкаф (420) 1дв витрина 2040х560",null,"560х440х2040",{"$f":"CEILING('прайс-лист2'!E13*Титульный!$AY$1,Титульный!$AY$3)","v":13224},{"$f":"CEILING('прайс-лист2'!F13*Титульный!$AY$1,Титульный!$AY$3)","v":17944},{"$f":"CEILING('прайс-лист2'!G13*Титульный!$AY$1,Титульный!$AY$3)","v":13934},{"$f":"CEILING('прайс-лист2'!H13*Титульный!$AY$1,Титульный!$AY$3)","v":15704},{"$f":"CEILING('прайс-лист2'!I13*Титульный!$AY$1,Титульный!$AY$3)","v":9979},{"$f":"CEILING('прайс-лист2'!J13*Титульный!$AY$1,Титульный!$AY$3)","v":10239},{"$f":"CEILING('прайс-лист2'!K13*Титульный!$AY$1,Титульный!$AY$3)","v":11029},{"$f":"CEILING('прайс-лист2'!L13*Титульный!$AY$1,Титульный!$AY$3)","v":12069},"-","-","-",{"$f":"CEILING('прайс-лист2'!P13*Титульный!$AY$1,Титульный!$AY$3)","v":16849},{"$f":"CEILING('прайс-лист2'!Q13*Титульный!$AY$1,Титульный!$AY$3)","v":18569},"-"]
["Шкаф (420) 1дв витрина 2240х420",null,"420х440х2240",{"$f":"CEILING('прайс-лист2'!E14*Титульный!$AY$1,Титульный!$AY$3)","v":12658},{"$f":"CEILING('прайс-лист2'!F14*Титульный!$AY$1,Титульный!$AY$3)","v":16538},{"$f":"CEILING('прайс-лист2'!G14*Титульный!$AY$1,Титульный!$AY$3)","v":13238},{"$f":"CEILING('прайс-лист2'!H14*Титульный!$AY$1,Титульный!$AY$3)","v":14698},{"$f":"CEILING('прайс-лист2'!I14*Титульный!$AY$1,Титульный!$AY$3)","v":9955},{"$f":"CEILING('прайс-лист2'!J14*Титульный!$AY$1,Титульный!$AY$3)","v":10165},{"$f":"CEILING('прайс-лист2'!K14*Титульный!$AY$1,Титульный!$AY$3)","v":10815},{"$f":"CEILING('прайс-лист2'!L14*Титульный!$AY$1,Титульный!$AY$3)","v":11675},"-","-","-",{"$f":"CEILING('прайс-лист2'!P14*Титульный!$AY$1,Титульный!$AY$3)","v":15815},{"$f":"CEILING('прайс-лист2'!Q14*Титульный!$AY$1,Титульный!$AY$3)","v":17245},"-","-","-"]
["Шкаф (420) 1дв 2ящ 2040х420",null,"420х440х2040",{"$f":"CEILING('прайс-лист2'!E15*Титульный!$AY$1,Титульный!$AY$3)","v":11717},{"$f":"CEILING('прайс-лист2'!F15*Титульный!$AY$1,Титульный!$AY$3)","v":15237},{"$f":"CEILING('прайс-лист2'!G15*Титульный!$AY$1,Титульный!$AY$3)","v":12247},{"$f":"CEILING('прайс-лист2'!H15*Титульный!$AY$1,Титульный!$AY$3)","v":13557},{"$f":"CEILING('прайс-лист2'!I15*Титульный!$AY$1,Титульный!$AY$3)","v":10267},{"$f":"CEILING('прайс-лист2'!J15*Титульный!$AY$1,Титульный!$AY$3)","v":10577},{"$f":"CEILING('прайс-лист2'!K15*Титульный!$AY$1,Титульный!$AY$3)","v":11317},{"$f":"CEILING('прайс-лист2'!L15*Титульный!$AY$1,Титульный!$AY$3)","v":12187},"-",{"$f":"CEILING('прайс-лист2'!N15*Титульный!$AY$1,Титульный!$AY$3)","v":15317},{"$f":"CEILING('прайс-лист2'!O15*Титульный!$AY$1,Титульный!$AY$3)","v":16677},{"$f":"CEILING('прайс-лист2'!P15*Титульный!$AY$1,Титульный!$AY$3)","v":15297},{"$f":"CEILING('прайс-лист2'!Q15*Титульный!$AY$1,Титульный!$AY$3)","v":16507},"-",{"$f":"CEILING('прайс-лист2'!S15*Титульный!$AY$1,Титульный!$AY$3)","v":1344},{"$f":"CEILING('прайс-лист2'!T15*Титульный!$AY$1,Титульный!$AY$3)","v":2010}]
["Шкаф (420) 1дв 2ящ 2240х420",null,"420х440х2240",{"$f":"CEILING('прайс-лист2'!E16*Титульный!$AY$1,Титульный!$AY$3)","v":12599},{"$f":"CEILING('прайс-лист2'!F16*Титульный!$AY$1,Титульный!$AY$3)","v":16479},{"$f":"CEILING('прайс-лист2'!G16*Титульный!$AY$1,Титульный!$AY$3)","v":13179},{"$f":"CEILING('прайс-лист2'!H16*Титульный!$AY$1,Титульный!$AY$3)","v":14629},{"$f":"CEILING('прайс-лист2'!I16*Титульный!$AY$1,Титульный!$AY$3)","v":10999},{"$f":"CEILING('прайс-лист2'!J16*Титульный!$AY$1,Титульный!$AY$3)","v":11339},{"$f":"CEILING('прайс-лист2'!K16*Титульный!$AY$1,Титульный!$AY$3)","v":12149},{"$f":"CEILING('прайс-лист2'!L16*Титульный!$AY$1,Титульный!$AY$3)","v":13099},"-",{"$f":"CEILING('прайс-лист2'!N16*Титульный!$AY$1,Титульный!$AY$3)","v":16509},{"$f":"CEILING('прайс-лист2'!O16*Титульный!$AY$1,Титульный!$AY$3)","v":17959},{"$f":"CEILING('прайс-лист2'!P16*Титульный!$AY$1,Титульный!$AY$3)","v":16499},{"$f":"CEILING('прайс-лист2'!Q16*Титульный!$AY$1,Титульный!$AY$3)","v":17829},"-",{"$f":"CEILING('прайс-лист2'!S16*Титульный!$AY$1,Титульный!$AY$3)","v":1523},{"$f":"CEILING('прайс-лист2'!T16*Титульный!$AY$1,Титульный!$AY$3)","v":2250}]
["Шкаф (420) 1дв 2ящ 2040х560",null,"560х440х2040",{"$f":"CEILING('прайс-лист2'!E17*Титульный!$AY$1,Титульный!$AY$3)","v":13685},{"$f":"CEILING('прайс-лист2'!F17*Титульный!$AY$1,Титульный!$AY$3)","v":18395},{"$f":"CEILING('прайс-лист2'!G17*Титульный!$AY$1,Титульный!$AY$3)","v":14395},{"$f":"CEILING('прайс-лист2'!H17*Титульный!$AY$1,Титульный!$AY$3)","v":16165},{"$f":"CEILING('прайс-лист2'!I17*Титульный!$AY$1,Титульный!$AY$3)","v":11715},{"$f":"CEILING('прайс-лист2'!J17*Титульный!$AY$1,Титульный!$AY$3)","v":12115},{"$f":"CEILING('прайс-лист2'!K17*Титульный!$AY$1,Титульный!$AY$3)","v":13075},{"$f":"CEILING('прайс-лист2'!L17*Титульный!$AY$1,Титульный!$AY$3)","v":14185},"-",{"$f":"CEILING('прайс-лист2'!N17*Титульный!$AY$1,Титульный!$AY$3)","v":18225},{"$f":"CEILING('прайс-лист2'!O17*Титульный!$AY$1,Титульный!$AY$3)","v":19765},{"$f":"CEILING('прайс-лист2'!P17*Титульный!$AY$1,Титульный!$AY$3)","v":18205},{"$f":"CEILING('прайс-лист2'!Q17*Титульный!$AY$1,Титульный!$AY$3)","v":19815},"-",{"$f":"CEILING('прайс-лист2'!S17*Титульный!$AY$1,Титульный!$AY$3)","v":1932},{"$f":"CEILING('прайс-лист2'!T17*Титульный!$AY$1,Титульный!$AY$3)","v":2677}]
["Шкаф (420) 1дв 2ящ 2240х560",null,"560х440х2240",{"$f":"CEILING('прайс-лист2'!E18*Титульный!$AY$1,Титульный!$AY$3)","v":14733},{"$f":"CEILING('прайс-лист2'!F18*Титульный!$AY$1,Титульный!$AY$3)","v":19923},{"$f":"CEILING('прайс-лист2'!G18*Титульный!$AY$1,Титульный!$AY$3)","v":15523},{"$f":"CEILING('прайс-лист2'!H18*Титульный!$AY$1,Титульный!$AY$3)","v":17463},{"$f":"CEILING('прайс-лист2'!I18*Титульный!$AY$1,Титульный!$AY$3)","v":12563},{"$f":"CEILING('прайс-лист2'!J18*Титульный!$AY$1,Титульный!$AY$3)","v":13003},{"$f":"CEILING('прайс-лист2'!K18*Титульный!$AY$1,Титульный!$AY$3)","v":14043},{"$f":"CEILING('прайс-лист2'!L18*Титульный!$AY$1,Титульный!$AY$3)","v":15263},"-",{"$f":"CEILING('прайс-лист2'!N18*Титульный!$AY$1,Титульный!$AY$3)","v":19673},{"$f":"CEILING('прайс-лист2'!O18*Титульный!$AY$1,Титульный!$AY$3)","v":21303},{"$f":"CEILING('прайс-лист2'!P18*Титульный!$AY$1,Титульный!$AY$3)","v":19653},{"$f":"CEILING('прайс-лист2'!Q18*Титульный!$AY$1,Титульный!$AY$3)","v":21423},"-",{"$f":"CEILING('прайс-лист2'!S18*Титульный!$AY$1,Титульный!$AY$3)","v":2190},{"$f":"CEILING('прайс-лист2'!T18*Титульный!$AY$1,Титульный!$AY$3)","v":2995}]
["Шкаф (420) 1дв 2ящ Шар 2040х420",null,"420х440х2040",{"$f":"CEILING('прайс-лист2'!E19*Титульный!$AY$1,Титульный!$AY$3)","v":12359},{"$f":"CEILING('прайс-лист2'!F19*Титульный!$AY$1,Титульный!$AY$3)","v":15879},{"$f":"CEILING('прайс-лист2'!G19*Титульный!$AY$1,Титульный!$AY$3)","v":12889},{"$f":"CEILING('прайс-лист2'!H19*Титульный!$AY$1,Титульный!$AY$3)","v":14199},{"$f":"CEILING('прайс-лист2'!I19*Титульный!$AY$1,Титульный!$AY$3)","v":10909},{"$f":"CEILING('прайс-лист2'!J19*Титульный!$AY$1,Титульный!$AY$3)","v":11219},{"$f":"CEILING('прайс-лист2'!K19*Титульный!$AY$1,Титульный!$AY$3)","v":11959},{"$f":"CEILING('прайс-лист2'!L19*Титульный!$AY$1,Титульный!$AY$3)","v":12829},"-",{"$f":"CEILING('прайс-лист2'!N19*Титульный!$AY$1,Титульный!$AY$3)","v":15959},{"$f":"CEILING('прайс-лист2'!O19*Титульный!$AY$1,Титульный!$AY$3)","v":17319},{"$f":"CEILING('прайс-лист2'!P19*Титульный!$AY$1,Титульный!$AY$3)","v":15939},{"$f":"CEILING('прайс-лист2'!Q19*Титульный!$AY$1,Титульный!$AY$3)","v":17149},"-",{"$f":"CEILING('прайс-лист2'!S19*Титульный!$AY$1,Титульный!$AY$3)","v":1344},{"$f":"CEILING('прайс-лист2'!T19*Титульный!$AY$1,Титульный!$AY$3)","v":2010}]
["Шкаф (420) 1дв 2ящ Шар 2240х420",null,"420х440х2240",{"$f":"CEILING('прайс-лист2'!E20*Титульный!$AY$1,Титульный!$AY$3)","v":13229},{"$f":"CEILING('прайс-лист2'!F20*Титульный!$AY$1,Титульный!$AY$3)","v":17109},{"$f":"CEILING('прайс-лист2'!G20*Титульный!$AY$1,Титульный!$AY$3)","v":13809},{"$f":"CEILING('прайс-лист2'!H20*Титульный!$AY$1,Титульный!$AY$3)","v":15259},{"$f":"CEILING('прайс-лист2'!I20*Титульный!$AY$1,Титульный!$AY$3)","v":11629},{"$f":"CEILING('прайс-лист2'!J20*Титульный!$AY$1,Титульный!$AY$3)","v":11969},{"$f":"CEILING('прайс-лист2'!K20*Титульный!$AY$1,Титульный!$AY$3)","v":12779},{"$f":"CEILING('прайс-лист2'!L20*Титульный!$AY$1,Титульный!$AY$3)","v":13729},"-",{"$f":"CEILING('прайс-лист2'!N20*Титульный!$AY$1,Титульный!$AY$3)","v":17139},{"$f":"CEILING('прайс-лист2'!O20*Титульный!$AY$1,Титульный!$AY$3)","v":18589},{"$f":"CEILING('прайс-лист2'!P20*Титульный!$AY$1,Титульный!$AY$3)","v":17129},{"$f":"CEILING('прайс-лист2'!Q20*Титульный!$AY$1,Титульный!$AY$3)","v":18459},"-",{"$f":"CEILING('прайс-лист2'!S20*Титульный!$AY$1,Титульный!$AY$3)","v":1523},{"$f":"CEILING('прайс-лист2'!T20*Титульный!$AY$1,Титульный!$AY$3)","v":2250}]
["Шкаф (420) 1дв 2ящ Шар 2040х560",null,"560х440х2040",{"$f":"CEILING('прайс-лист2'!E21*Титульный!$AY$1,Титульный!$AY$3)","v":14256},{"$f":"CEILING('прайс-лист2'!F21*Титульный!$AY$1,Титульный!$AY$3)","v":18966},{"$f":"CEILING('прайс-лист2'!G21*Титульный!$AY$1,Титульный!$AY$3)","v":14966},{"$f":"CEILING('прайс-лист2'!H21*Титульный!$AY$1,Титульный!$AY$3)","v":16736},{"$f":"CEILING('прайс-лист2'!I21*Титульный!$AY$1,Титульный!$AY$3)","v":12286},{"$f":"CEILING('прайс-лист2'!J21*Титульный!$AY$1,Титульный!$AY$3)","v":12686},{"$f":"CEILING('прайс-лист2'!K21*Титульный!$AY$1,Титульный!$AY$3)","v":13646},{"$f":"CEILING('прайс-лист2'!L21*Титульный!$AY$1,Титульный!$AY$3)","v":14756},"-",{"$f":"CEILING('прайс-лист2'!N21*Титульный!$AY$1,Титульный!$AY$3)","v":18796},{"$f":"CEILING('прайс-лист2'!O21*Титульный!$AY$1,Титульный!$AY$3)","v":20336},{"$f":"CEILING('прайс-лист2'!P21*Титульный!$AY$1,Титульный!$AY$3)","v":18776},{"$f":"CEILING('прайс-лист2'!Q21*Титульный!$AY$1,Титульный!$AY$3)","v":20386},"-",{"$f":"CEILING('прайс-лист2'!S21*Титульный!$AY$1,Титульный!$AY$3)","v":1932},{"$f":"CEILING('прайс-лист2'!T21*Титульный!$AY$1,Титульный!$AY$3)","v":2677}]
["Шкаф (420) 1дв 2ящ Шар 2240х560",null,"560х440х2240",{"$f":"CEILING('прайс-лист2'!E22*Титульный!$AY$1,Титульный!$AY$3)","v":15258},{"$f":"CEILING('прайс-лист2'!F22*Титульный!$AY$1,Титульный!$AY$3)","v":20448},{"$f":"CEILING('прайс-лист2'!G22*Титульный!$AY$1,Титульный!$AY$3)","v":16048},{"$f":"CEILING('прайс-лист2'!H22*Титульный!$AY$1,Титульный!$AY$3)","v":17988},{"$f":"CEILING('прайс-лист2'!I22*Титульный!$AY$1,Титульный!$AY$3)","v":13088},{"$f":"CEILING('прайс-лист2'!J22*Титульный!$AY$1,Титульный!$AY$3)","v":13528},{"$f":"CEILING('прайс-лист2'!K22*Титульный!$AY$1,Титульный!$AY$3)","v":14568},{"$f":"CEILING('прайс-лист2'!L22*Титульный!$AY$1,Титульный!$AY$3)","v":15788},"-",{"$f":"CEILING('прайс-лист2'!N22*Титульный!$AY$1,Титульный!$AY$3)","v":20198},{"$f":"CEILING('прайс-лист2'!O22*Титульный!$AY$1,Титульный!$AY$3)","v":21828},{"$f":"CEILING('прайс-лист2'!P22*Титульный!$AY$1,Титульный!$AY$3)","v":20178},{"$f":"CEILING('прайс-лист2'!Q22*Титульный!$AY$1,Титульный!$AY$3)","v":21948},"-",{"$f":"CEILING('прайс-лист2'!S22*Титульный!$AY$1,Титульный!$AY$3)","v":2190},{"$f":"CEILING('прайс-лист2'!T22*Титульный!$AY$1,Титульный!$AY$3)","v":2995}]
["Шкаф (420) 1дв 2ящ витрина 2040х420",null,"420х440х2040",{"$f":"CEILING('прайс-лист2'!E23*Титульный!$AY$1,Титульный!$AY$3)","v":12572},{"$f":"CEILING('прайс-лист2'!F23*Титульный!$AY$1,Титульный!$AY$3)","v":16092},{"$f":"CEILING('прайс-лист2'!G23*Титульный!$AY$1,Титульный!$AY$3)","v":13102},{"$f":"CEILING('прайс-лист2'!H23*Титульный!$AY$1,Титульный!$AY$3)","v":14412},{"$f":"CEILING('прайс-лист2'!I23*Титульный!$AY$1,Титульный!$AY$3)","v":10360},{"$f":"CEILING('прайс-лист2'!J23*Титульный!$AY$1,Титульный!$AY$3)","v":10600},{"$f":"CEILING('прайс-лист2'!K23*Титульный!$AY$1,Титульный!$AY$3)","v":11240},{"$f":"CEILING('прайс-лист2'!L23*Титульный!$AY$1,Титульный!$AY$3)","v":12060},"-","-","-",{"$f":"CEILING('прайс-лист2'!P23*Титульный!$AY$1,Титульный!$AY$3)","v":15880},{"$f":"CEILING('прайс-лист2'!Q23*Титульный!$AY$1,Титульный!$AY$3)","v":17140},"-","-","-"]
["Шкаф (420) 1дв 2ящ витрина 2240х420",null,"420х440х2240",{"$f":"CEILING('прайс-лист2'!E24*Титульный!$AY$1,Титульный!$AY$3)","v":13953},{"$f":"CEILING('прайс-лист2'!F24*Титульный!$AY$1,Титульный!$AY$3)","v":17833},{"$f":"CEILING('прайс-лист2'!G24*Титульный!$AY$1,Титульный!$AY$3)","v":14533},{"$f":"CEILING('прайс-лист2'!H24*Титульный!$AY$1,Титульный!$AY$3)","v":15983},{"$f":"CEILING('прайс-лист2'!I24*Титульный!$AY$1,Титульный!$AY$3)","v":11080},{"$f":"CEILING('прайс-лист2'!J24*Титульный!$AY$1,Титульный!$AY$3)","v":11340},{"$f":"CEILING('прайс-лист2'!K24*Титульный!$AY$1,Титульный!$AY$3)","v":12040},{"$f":"CEILING('прайс-лист2'!L24*Титульный!$AY$1,Титульный!$AY$3)","v":12950},"-","-","-",{"$f":"CEILING('прайс-лист2'!P24*Титульный!$AY$1,Титульный!$AY$3)","v":17110},{"$f":"CEILING('прайс-лист2'!Q24*Титульный!$AY$1,Титульный!$AY$3)","v":18510},"-","-","-"]
["Шкаф (420) 2дв 1ящ 2040х420",null,"420х440х2040",{"$f":"CEILING('прайс-лист2'!E25*Титульный!$AY$1,Титульный!$AY$3)","v":11106},{"$f":"CEILING('прайс-лист2'!F25*Титульный!$AY$1,Титульный!$AY$3)","v":14636},{"$f":"CEILING('прайс-лист2'!G25*Титульный!$AY$1,Титульный!$AY$3)","v":11636},{"$f":"CEILING('прайс-лист2'!H25*Титульный!$AY$1,Титульный!$AY$3)","v":12946},{"$f":"CEILING('прайс-лист2'!I25*Титульный!$AY$1,Титульный!$AY$3)","v":9656},{"$f":"CEILING('прайс-лист2'!J25*Титульный!$AY$1,Титульный!$AY$3)","v":9956},{"$f":"CEILING('прайс-лист2'!K25*Титульный!$AY$1,Титульный!$AY$3)","v":10706},{"$f":"CEILING('прайс-лист2'!L25*Титульный!$AY$1,Титульный!$AY$3)","v":11566},"-",{"$f":"CEILING('прайс-лист2'!N25*Титульный!$AY$1,Титульный!$AY$3)","v":14696},{"$f":"CEILING('прайс-лист2'!O25*Титульный!$AY$1,Титульный!$AY$3)","v":16056},{"$f":"CEILING('прайс-лист2'!P25*Титульный!$AY$1,Титульный!$AY$3)","v":14676},{"$f":"CEILING('прайс-лист2'!Q25*Титульный!$AY$1,Титульный!$AY$3)","v":15896},"-","-","-"]
["Шкаф (420) 2дв 1ящ 2240х420",null,"420х440х2240",{"$f":"CEILING('прайс-лист2'!E26*Титульный!$AY$1,Титульный!$AY$3)","v":11962},{"$f":"CEILING('прайс-лист2'!F26*Титульный!$AY$1,Титульный!$AY$3)","v":15842},{"$f":"CEILING('прайс-лист2'!G26*Титульный!$AY$1,Титульный!$AY$3)","v":12552},{"$f":"CEILING('прайс-лист2'!H26*Титульный!$AY$1,Титульный!$AY$3)","v":13992},{"$f":"CEILING('прайс-лист2'!I26*Титульный!$AY$1,Титульный!$AY$3)","v":10362},{"$f":"CEILING('прайс-лист2'!J26*Титульный!$AY$1,Титульный!$AY$3)","v":10692},{"$f":"CEILING('прайс-лист2'!K26*Титульный!$AY$1,Титульный!$AY$3)","v":11512},{"$f":"CEILING('прайс-лист2'!L26*Титульный!$AY$1,Титульный!$AY$3)","v":12452},"-",{"$f":"CEILING('прайс-лист2'!N26*Титульный!$AY$1,Титульный!$AY$3)","v":15872},{"$f":"CEILING('прайс-лист2'!O26*Титульный!$AY$1,Титульный!$AY$3)","v":17312},{"$f":"CEILING('прайс-лист2'!P26*Титульный!$AY$1,Титульный!$AY$3)","v":15852},{"$f":"CEILING('прайс-лист2'!Q26*Титульный!$AY$1,Титульный!$AY$3)","v":17182},"-","-","-"]
["Шкаф (420) 2дв 1ящ витрина 2040х420",null,"420х440х2040",{"$f":"CEILING('прайс-лист2'!E27*Титульный!$AY$1,Титульный!$AY$3)","v":11956},{"$f":"CEILING('прайс-лист2'!F27*Титульный!$AY$1,Титульный!$AY$3)","v":15486},{"$f":"CEILING('прайс-лист2'!G27*Титульный!$AY$1,Титульный!$AY$3)","v":12486},{"$f":"CEILING('прайс-лист2'!H27*Титульный!$AY$1,Титульный!$AY$3)","v":13796},{"$f":"CEILING('прайс-лист2'!I27*Титульный!$AY$1,Титульный!$AY$3)","v":9760},{"$f":"CEILING('прайс-лист2'!J27*Титульный!$AY$1,Титульный!$AY$3)","v":9980},{"$f":"CEILING('прайс-лист2'!K27*Титульный!$AY$1,Титульный!$AY$3)","v":10570},{"$f":"CEILING('прайс-лист2'!L27*Титульный!$AY$1,Титульный!$AY$3)","v":11350},"-","-","-",{"$f":"CEILING('прайс-лист2'!P27*Титульный!$AY$1,Титульный!$AY$3)","v":15380},{"$f":"CEILING('прайс-лист2'!Q27*Титульный!$AY$1,Титульный!$AY$3)","v":16620},"-","-","-"]
["Шкаф (420) 2дв 1ящ витрина 2240х420",null,"420х440х2240",{"$f":"CEILING('прайс-лист2'!E28*Титульный!$AY$1,Титульный!$AY$3)","v":13015},{"$f":"CEILING('прайс-лист2'!F28*Титульный!$AY$1,Титульный!$AY$3)","v":16895},{"$f":"CEILING('прайс-лист2'!G28*Титульный!$AY$1,Титульный!$AY$3)","v":13605},{"$f":"CEILING('прайс-лист2'!H28*Титульный!$AY$1,Титульный!$AY$3)","v":15045},{"$f":"CEILING('прайс-лист2'!I28*Титульный!$AY$1,Титульный!$AY$3)","v":10578},{"$f":"CEILING('прайс-лист2'!J28*Титульный!$AY$1,Титульный!$AY$3)","v":10818},{"$f":"CEILING('прайс-лист2'!K28*Титульный!$AY$1,Титульный!$AY$3)","v":11468},{"$f":"CEILING('прайс-лист2'!L28*Титульный!$AY$1,Титульный!$AY$3)","v":12328},"-","-","-",{"$f":"CEILING('прайс-лист2'!P28*Титульный!$AY$1,Титульный!$AY$3)","v":16718},{"$f":"CEILING('прайс-лист2'!Q28*Титульный!$AY$1,Титульный!$AY$3)","v":18088},"-","-","-"]
["Шкаф (420) 2дв 1ящ шар 2040х420",null,"420х440х2040",{"$f":"CEILING('прайс-лист2'!E29*Титульный!$AY$1,Титульный!$AY$3)","v":11356},{"$f":"CEILING('прайс-лист2'!F29*Титульный!$AY$1,Титульный!$AY$3)","v":14886},{"$f":"CEILING('прайс-лист2'!G29*Титульный!$AY$1,Титульный!$AY$3)","v":11886},{"$f":"CEILING('прайс-лист2'!H29*Титульный!$AY$1,Титульный!$AY$3)","v":13196},{"$f":"CEILING('прайс-лист2'!I29*Титульный!$AY$1,Титульный!$AY$3)","v":9906},{"$f":"CEILING('прайс-лист2'!J29*Титульный!$AY$1,Титульный!$AY$3)","v":10206},{"$f":"CEILING('прайс-лист2'!K29*Титульный!$AY$1,Титульный!$AY$3)","v":10956},{"$f":"CEILING('прайс-лист2'!L29*Титульный!$AY$1,Титульный!$AY$3)","v":11816},"-",{"$f":"CEILING('прайс-лист2'!N29*Титульный!$AY$1,Титульный!$AY$3)","v":14946},{"$f":"CEILING('прайс-лист2'!O29*Титульный!$AY$1,Титульный!$AY$3)","v":16306},{"$f":"CEILING('прайс-лист2'!P29*Титульный!$AY$1,Титульный!$AY$3)","v":14926},{"$f":"CEILING('прайс-лист2'!Q29*Титульный!$AY$1,Титульный!$AY$3)","v":16146},"-"]
["Шкаф (420) 2дв 1ящ шар 2240х420",null,"420х440х2240",{"$f":"CEILING('прайс-лист2'!E30*Титульный!$AY$1,Титульный!$AY$3)","v":12201},{"$f":"CEILING('прайс-лист2'!F30*Титульный!$AY$1,Титульный!$AY$3)","v":16081},{"$f":"CEILING('прайс-лист2'!G30*Титульный!$AY$1,Титульный!$AY$3)","v":12791},{"$f":"CEILING('прайс-лист2'!H30*Титульный!$AY$1,Титульный!$AY$3)","v":14231},{"$f":"CEILING('прайс-лист2'!I30*Титульный!$AY$1,Титульный!$AY$3)","v":10601},{"$f":"CEILING('прайс-лист2'!J30*Титульный!$AY$1,Титульный!$AY$3)","v":10931},{"$f":"CEILING('прайс-лист2'!K30*Титульный!$AY$1,Титульный!$AY$3)","v":11751},{"$f":"CEILING('прайс-лист2'!L30*Титульный!$AY$1,Титульный!$AY$3)","v":12691},"-",{"$f":"CEILING('прайс-лист2'!N30*Титульный!$AY$1,Титульный!$AY$3)","v":16111},{"$f":"CEILING('прайс-лист2'!O30*Титульный!$AY$1,Титульный!$AY$3)","v":17551},{"$f":"CEILING('прайс-лист2'!P30*Титульный!$AY$1,Титульный!$AY$3)","v":16091},{"$f":"CEILING('прайс-лист2'!Q30*Титульный!$AY$1,Титульный!$AY$3)","v":17421},"-"]
["Шкаф (420) 2дв 1ящ шар витрина 2040х420",null,"420х440х2040",{"$f":"CEILING('прайс-лист2'!E31*Титульный!$AY$1,Титульный!$AY$3)","v":12332},{"$f":"CEILING('прайс-лист2'!F31*Титульный!$AY$1,Титульный!$AY$3)","v":15862},{"$f":"CEILING('прайс-лист2'!G31*Титульный!$AY$1,Титульный!$AY$3)","v":12862},{"$f":"CEILING('прайс-лист2'!H31*Титульный!$AY$1,Титульный!$AY$3)","v":14172},{"$f":"CEILING('прайс-лист2'!I31*Титульный!$AY$1,Титульный!$AY$3)","v":10136},{"$f":"CEILING('прайс-лист2'!J31*Титульный!$AY$1,Титульный!$AY$3)","v":10356},{"$f":"CEILING('прайс-лист2'!K31*Титульный!$AY$1,Титульный!$AY$3)","v":10946},{"$f":"CEILING('прайс-лист2'!L31*Титульный!$AY$1,Титульный!$AY$3)","v":11726},"-",{"$f":"CEILING('прайс-лист2'!N31*Титульный!$AY$1,Титульный!$AY$3)","v":15776},{"$f":"CEILING('прайс-лист2'!O31*Титульный!$AY$1,Титульный!$AY$3)","v":17576},{"$f":"CEILING('прайс-лист2'!P31*Титульный!$AY$1,Титульный!$AY$3)","v":15756},{"$f":"CEILING('прайс-лист2'!Q31*Титульный!$AY$1,Титульный!$AY$3)","v":16996},"-"]
["Шкаф (420) 2дв 1ящ шар витрина 2240х420",null,"420х440х2240",{"$f":"CEILING('прайс-лист2'!E32*Титульный!$AY$1,Титульный!$AY$3)","v":13248},{"$f":"CEILING('прайс-лист2'!F32*Титульный!$AY$1,Титульный!$AY$3)","v":17128},{"$f":"CEILING('прайс-лист2'!G32*Титульный!$AY$1,Титульный!$AY$3)","v":13838},{"$f":"CEILING('прайс-лист2'!H32*Титульный!$AY$1,Титульный!$AY$3)","v":15278},{"$f":"CEILING('прайс-лист2'!I32*Титульный!$AY$1,Титульный!$AY$3)","v":10811},{"$f":"CEILING('прайс-лист2'!J32*Титульный!$AY$1,Титульный!$AY$3)","v":11051},{"$f":"CEILING('прайс-лист2'!K32*Титульный!$AY$1,Титульный!$AY$3)","v":11701},{"$f":"CEILING('прайс-лист2'!L32*Титульный!$AY$1,Титульный!$AY$3)","v":12561},"-",{"$f":"CEILING('прайс-лист2'!N32*Титульный!$AY$1,Титульный!$AY$3)","v":16971},{"$f":"CEILING('прайс-лист2'!O32*Титульный!$AY$1,Титульный!$AY$3)","v":18861},{"$f":"CEILING('прайс-лист2'!P32*Титульный!$AY$1,Титульный!$AY$3)","v":16951},{"$f":"CEILING('прайс-лист2'!Q32*Титульный!$AY$1,Титульный!$AY$3)","v":18321},"-"]
["Шкаф (420) 2дв 2040х840",null,"840х440х2040",{"$f":"CEILING('прайс-лист2'!E33*Титульный!$AY$1,Титульный!$AY$3)","v":17798},{"$f":"CEILING('прайс-лист2'!F33*Титульный!$AY$1,Титульный!$AY$3)","v":24878},{"$f":"CEILING('прайс-лист2'!G33*Титульный!$AY$1,Титульный!$AY$3)","v":18878},{"$f":"CEILING('прайс-лист2'!H33*Титульный!$AY$1,Титульный!$AY$3)","v":21518},{"$f":"CEILING('прайс-лист2'!I33*Титульный!$AY$1,Титульный!$AY$3)","v":14818},{"$f":"CEILING('прайс-лист2'!J33*Титульный!$AY$1,Титульный!$AY$3)","v":15378},{"$f":"CEILING('прайс-лист2'!K33*Титульный!$AY$1,Титульный!$AY$3)","v":16778},{"$f":"CEILING('прайс-лист2'!L33*Титульный!$AY$1,Титульный!$AY$3)","v":18438},"-",{"$f":"CEILING('прайс-лист2'!N33*Титульный!$AY$1,Титульный!$AY$3)","v":24378},{"$f":"CEILING('прайс-лист2'!O33*Титульный!$AY$1,Титульный!$AY$3)","v":26398},{"$f":"CEILING('прайс-лист2'!P33*Титульный!$AY$1,Титульный!$AY$3)","v":24338},{"$f":"CEILING('прайс-лист2'!Q33*Титульный!$AY$1,Титульный!$AY$3)","v":26758},"-",{"$f":"CEILING('прайс-лист2'!S33*Титульный!$AY$1,Титульный!$AY$3)","v":2688},{"$f":"CEILING('прайс-лист2'!T33*Титульный!$AY$1,Титульный!$AY$3)","v":4980}]
["Шкаф (420) 2дв 2240х840 ",null,"840х440х2240",{"$f":"CEILING('прайс-лист2'!E34*Титульный!$AY$1,Титульный!$AY$3)","v":19305},{"$f":"CEILING('прайс-лист2'!F34*Титульный!$AY$1,Титульный!$AY$3)","v":27065},{"$f":"CEILING('прайс-лист2'!G34*Титульный!$AY$1,Титульный!$AY$3)","v":20465},{"$f":"CEILING('прайс-лист2'!H34*Титульный!$AY$1,Титульный!$AY$3)","v":23385},{"$f":"CEILING('прайс-лист2'!I34*Титульный!$AY$1,Титульный!$AY$3)","v":16025},{"$f":"CEILING('прайс-лист2'!J34*Титульный!$AY$1,Титульный!$AY$3)","v":16625},{"$f":"CEILING('прайс-лист2'!K34*Титульный!$AY$1,Титульный!$AY$3)","v":18165},{"$f":"CEILING('прайс-лист2'!L34*Титульный!$AY$1,Титульный!$AY$3)","v":19985},"-",{"$f":"CEILING('прайс-лист2'!N34*Титульный!$AY$1,Титульный!$AY$3)","v":26485},{"$f":"CEILING('прайс-лист2'!O34*Титульный!$AY$1,Титульный!$AY$3)","v":28685},{"$f":"CEILING('прайс-лист2'!P34*Титульный!$AY$1,Титульный!$AY$3)","v":26445},{"$f":"CEILING('прайс-лист2'!Q34*Титульный!$AY$1,Титульный!$AY$3)","v":29105},"-",{"$f":"CEILING('прайс-лист2'!S34*Титульный!$AY$1,Титульный!$AY$3)","v":3046},{"$f":"CEILING('прайс-лист2'!T34*Титульный!$AY$1,Титульный!$AY$3)","v":5460}]
["Шкаф (420) комб 2дв 2040х840",null,"840х440х2040",{"$f":"CEILING('прайс-лист2'!E35*Титульный!$AY$1,Титульный!$AY$3)","v":19323},{"$f":"CEILING('прайс-лист2'!F35*Титульный!$AY$1,Титульный!$AY$3)","v":26403},{"$f":"CEILING('прайс-лист2'!G35*Титульный!$AY$1,Титульный!$AY$3)","v":20403},{"$f":"CEILING('прайс-лист2'!H35*Титульный!$AY$1,Титульный!$AY$3)","v":23043},{"$f":"CEILING('прайс-лист2'!I35*Титульный!$AY$1,Титульный!$AY$3)","v":16343},{"$f":"CEILING('прайс-лист2'!J35*Титульный!$AY$1,Титульный!$AY$3)","v":16903},{"$f":"CEILING('прайс-лист2'!K35*Титульный!$AY$1,Титульный!$AY$3)","v":18303},{"$f":"CEILING('прайс-лист2'!L35*Титульный!$AY$1,Титульный!$AY$3)","v":19963},"-",{"$f":"CEILING('прайс-лист2'!N35*Титульный!$AY$1,Титульный!$AY$3)","v":25903},{"$f":"CEILING('прайс-лист2'!O35*Титульный!$AY$1,Титульный!$AY$3)","v":27923},{"$f":"CEILING('прайс-лист2'!P35*Титульный!$AY$1,Титульный!$AY$3)","v":25863},{"$f":"CEILING('прайс-лист2'!Q35*Титульный!$AY$1,Титульный!$AY$3)","v":28283},"-",{"$f":"CEILING('прайс-лист2'!S35*Титульный!$AY$1,Титульный!$AY$3)","v":2688},{"$f":"CEILING('прайс-лист2'!T35*Титульный!$AY$1,Титульный!$AY$3)","v":4980}]
["Шкаф (420) комб 2дв 2240х840 ",null,"840х440х2240",{"$f":"CEILING('прайс-лист2'!E36*Титульный!$AY$1,Титульный!$AY$3)","v":20685},{"$f":"CEILING('прайс-лист2'!F36*Титульный!$AY$1,Титульный!$AY$3)","v":28445},{"$f":"CEILING('прайс-лист2'!G36*Титульный!$AY$1,Титульный!$AY$3)","v":21845},{"$f":"CEILING('прайс-лист2'!H36*Титульный!$AY$1,Титульный!$AY$3)","v":24765},{"$f":"CEILING('прайс-лист2'!I36*Титульный!$AY$1,Титульный!$AY$3)","v":17405},{"$f":"CEILING('прайс-лист2'!J36*Титульный!$AY$1,Титульный!$AY$3)","v":18005},{"$f":"CEILING('прайс-лист2'!K36*Титульный!$AY$1,Титульный!$AY$3)","v":19545},{"$f":"CEILING('прайс-лист2'!L36*Титульный!$AY$1,Титульный!$AY$3)","v":21365},"-",{"$f":"CEILING('прайс-лист2'!N36*Титульный!$AY$1,Титульный!$AY$3)","v":27865},{"$f":"CEILING('прайс-лист2'!O36*Титульный!$AY$1,Титульный!$AY$3)","v":30065},{"$f":"CEILING('прайс-лист2'!P36*Титульный!$AY$1,Титульный!$AY$3)","v":27825},{"$f":"CEILING('прайс-лист2'!Q36*Титульный!$AY$1,Титульный!$AY$3)","v":30485},"-",{"$f":"CEILING('прайс-лист2'!S36*Титульный!$AY$1,Титульный!$AY$3)","v":3046},{"$f":"CEILING('прайс-лист2'!T36*Титульный!$AY$1,Титульный!$AY$3)","v":5460}]
["Шкаф (420) 2дв витрина 2040х840",null,"840х440х2040",{"$f":"CEILING('прайс-лист2'!E37*Титульный!$AY$1,Титульный!$AY$3)","v":21870},{"$f":"CEILING('прайс-лист2'!F37*Титульный!$AY$1,Титульный!$AY$3)","v":28950},{"$f":"CEILING('прайс-лист2'!G37*Титульный!$AY$1,Титульный!$AY$3)","v":22950},{"$f":"CEILING('прайс-лист2'!H37*Титульный!$AY$1,Титульный!$AY$3)","v":25590},{"$f":"CEILING('прайс-лист2'!I37*Титульный!$AY$1,Титульный!$AY$3)","v":15058},{"$f":"CEILING('прайс-лист2'!J37*Титульный!$AY$1,Титульный!$AY$3)","v":15458},{"$f":"CEILING('прайс-лист2'!K37*Титульный!$AY$1,Титульный!$AY$3)","v":16638},{"$f":"CEILING('прайс-лист2'!L37*Титульный!$AY$1,Титульный!$AY$3)","v":18198},"-","-","-",{"$f":"CEILING('прайс-лист2'!P37*Титульный!$AY$1,Титульный!$AY$3)","v":25758},{"$f":"CEILING('прайс-лист2'!Q37*Титульный!$AY$1,Титульный!$AY$3)","v":28338},"-","-","-"]
["Шкаф (420) 2дв витрина 2240х840",null,"840х440х2240",{"$f":"CEILING('прайс-лист2'!E38*Титульный!$AY$1,Титульный!$AY$3)","v":23777},{"$f":"CEILING('прайс-лист2'!F38*Титульный!$AY$1,Титульный!$AY$3)","v":31537},{"$f":"CEILING('прайс-лист2'!G38*Титульный!$AY$1,Титульный!$AY$3)","v":24937},{"$f":"CEILING('прайс-лист2'!H38*Титульный!$AY$1,Титульный!$AY$3)","v":27857},{"$f":"CEILING('прайс-лист2'!I38*Титульный!$AY$1,Титульный!$AY$3)","v":16261},{"$f":"CEILING('прайс-лист2'!J38*Титульный!$AY$1,Титульный!$AY$3)","v":16681},{"$f":"CEILING('прайс-лист2'!K38*Титульный!$AY$1,Титульный!$AY$3)","v":17981},{"$f":"CEILING('прайс-лист2'!L38*Титульный!$AY$1,Титульный!$AY$3)","v":19701},"-","-","-",{"$f":"CEILING('прайс-лист2'!P38*Титульный!$AY$1,Титульный!$AY$3)","v":27981},{"$f":"CEILING('прайс-лист2'!Q38*Титульный!$AY$1,Титульный!$AY$3)","v":30841},"-","-","-"]
["Внимание!!! Для наборов мебели \"Марго\" использовать только накладные зеркала"]
["Шкафы глубиной 420мм"]
["Наименование","Эскиз","Габариты,  ШхГхВ мм.","МДФ фасады",null,null,null,"Марго16",null,null,null,null,"UV-лак",null,"ТСС",null,"ТСС сборный","Стоимость зеркал"]
[null,null,null,"1 ЦК","1 ЦК + патина","2 ЦК","3 ЦК","1 ц.к.","2 ц.к.","3 ц.к.","4 ц.к.","5 ц.к.","UV-лак кромка ABC/AL кромка","кромка 3D","1 ЦК","2 ЦК",null,"Зеркало в рамке**","Зеркало накладное*"]
["Шкаф (420) 2дв 2ящ 2040х840",null,"840х440х2040",{"$f":"CEILING('прайс-лист2'!E39*Титульный!$AY$1,Титульный!$AY$3)","v":19010},{"$f":"CEILING('прайс-лист2'!F39*Титульный!$AY$1,Титульный!$AY$3)","v":26050},{"$f":"CEILING('прайс-лист2'!G39*Титульный!$AY$1,Титульный!$AY$3)","v":20090},{"$f":"CEILING('прайс-лист2'!H39*Титульный!$AY$1,Титульный!$AY$3)","v":22710},{"$f":"CEILING('прайс-лист2'!I39*Титульный!$AY$1,Титульный!$AY$3)","v":16090},{"$f":"CEILING('прайс-лист2'!J39*Титульный!$AY$1,Титульный!$AY$3)","v":16690},{"$f":"CEILING('прайс-лист2'!K39*Титульный!$AY$1,Титульный!$AY$3)","v":18170},{"$f":"CEILING('прайс-лист2'!L39*Титульный!$AY$1,Титульный!$AY$3)","v":19870},"-",{"$f":"CEILING('прайс-лист2'!N39*Титульный!$AY$1,Титульный!$AY$3)","v":26050},{"$f":"CEILING('прайс-лист2'!O39*Титульный!$AY$1,Титульный!$AY$3)","v":28610},{"$f":"CEILING('прайс-лист2'!P39*Титульный!$AY$1,Титульный!$AY$3)","v":26010},{"$f":"CEILING('прайс-лист2'!Q39*Титульный!$AY$1,Титульный!$AY$3)","v":28430},"-",{"$f":"CEILING('прайс-лист2'!S39*Титульный!$AY$1,Титульный!$AY$3)","v":2688},{"$f":"CEILING('прайс-лист2'!T39*Титульный!$AY$1,Титульный!$AY$3)","v":4980}]
["Шкаф (420) 2дв 2ящ 2240х840",null,"840х440х2240",{"$f":"CEILING('прайс-лист2'!E40*Титульный!$AY$1,Титульный!$AY$3)","v":20525},{"$f":"CEILING('прайс-лист2'!F40*Титульный!$AY$1,Титульный!$AY$3)","v":28285},{"$f":"CEILING('прайс-лист2'!G40*Титульный!$AY$1,Титульный!$AY$3)","v":21705},{"$f":"CEILING('прайс-лист2'!H40*Титульный!$AY$1,Титульный!$AY$3)","v":24605},{"$f":"CEILING('прайс-лист2'!I40*Титульный!$AY$1,Титульный!$AY$3)","v":17305},{"$f":"CEILING('прайс-лист2'!J40*Титульный!$AY$1,Титульный!$AY$3)","v":17965},{"$f":"CEILING('прайс-лист2'!K40*Титульный!$AY$1,Титульный!$AY$3)","v":19585},{"$f":"CEILING('прайс-лист2'!L40*Титульный!$AY$1,Титульный!$AY$3)","v":21445},"-",{"$f":"CEILING('прайс-лист2'!N40*Титульный!$AY$1,Титульный!$AY$3)","v":28185},{"$f":"CEILING('прайс-лист2'!O40*Титульный!$AY$1,Титульный!$AY$3)","v":30925},{"$f":"CEILING('прайс-лист2'!P40*Титульный!$AY$1,Титульный!$AY$3)","v":28165},{"$f":"CEILING('прайс-лист2'!Q40*Титульный!$AY$1,Титульный!$AY$3)","v":30825},"-",{"$f":"CEILING('прайс-лист2'!S40*Титульный!$AY$1,Титульный!$AY$3)","v":3046},{"$f":"CEILING('прайс-лист2'!T40*Титульный!$AY$1,Титульный!$AY$3)","v":5460}]
["Шкаф (420) 2дв 2ящ витрина 2040х840",null,"840х440х2040",{"$f":"CEILING('прайс-лист2'!E41*Титульный!$AY$1,Титульный!$AY$3)","v":22224},{"$f":"CEILING('прайс-лист2'!F41*Титульный!$AY$1,Титульный!$AY$3)","v":29264},{"$f":"CEILING('прайс-лист2'!G41*Титульный!$AY$1,Титульный!$AY$3)","v":23304},{"$f":"CEILING('прайс-лист2'!H41*Титульный!$AY$1,Титульный!$AY$3)","v":25924},{"$f":"CEILING('прайс-лист2'!I41*Титульный!$AY$1,Титульный!$AY$3)","v":16276},{"$f":"CEILING('прайс-лист2'!J41*Титульный!$AY$1,Титульный!$AY$3)","v":16736},{"$f":"CEILING('прайс-лист2'!K41*Титульный!$AY$1,Титульный!$AY$3)","v":18016},{"$f":"CEILING('прайс-лист2'!L41*Титульный!$AY$1,Титульный!$AY$3)","v":19616},"-","-","-",{"$f":"CEILING('прайс-лист2'!P41*Титульный!$AY$1,Титульный!$AY$3)","v":27176},{"$f":"CEILING('прайс-лист2'!Q41*Титульный!$AY$1,Титульный!$AY$3)","v":29696},"-","-","-"]
["Шкаф (420) 2дв 2ящ витрина 2240х840",null,"840х440х2240",{"$f":"CEILING('прайс-лист2'!E42*Титульный!$AY$1,Титульный!$AY$3)","v":23872},{"$f":"CEILING('прайс-лист2'!F42*Титульный!$AY$1,Титульный!$AY$3)","v":31632},{"$f":"CEILING('прайс-лист2'!G42*Титульный!$AY$1,Титульный!$AY$3)","v":25052},{"$f":"CEILING('прайс-лист2'!H42*Титульный!$AY$1,Титульный!$AY$3)","v":27952},{"$f":"CEILING('прайс-лист2'!I42*Титульный!$AY$1,Титульный!$AY$3)","v":17222},{"$f":"CEILING('прайс-лист2'!J42*Титульный!$AY$1,Титульный!$AY$3)","v":17722},{"$f":"CEILING('прайс-лист2'!K42*Титульный!$AY$1,Титульный!$AY$3)","v":19122},{"$f":"CEILING('прайс-лист2'!L42*Титульный!$AY$1,Титульный!$AY$3)","v":20902},"-","-","-",{"$f":"CEILING('прайс-лист2'!P42*Титульный!$AY$1,Титульный!$AY$3)","v":29142},{"$f":"CEILING('прайс-лист2'!Q42*Титульный!$AY$1,Титульный!$AY$3)","v":31942},"-","-","-"]
["Шкаф (420) 2дв 2ящ шар 2040х840",null,"840х440х2040",{"$f":"CEILING('прайс-лист2'!E43*Титульный!$AY$1,Титульный!$AY$3)","v":19235},{"$f":"CEILING('прайс-лист2'!F43*Титульный!$AY$1,Титульный!$AY$3)","v":26275},{"$f":"CEILING('прайс-лист2'!G43*Титульный!$AY$1,Титульный!$AY$3)","v":20315},{"$f":"CEILING('прайс-лист2'!H43*Титульный!$AY$1,Титульный!$AY$3)","v":22935},{"$f":"CEILING('прайс-лист2'!I43*Титульный!$AY$1,Титульный!$AY$3)","v":16315},{"$f":"CEILING('прайс-лист2'!J43*Титульный!$AY$1,Титульный!$AY$3)","v":16915},{"$f":"CEILING('прайс-лист2'!K43*Титульный!$AY$1,Титульный!$AY$3)","v":18395},{"$f":"CEILING('прайс-лист2'!L43*Титульный!$AY$1,Титульный!$AY$3)","v":20095},"-",{"$f":"CEILING('прайс-лист2'!N43*Титульный!$AY$1,Титульный!$AY$3)","v":26275},{"$f":"CEILING('прайс-лист2'!O43*Титульный!$AY$1,Титульный!$AY$3)","v":28835},{"$f":"CEILING('прайс-лист2'!P43*Титульный!$AY$1,Титульный!$AY$3)","v":26235},{"$f":"CEILING('прайс-лист2'!Q43*Титульный!$AY$1,Титульный!$AY$3)","v":28655},"-"]
["Шкаф (420) 2дв 2ящ шар 2240х840",null,"840х440х2240",{"$f":"CEILING('прайс-лист2'!E44*Титульный!$AY$1,Титульный!$AY$3)","v":20723},{"$f":"CEILING('прайс-лист2'!F44*Титульный!$AY$1,Титульный!$AY$3)","v":28483},{"$f":"CEILING('прайс-лист2'!G44*Титульный!$AY$1,Титульный!$AY$3)","v":21903},{"$f":"CEILING('прайс-лист2'!H44*Титульный!$AY$1,Титульный!$AY$3)","v":24803},{"$f":"CEILING('прайс-лист2'!I44*Титульный!$AY$1,Титульный!$AY$3)","v":17503},{"$f":"CEILING('прайс-лист2'!J44*Титульный!$AY$1,Титульный!$AY$3)","v":18163},{"$f":"CEILING('прайс-лист2'!K44*Титульный!$AY$1,Титульный!$AY$3)","v":19783},{"$f":"CEILING('прайс-лист2'!L44*Титульный!$AY$1,Титульный!$AY$3)","v":21643},"-",{"$f":"CEILING('прайс-лист2'!N44*Титульный!$AY$1,Титульный!$AY$3)","v":28383},{"$f":"CEILING('прайс-лист2'!O44*Титульный!$AY$1,Титульный!$AY$3)","v":31123},{"$f":"CEILING('прайс-лист2'!P44*Титульный!$AY$1,Титульный!$AY$3)","v":28363},{"$f":"CEILING('прайс-лист2'!Q44*Титульный!$AY$1,Титульный!$AY$3)","v":31023},"-"]
["Шкаф (420) 2дв 2ящ шар витрина 2040х840",null,"840х440х2040",{"$f":"CEILING('прайс-лист2'!E45*Титульный!$AY$1,Титульный!$AY$3)","v":22442},{"$f":"CEILING('прайс-лист2'!F45*Титульный!$AY$1,Титульный!$AY$3)","v":29482},{"$f":"CEILING('прайс-лист2'!G45*Титульный!$AY$1,Титульный!$AY$3)","v":23522},{"$f":"CEILING('прайс-лист2'!H45*Титульный!$AY$1,Титульный!$AY$3)","v":26142},{"$f":"CEILING('прайс-лист2'!I45*Титульный!$AY$1,Титульный!$AY$3)","v":16494},{"$f":"CEILING('прайс-лист2'!J45*Титульный!$AY$1,Титульный!$AY$3)","v":16954},{"$f":"CEILING('прайс-лист2'!K45*Титульный!$AY$1,Титульный!$AY$3)","v":18234},{"$f":"CEILING('прайс-лист2'!L45*Титульный!$AY$1,Титульный!$AY$3)","v":19834},"-",{"$f":"CEILING('прайс-лист2'!N45*Титульный!$AY$1,Титульный!$AY$3)","v":27414},{"$f":"CEILING('прайс-лист2'!O45*Титульный!$AY$1,Титульный!$AY$3)","v":30474},{"$f":"CEILING('прайс-лист2'!P45*Титульный!$AY$1,Титульный!$AY$3)","v":27394},{"$f":"CEILING('прайс-лист2'!Q45*Титульный!$AY$1,Титульный!$AY$3)","v":29914},"-"]
["Шкаф (420) 2дв 2ящ шар витрина 2240х840",null,"840х440х2240",{"$f":"CEILING('прайс-лист2'!E46*Титульный!$AY$1,Титульный!$AY$3)","v":24598},{"$f":"CEILING('прайс-лист2'!F46*Титульный!$AY$1,Титульный!$AY$3)","v":32358},{"$f":"CEILING('прайс-лист2'!G46*Титульный!$AY$1,Титульный!$AY$3)","v":25778},{"$f":"CEILING('прайс-лист2'!H46*Титульный!$AY$1,Титульный!$AY$3)","v":28678},{"$f":"CEILING('прайс-лист2'!I46*Титульный!$AY$1,Титульный!$AY$3)","v":17948},{"$f":"CEILING('прайс-лист2'!J46*Титульный!$AY$1,Титульный!$AY$3)","v":18448},{"$f":"CEILING('прайс-лист2'!K46*Титульный!$AY$1,Титульный!$AY$3)","v":19848},{"$f":"CEILING('прайс-лист2'!L46*Титульный!$AY$1,Титульный!$AY$3)","v":21628},"-",{"$f":"CEILING('прайс-лист2'!N46*Титульный!$AY$1,Титульный!$AY$3)","v":29908},{"$f":"CEILING('прайс-лист2'!O46*Титульный!$AY$1,Титульный!$AY$3)","v":33168},{"$f":"CEILING('прайс-лист2'!P46*Титульный!$AY$1,Титульный!$AY$3)","v":29868},{"$f":"CEILING('прайс-лист2'!Q46*Титульный!$AY$1,Титульный!$AY$3)","v":32668},"-"]
["Шкаф (420) 1дв полувитрина 2040х420",null,"420х440х2040",{"$f":"CEILING('прайс-лист2'!E47*Титульный!$AY$1,Титульный!$AY$3)","v":11633},{"$f":"CEILING('прайс-лист2'!F47*Титульный!$AY$1,Титульный!$AY$3)","v":15173},{"$f":"CEILING('прайс-лист2'!G47*Титульный!$AY$1,Титульный!$AY$3)","v":12173},{"$f":"CEILING('прайс-лист2'!H47*Титульный!$AY$1,Титульный!$AY$3)","v":13493},"-","-","-","-","-","-","-",{"$f":"CEILING('прайс-лист2'!P47*Титульный!$AY$1,Титульный!$AY$3)","v":14751},{"$f":"CEILING('прайс-лист2'!Q47*Титульный!$AY$1,Титульный!$AY$3)","v":16041},"-","-","-"]
["Шкаф (420) 1дв полувитрина 2040х560",null,"560х440х2040",{"$f":"CEILING('прайс-лист2'!E48*Титульный!$AY$1,Титульный!$AY$3)","v":13732},{"$f":"CEILING('прайс-лист2'!F48*Титульный!$AY$1,Титульный!$AY$3)","v":18452},{"$f":"CEILING('прайс-лист2'!G48*Титульный!$AY$1,Титульный!$AY$3)","v":14442},{"$f":"CEILING('прайс-лист2'!H48*Титульный!$AY$1,Титульный!$AY$3)","v":16212},"-","-","-","-","-","-","-",{"$f":"CEILING('прайс-лист2'!P48*Титульный!$AY$1,Титульный!$AY$3)","v":17537},{"$f":"CEILING('прайс-лист2'!Q48*Титульный!$AY$1,Титульный!$AY$3)","v":19257},"-","-","-"]
["Шкаф (420) 1дв полувитрина 2240х420",null,"420х440х2240",{"$f":"CEILING('прайс-лист2'!E49*Титульный!$AY$1,Титульный!$AY$3)","v":13046},{"$f":"CEILING('прайс-лист2'!F49*Титульный!$AY$1,Титульный!$AY$3)","v":16926},{"$f":"CEILING('прайс-лист2'!G49*Титульный!$AY$1,Титульный!$AY$3)","v":13626},{"$f":"CEILING('прайс-лист2'!H49*Титульный!$AY$1,Титульный!$AY$3)","v":15086},"-","-","-","-","-","-","-",{"$f":"CEILING('прайс-лист2'!P49*Титульный!$AY$1,Титульный!$AY$3)","v":16013},{"$f":"CEILING('прайс-лист2'!Q49*Титульный!$AY$1,Титульный!$AY$3)","v":17443},"-","-","-"]
["Шкаф (420) 1дв полувитрина 2240х560",null,"560х440х2240",{"$f":"CEILING('прайс-лист2'!E50*Титульный!$AY$1,Титульный!$AY$3)","v":14952},{"$f":"CEILING('прайс-лист2'!F50*Титульный!$AY$1,Титульный!$AY$3)","v":20142},{"$f":"CEILING('прайс-лист2'!G50*Титульный!$AY$1,Титульный!$AY$3)","v":15732},{"$f":"CEILING('прайс-лист2'!H50*Титульный!$AY$1,Титульный!$AY$3)","v":17672},"-","-","-","-","-","-","-",{"$f":"CEILING('прайс-лист2'!P50*Титульный!$AY$1,Титульный!$AY$3)","v":19069},{"$f":"CEILING('прайс-лист2'!Q50*Титульный!$AY$1,Титульный!$AY$3)","v":20969},"-","-","-"]
["Шкаф (420) 2дв полувитрина 2040х840",null,"840х440х2040",{"$f":"CEILING('прайс-лист2'!E51*Титульный!$AY$1,Титульный!$AY$3)","v":21177},{"$f":"CEILING('прайс-лист2'!F51*Титульный!$AY$1,Титульный!$AY$3)","v":28257},{"$f":"CEILING('прайс-лист2'!G51*Титульный!$AY$1,Титульный!$AY$3)","v":22257},{"$f":"CEILING('прайс-лист2'!H51*Титульный!$AY$1,Титульный!$AY$3)","v":24897},"-","-","-","-","-","-","-",{"$f":"CEILING('прайс-лист2'!P51*Титульный!$AY$1,Титульный!$AY$3)","v":25909},{"$f":"CEILING('прайс-лист2'!Q51*Титульный!$AY$1,Титульный!$AY$3)","v":28489},"-","-","-"]
["Шкаф (420) 2дв полувитрина 2240х840",null,"840х440х2240",{"$f":"CEILING('прайс-лист2'!E52*Титульный!$AY$1,Титульный!$AY$3)","v":23106},{"$f":"CEILING('прайс-лист2'!F52*Титульный!$AY$1,Титульный!$AY$3)","v":30866},{"$f":"CEILING('прайс-лист2'!G52*Титульный!$AY$1,Титульный!$AY$3)","v":24266},{"$f":"CEILING('прайс-лист2'!H52*Титульный!$AY$1,Титульный!$AY$3)","v":27186},"-","-","-","-","-","-","-",{"$f":"CEILING('прайс-лист2'!P52*Титульный!$AY$1,Титульный!$AY$3)","v":28156},{"$f":"CEILING('прайс-лист2'!Q52*Титульный!$AY$1,Титульный!$AY$3)","v":31016},"-","-","-"]
["Шкаф (420) 1дв витрина 1дв глух 2040х420",null,"420х440х2040",{"$f":"CEILING('прайс-лист2'!E53*Титульный!$AY$1,Титульный!$AY$3)","v":12263},{"$f":"CEILING('прайс-лист2'!F53*Титульный!$AY$1,Титульный!$AY$3)","v":15793},{"$f":"CEILING('прайс-лист2'!G53*Титульный!$AY$1,Титульный!$AY$3)","v":12803},{"$f":"CEILING('прайс-лист2'!H53*Титульный!$AY$1,Титульный!$AY$3)","v":14113},{"$f":"CEILING('прайс-лист2'!I53*Титульный!$AY$1,Титульный!$AY$3)","v":10031},{"$f":"CEILING('прайс-лист2'!J53*Титульный!$AY$1,Титульный!$AY$3)","v":10261},{"$f":"CEILING('прайс-лист2'!K53*Титульный!$AY$1,Титульный!$AY$3)","v":10881},{"$f":"CEILING('прайс-лист2'!L53*Титульный!$AY$1,Титульный!$AY$3)","v":11681},"-","-","-",{"$f":"CEILING('прайс-лист2'!P53*Титульный!$AY$1,Титульный!$AY$3)","v":15411},{"$f":"CEILING('прайс-лист2'!Q53*Титульный!$AY$1,Титульный!$AY$3)","v":16671},"-","-","-"]
["Шкаф (420) 1дв витрина 1дв глух 2040х560",null,"560х440х2040",{"$f":"CEILING('прайс-лист2'!E54*Титульный!$AY$1,Титульный!$AY$3)","v":14366},{"$f":"CEILING('прайс-лист2'!F54*Титульный!$AY$1,Титульный!$AY$3)","v":19076},{"$f":"CEILING('прайс-лист2'!G54*Титульный!$AY$1,Титульный!$AY$3)","v":15076},{"$f":"CEILING('прайс-лист2'!H54*Титульный!$AY$1,Титульный!$AY$3)","v":16836},{"$f":"CEILING('прайс-лист2'!I54*Титульный!$AY$1,Титульный!$AY$3)","v":11291},{"$f":"CEILING('прайс-лист2'!J54*Титульный!$AY$1,Титульный!$AY$3)","v":11581},{"$f":"CEILING('прайс-лист2'!K54*Титульный!$AY$1,Титульный!$AY$3)","v":12411},{"$f":"CEILING('прайс-лист2'!L54*Титульный!$AY$1,Титульный!$AY$3)","v":13471},"-","-","-",{"$f":"CEILING('прайс-лист2'!P54*Титульный!$AY$1,Титульный!$AY$3)","v":18211},{"$f":"CEILING('прайс-лист2'!Q54*Титульный!$AY$1,Титульный!$AY$3)","v":19891},"-","-","-"]
["Шкаф (420) 1дв витрина 1дв глух 2240х420",null,"420х440х2240",{"$f":"CEILING('прайс-лист2'!E55*Титульный!$AY$1,Титульный!$AY$3)","v":13667},{"$f":"CEILING('прайс-лист2'!F55*Титульный!$AY$1,Титульный!$AY$3)","v":17557},{"$f":"CEILING('прайс-лист2'!G55*Титульный!$AY$1,Титульный!$AY$3)","v":14257},{"$f":"CEILING('прайс-лист2'!H55*Титульный!$AY$1,Титульный!$AY$3)","v":15707},{"$f":"CEILING('прайс-лист2'!I55*Титульный!$AY$1,Титульный!$AY$3)","v":10774},{"$f":"CEILING('прайс-лист2'!J55*Титульный!$AY$1,Титульный!$AY$3)","v":11024},{"$f":"CEILING('прайс-лист2'!K55*Титульный!$AY$1,Титульный!$AY$3)","v":11704},{"$f":"CEILING('прайс-лист2'!L55*Титульный!$AY$1,Титульный!$AY$3)","v":12594},"-","-","-",{"$f":"CEILING('прайс-лист2'!P55*Титульный!$AY$1,Титульный!$AY$3)","v":16664},{"$f":"CEILING('прайс-лист2'!Q55*Титульный!$AY$1,Титульный!$AY$3)","v":18064},"-","-","-"]
["Шкаф (420) 1дв витрина 1дв глух 2240х560",null,"560х440х2240",{"$f":"CEILING('прайс-лист2'!E56*Титульный!$AY$1,Титульный!$AY$3)","v":15579},{"$f":"CEILING('прайс-лист2'!F56*Титульный!$AY$1,Титульный!$AY$3)","v":20769},{"$f":"CEILING('прайс-лист2'!G56*Титульный!$AY$1,Титульный!$AY$3)","v":16369},{"$f":"CEILING('прайс-лист2'!H56*Титульный!$AY$1,Титульный!$AY$3)","v":18299},{"$f":"CEILING('прайс-лист2'!I56*Титульный!$AY$1,Титульный!$AY$3)","v":12166},{"$f":"CEILING('прайс-лист2'!J56*Титульный!$AY$1,Титульный!$AY$3)","v":12486},{"$f":"CEILING('прайс-лист2'!K56*Титульный!$AY$1,Титульный!$AY$3)","v":13396},{"$f":"CEILING('прайс-лист2'!L56*Титульный!$AY$1,Титульный!$AY$3)","v":14566},"-","-","-",{"$f":"CEILING('прайс-лист2'!P56*Титульный!$AY$1,Титульный!$AY$3)","v":19746},{"$f":"CEILING('прайс-лист2'!Q56*Титульный!$AY$1,Титульный!$AY$3)","v":21606},"-","-","-"]
["Шкаф (420) 1дв витрина зеркало 1дв глух 2040х420",null,"420х440х2040",{"$f":"CEILING('прайс-лист2'!E57*Титульный!$AY$1,Титульный!$AY$3)","v":15508},{"$f":"CEILING('прайс-лист2'!F57*Титульный!$AY$1,Титульный!$AY$3)","v":19038},{"$f":"CEILING('прайс-лист2'!G57*Титульный!$AY$1,Титульный!$AY$3)","v":16048},{"$f":"CEILING('прайс-лист2'!H57*Титульный!$AY$1,Титульный!$AY$3)","v":17358},"-","-","-","-","-","-","-",{"$f":"CEILING('прайс-лист2'!P57*Титульный!$AY$1,Титульный!$AY$3)","v":18656},{"$f":"CEILING('прайс-лист2'!Q57*Титульный!$AY$1,Титульный!$AY$3)","v":19916},"-","-","-"]
["Шкаф (420) 1дв витрина зеркало 1дв глух 2040х560",null,"560х440х2040",{"$f":"CEILING('прайс-лист2'!E58*Титульный!$AY$1,Титульный!$AY$3)","v":18423},{"$f":"CEILING('прайс-лист2'!F58*Титульный!$AY$1,Титульный!$AY$3)","v":23133},{"$f":"CEILING('прайс-лист2'!G58*Титульный!$AY$1,Титульный!$AY$3)","v":19133},{"$f":"CEILING('прайс-лист2'!H58*Титульный!$AY$1,Титульный!$AY$3)","v":20893},"-","-","-","-","-","-","-",{"$f":"CEILING('прайс-лист2'!P58*Титульный!$AY$1,Титульный!$AY$3)","v":22268},{"$f":"CEILING('прайс-лист2'!Q58*Титульный!$AY$1,Титульный!$AY$3)","v":23948},"-","-","-"]
["Шкаф (420) 2дв витрина 2дв глух 2040х840",null,"840х440х2040",{"$f":"CEILING('прайс-лист2'!E59*Титульный!$AY$1,Титульный!$AY$3)","v":22333},{"$f":"CEILING('прайс-лист2'!F59*Титульный!$AY$1,Титульный!$AY$3)","v":29393},{"$f":"CEILING('прайс-лист2'!G59*Титульный!$AY$1,Титульный!$AY$3)","v":23413},{"$f":"CEILING('прайс-лист2'!H59*Титульный!$AY$1,Титульный!$AY$3)","v":26033},{"$f":"CEILING('прайс-лист2'!I59*Титульный!$AY$1,Титульный!$AY$3)","v":16365},{"$f":"CEILING('прайс-лист2'!J59*Титульный!$AY$1,Титульный!$AY$3)","v":16825},{"$f":"CEILING('прайс-лист2'!K59*Титульный!$AY$1,Титульный!$AY$3)","v":18065},{"$f":"CEILING('прайс-лист2'!L59*Титульный!$AY$1,Титульный!$AY$3)","v":19665},"-","-","-",{"$f":"CEILING('прайс-лист2'!P59*Титульный!$AY$1,Титульный!$AY$3)","v":27125},{"$f":"CEILING('прайс-лист2'!Q59*Титульный!$AY$1,Титульный!$AY$3)","v":29645},"-","-","-"]
["Шкаф (420) 2дв витрина 2дв глух 2240х840",null,"840х440х2240",{"$f":"CEILING('прайс-лист2'!E60*Титульный!$AY$1,Титульный!$AY$3)","v":24246},{"$f":"CEILING('прайс-лист2'!F60*Титульный!$AY$1,Титульный!$AY$3)","v":32026},{"$f":"CEILING('прайс-лист2'!G60*Титульный!$AY$1,Титульный!$AY$3)","v":25426},{"$f":"CEILING('прайс-лист2'!H60*Титульный!$AY$1,Титульный!$AY$3)","v":28326},{"$f":"CEILING('прайс-лист2'!I60*Титульный!$AY$1,Титульный!$AY$3)","v":17576},{"$f":"CEILING('прайс-лист2'!J60*Титульный!$AY$1,Титульный!$AY$3)","v":18076},{"$f":"CEILING('прайс-лист2'!K60*Титульный!$AY$1,Титульный!$AY$3)","v":19436},{"$f":"CEILING('прайс-лист2'!L60*Титульный!$AY$1,Титульный!$AY$3)","v":21216},"-","-","-",{"$f":"CEILING('прайс-лист2'!P60*Титульный!$AY$1,Титульный!$AY$3)","v":29356},{"$f":"CEILING('прайс-лист2'!Q60*Титульный!$AY$1,Титульный!$AY$3)","v":32156},"-","-","-"]
["Шкаф (420) ДО 1дв 2040х560",null,"560х440х2040",{"$f":"CEILING('прайс-лист2'!E61*Титульный!$AY$1,Титульный!$AY$3)","v":11980},{"$f":"CEILING('прайс-лист2'!F61*Титульный!$AY$1,Титульный!$AY$3)","v":16700},{"$f":"CEILING('прайс-лист2'!G61*Титульный!$AY$1,Титульный!$AY$3)","v":12690},{"$f":"CEILING('прайс-лист2'!H61*Титульный!$AY$1,Титульный!$AY$3)","v":14460},{"$f":"CEILING('прайс-лист2'!I61*Титульный!$AY$1,Титульный!$AY$3)","v":9960},{"$f":"CEILING('прайс-лист2'!J61*Титульный!$AY$1,Титульный!$AY$3)","v":10310},{"$f":"CEILING('прайс-лист2'!K61*Титульный!$AY$1,Титульный!$AY$3)","v":11200},{"$f":"CEILING('прайс-лист2'!L61*Титульный!$AY$1,Титульный!$AY$3)","v":12290},"-",{"$f":"CEILING('прайс-лист2'!N61*Титульный!$AY$1,Титульный!$AY$3)","v":16110},{"$f":"CEILING('прайс-лист2'!O61*Титульный!$AY$1,Титульный!$AY$3)","v":17180},{"$f":"CEILING('прайс-лист2'!P61*Титульный!$AY$1,Титульный!$AY$3)","v":16090},{"$f":"CEILING('прайс-лист2'!Q61*Титульный!$AY$1,Титульный!$AY$3)","v":17700},"-",{"$f":"CEILING('прайс-лист2'!S61*Титульный!$AY$1,Титульный!$AY$3)","v":1932},{"$f":"CEILING('прайс-лист2'!T61*Титульный!$AY$1,Титульный!$AY$3)","v":3314}]
["Шкаф (420) ДО 1дв 2240х560 ",null,"560х440х2240",{"$f":"CEILING('прайс-лист2'!E62*Титульный!$AY$1,Титульный!$AY$3)","v":12712},{"$f":"CEILING('прайс-лист2'!F62*Титульный!$AY$1,Титульный!$AY$3)","v":17902},{"$f":"CEILING('прайс-лист2'!G62*Титульный!$AY$1,Титульный!$AY$3)","v":13492},{"$f":"CEILING('прайс-лист2'!H62*Титульный!$AY$1,Титульный!$AY$3)","v":15432},{"$f":"CEILING('прайс-лист2'!I62*Титульный!$AY$1,Титульный!$AY$3)","v":10492},{"$f":"CEILING('прайс-лист2'!J62*Титульный!$AY$1,Титульный!$AY$3)","v":10872},{"$f":"CEILING('прайс-лист2'!K62*Титульный!$AY$1,Титульный!$AY$3)","v":11842},{"$f":"CEILING('прайс-лист2'!L62*Титульный!$AY$1,Титульный!$AY$3)","v":13032},"-",{"$f":"CEILING('прайс-лист2'!N62*Титульный!$AY$1,Титульный!$AY$3)","v":17232},{"$f":"CEILING('прайс-лист2'!O62*Титульный!$AY$1,Титульный!$AY$3)","v":18382},{"$f":"CEILING('прайс-лист2'!P62*Титульный!$AY$1,Титульный!$AY$3)","v":17202},{"$f":"CEILING('прайс-лист2'!Q62*Титульный!$AY$1,Титульный!$AY$3)","v":18982},"-",{"$f":"CEILING('прайс-лист2'!S62*Титульный!$AY$1,Титульный!$AY$3)","v":2190},{"$f":"CEILING('прайс-лист2'!T62*Титульный!$AY$1,Титульный!$AY$3)","v":3632}]
["Шкаф (420) ДО 2дв 2040х840",null,"840х440х2040",{"$f":"CEILING('прайс-лист2'!E63*Титульный!$AY$1,Титульный!$AY$3)","v":16926},{"$f":"CEILING('прайс-лист2'!F63*Титульный!$AY$1,Титульный!$AY$3)","v":24006},{"$f":"CEILING('прайс-лист2'!G63*Титульный!$AY$1,Титульный!$AY$3)","v":18006},{"$f":"CEILING('прайс-лист2'!H63*Титульный!$AY$1,Титульный!$AY$3)","v":20646},{"$f":"CEILING('прайс-лист2'!I63*Титульный!$AY$1,Титульный!$AY$3)","v":13946},{"$f":"CEILING('прайс-лист2'!J63*Титульный!$AY$1,Титульный!$AY$3)","v":14506},{"$f":"CEILING('прайс-лист2'!K63*Титульный!$AY$1,Титульный!$AY$3)","v":15906},{"$f":"CEILING('прайс-лист2'!L63*Титульный!$AY$1,Титульный!$AY$3)","v":17566},"-",{"$f":"CEILING('прайс-лист2'!N63*Титульный!$AY$1,Титульный!$AY$3)","v":23506},{"$f":"CEILING('прайс-лист2'!O63*Титульный!$AY$1,Титульный!$AY$3)","v":25526},{"$f":"CEILING('прайс-лист2'!P63*Титульный!$AY$1,Титульный!$AY$3)","v":23466},{"$f":"CEILING('прайс-лист2'!Q63*Титульный!$AY$1,Титульный!$AY$3)","v":25886},"-",{"$f":"CEILING('прайс-лист2'!S63*Титульный!$AY$1,Титульный!$AY$3)","v":2688},{"$f":"CEILING('прайс-лист2'!T63*Титульный!$AY$1,Титульный!$AY$3)","v":4980}]
["Шкаф (420) ДО 2дв 2240х840",null,"840х440х2240",{"$f":"CEILING('прайс-лист2'!E64*Титульный!$AY$1,Титульный!$AY$3)","v":17951},{"$f":"CEILING('прайс-лист2'!F64*Титульный!$AY$1,Титульный!$AY$3)","v":25711},{"$f":"CEILING('прайс-лист2'!G64*Титульный!$AY$1,Титульный!$AY$3)","v":19111},{"$f":"CEILING('прайс-лист2'!H64*Титульный!$AY$1,Титульный!$AY$3)","v":22031},{"$f":"CEILING('прайс-лист2'!I64*Титульный!$AY$1,Титульный!$AY$3)","v":14671},{"$f":"CEILING('прайс-лист2'!J64*Титульный!$AY$1,Титульный!$AY$3)","v":15271},{"$f":"CEILING('прайс-лист2'!K64*Титульный!$AY$1,Титульный!$AY$3)","v":16811},{"$f":"CEILING('прайс-лист2'!L64*Титульный!$AY$1,Титульный!$AY$3)","v":18631},"-",{"$f":"CEILING('прайс-лист2'!N64*Титульный!$AY$1,Титульный!$AY$3)","v":25131},{"$f":"CEILING('прайс-лист2'!O64*Титульный!$AY$1,Титульный!$AY$3)","v":27331},{"$f":"CEILING('прайс-лист2'!P64*Титульный!$AY$1,Титульный!$AY$3)","v":25091},{"$f":"CEILING('прайс-лист2'!Q64*Титульный!$AY$1,Титульный!$AY$3)","v":27751},"-",{"$f":"CEILING('прайс-лист2'!S64*Титульный!$AY$1,Титульный!$AY$3)","v":3046},{"$f":"CEILING('прайс-лист2'!T64*Титульный!$AY$1,Титульный!$AY$3)","v":5460}]
["Внимание!!! Для наборов мебели \"Марго\" использовать только накладные зеркала"]
["Шкафы глубиной 420мм"]
["Наименование","Эскиз","Габариты,  ШхГхВ мм.","МДФ фасады",null,null,null,"Марго16",null,null,null,null,"UV-лак",null,"ТСС",null,"ТСС сборный","Стоимость зеркал"]
[null,null,null,"1 ЦК","1 ЦК + патина","2 ЦК","3 ЦК","1 ц.к.","2 ц.к.","3 ц.к.","4 ц.к.","5 ц.к.","UV-лак кромка ABC/AL кромка","кромка 3D","1 ЦК","2 ЦК",null,"Зеркало в рамке**","Зеркало накладное*"]
["Шкаф (420) ДО 2дв 2ящ 2040х840",null,"840х440х2040",{"$f":"CEILING('прайс-лист2'!E65*Титульный!$AY$1,Титульный!$AY$3)","v":18209},{"$f":"CEILING('прайс-лист2'!F65*Титульный!$AY$1,Титульный!$AY$3)","v":25249},{"$f":"CEILING('прайс-лист2'!G65*Титульный!$AY$1,Титульный!$AY$3)","v":19289},{"$f":"CEILING('прайс-лист2'!H65*Титульный!$AY$1,Титульный!$AY$3)","v":21909},{"$f":"CEILING('прайс-лист2'!I65*Титульный!$AY$1,Титульный!$AY$3)","v":15289},{"$f":"CEILING('прайс-лист2'!J65*Титульный!$AY$1,Титульный!$AY$3)","v":15889},{"$f":"CEILING('прайс-лист2'!K65*Титульный!$AY$1,Титульный!$AY$3)","v":17369},{"$f":"CEILING('прайс-лист2'!L65*Титульный!$AY$1,Титульный!$AY$3)","v":19069},"-",{"$f":"CEILING('прайс-лист2'!N65*Титульный!$AY$1,Титульный!$AY$3)","v":25249},{"$f":"CEILING('прайс-лист2'!O65*Титульный!$AY$1,Титульный!$AY$3)","v":27809},{"$f":"CEILING('прайс-лист2'!P65*Титульный!$AY$1,Титульный!$AY$3)","v":25209},{"$f":"CEILING('прайс-лист2'!Q65*Титульный!$AY$1,Титульный!$AY$3)","v":27629},"-",{"$f":"CEILING('прайс-лист2'!S65*Титульный!$AY$1,Титульный!$AY$3)","v":2688},{"$f":"CEILING('прайс-лист2'!T65*Титульный!$AY$1,Титульный!$AY$3)","v":4020}]
["Шкаф (420) ДО 2дв 2ящ 2240х840",null,"840х440х2240",{"$f":"CEILING('прайс-лист2'!E66*Титульный!$AY$1,Титульный!$AY$3)","v":19214},{"$f":"CEILING('прайс-лист2'!F66*Титульный!$AY$1,Титульный!$AY$3)","v":26974},{"$f":"CEILING('прайс-лист2'!G66*Титульный!$AY$1,Титульный!$AY$3)","v":20394},{"$f":"CEILING('прайс-лист2'!H66*Титульный!$AY$1,Титульный!$AY$3)","v":23294},{"$f":"CEILING('прайс-лист2'!I66*Титульный!$AY$1,Титульный!$AY$3)","v":15994},{"$f":"CEILING('прайс-лист2'!J66*Титульный!$AY$1,Титульный!$AY$3)","v":16654},{"$f":"CEILING('прайс-лист2'!K66*Титульный!$AY$1,Титульный!$AY$3)","v":18274},{"$f":"CEILING('прайс-лист2'!L66*Титульный!$AY$1,Титульный!$AY$3)","v":20134},"-",{"$f":"CEILING('прайс-лист2'!N66*Титульный!$AY$1,Титульный!$AY$3)","v":26874},{"$f":"CEILING('прайс-лист2'!O66*Титульный!$AY$1,Титульный!$AY$3)","v":29614},{"$f":"CEILING('прайс-лист2'!P66*Титульный!$AY$1,Титульный!$AY$3)","v":26854},{"$f":"CEILING('прайс-лист2'!Q66*Титульный!$AY$1,Титульный!$AY$3)","v":29514},"-",{"$f":"CEILING('прайс-лист2'!S66*Титульный!$AY$1,Титульный!$AY$3)","v":3046},{"$f":"CEILING('прайс-лист2'!T66*Титульный!$AY$1,Титульный!$AY$3)","v":4500}]
["Шкаф (420) ДО 2дв 2ящ шар 2040х840",null,"840х440х2040",{"$f":"CEILING('прайс-лист2'!E67*Титульный!$AY$1,Титульный!$AY$3)","v":19040},{"$f":"CEILING('прайс-лист2'!F67*Титульный!$AY$1,Титульный!$AY$3)","v":26080},{"$f":"CEILING('прайс-лист2'!G67*Титульный!$AY$1,Титульный!$AY$3)","v":20120},{"$f":"CEILING('прайс-лист2'!H67*Титульный!$AY$1,Титульный!$AY$3)","v":22740},{"$f":"CEILING('прайс-лист2'!I67*Титульный!$AY$1,Титульный!$AY$3)","v":16120},{"$f":"CEILING('прайс-лист2'!J67*Титульный!$AY$1,Титульный!$AY$3)","v":16720},{"$f":"CEILING('прайс-лист2'!K67*Титульный!$AY$1,Титульный!$AY$3)","v":18200},{"$f":"CEILING('прайс-лист2'!L67*Титульный!$AY$1,Титульный!$AY$3)","v":19900},"-",{"$f":"CEILING('прайс-лист2'!N67*Титульный!$AY$1,Титульный!$AY$3)","v":26080},{"$f":"CEILING('прайс-лист2'!O67*Титульный!$AY$1,Титульный!$AY$3)","v":28640},{"$f":"CEILING('прайс-лист2'!P67*Титульный!$AY$1,Титульный!$AY$3)","v":26040},{"$f":"CEILING('прайс-лист2'!Q67*Титульный!$AY$1,Титульный!$AY$3)","v":28460},"-",{"$f":"CEILING('прайс-лист2'!S67*Титульный!$AY$1,Титульный!$AY$3)","v":2688},{"$f":"CEILING('прайс-лист2'!T67*Титульный!$AY$1,Титульный!$AY$3)","v":4020}]
["Шкаф (420) ДО 2дв 2ящ шар 2240х840",null,"840х440х2240",{"$f":"CEILING('прайс-лист2'!E68*Титульный!$AY$1,Титульный!$AY$3)","v":20055},{"$f":"CEILING('прайс-лист2'!F68*Титульный!$AY$1,Титульный!$AY$3)","v":27815},{"$f":"CEILING('прайс-лист2'!G68*Титульный!$AY$1,Титульный!$AY$3)","v":21235},{"$f":"CEILING('прайс-лист2'!H68*Титульный!$AY$1,Титульный!$AY$3)","v":24135},{"$f":"CEILING('прайс-лист2'!I68*Титульный!$AY$1,Титульный!$AY$3)","v":16835},{"$f":"CEILING('прайс-лист2'!J68*Титульный!$AY$1,Титульный!$AY$3)","v":17495},{"$f":"CEILING('прайс-лист2'!K68*Титульный!$AY$1,Титульный!$AY$3)","v":19115},{"$f":"CEILING('прайс-лист2'!L68*Титульный!$AY$1,Титульный!$AY$3)","v":20975},"-",{"$f":"CEILING('прайс-лист2'!N68*Титульный!$AY$1,Титульный!$AY$3)","v":27715},{"$f":"CEILING('прайс-лист2'!O68*Титульный!$AY$1,Титульный!$AY$3)","v":30455},{"$f":"CEILING('прайс-лист2'!P68*Титульный!$AY$1,Титульный!$AY$3)","v":27695},{"$f":"CEILING('прайс-лист2'!Q68*Титульный!$AY$1,Титульный!$AY$3)","v":30355},"-",{"$f":"CEILING('прайс-лист2'!S68*Титульный!$AY$1,Титульный!$AY$3)","v":3046},{"$f":"CEILING('прайс-лист2'!T68*Титульный!$AY$1,Титульный!$AY$3)","v":4500}]
["Шкаф (420) Ниша 2дв 2040х420",null,"420х440х2040",{"$f":"CEILING('прайс-лист2'!E69*Титульный!$AY$1,Титульный!$AY$3)","v":10166},{"$f":"CEILING('прайс-лист2'!F69*Титульный!$AY$1,Титульный!$AY$3)","v":12986},{"$f":"CEILING('прайс-лист2'!G69*Титульный!$AY$1,Титульный!$AY$3)","v":10586},{"$f":"CEILING('прайс-лист2'!H69*Титульный!$AY$1,Титульный!$AY$3)","v":11646},{"$f":"CEILING('прайс-лист2'!I69*Титульный!$AY$1,Титульный!$AY$3)","v":8986},{"$f":"CEILING('прайс-лист2'!J69*Титульный!$AY$1,Титульный!$AY$3)","v":9226},{"$f":"CEILING('прайс-лист2'!K69*Титульный!$AY$1,Титульный!$AY$3)","v":9826},{"$f":"CEILING('прайс-лист2'!L69*Титульный!$AY$1,Титульный!$AY$3)","v":10506},"-",{"$f":"CEILING('прайс-лист2'!N69*Титульный!$AY$1,Титульный!$AY$3)","v":12966},{"$f":"CEILING('прайс-лист2'!O69*Титульный!$AY$1,Титульный!$AY$3)","v":13986},{"$f":"CEILING('прайс-лист2'!P69*Титульный!$AY$1,Титульный!$AY$3)","v":12966},{"$f":"CEILING('прайс-лист2'!Q69*Титульный!$AY$1,Титульный!$AY$3)","v":13926},"-","-","-"]
["Шкаф (420) Ниша 2дв 2040х560",null,"420х580х2040","-","-","-","-","-","-","-","-","-",{"$f":"CEILING('прайс-лист2'!N70*Титульный!$AY$1,Титульный!$AY$3)","v":16436},{"$f":"CEILING('прайс-лист2'!O70*Титульный!$AY$1,Титульный!$AY$3)","v":17576},{"$f":"CEILING('прайс-лист2'!P70*Титульный!$AY$1,Титульный!$AY$3)","v":16416},{"$f":"CEILING('прайс-лист2'!Q70*Титульный!$AY$1,Титульный!$AY$3)","v":17716},"-","-","-"]
["Шкаф (420) Ниша 2дв 2240х420",null,"420х440х2240",{"$f":"CEILING('прайс-лист2'!E71*Титульный!$AY$1,Титульный!$AY$3)","v":11045},"-",{"$f":"CEILING('прайс-лист2'!G71*Титульный!$AY$1,Титульный!$AY$3)","v":11525},{"$f":"CEILING('прайс-лист2'!H71*Титульный!$AY$1,Титульный!$AY$3)","v":12715},{"$f":"CEILING('прайс-лист2'!I71*Титульный!$AY$1,Титульный!$AY$3)","v":9715},{"$f":"CEILING('прайс-лист2'!J71*Титульный!$AY$1,Титульный!$AY$3)","v":9985},{"$f":"CEILING('прайс-лист2'!K71*Титульный!$AY$1,Титульный!$AY$3)","v":10645},{"$f":"CEILING('прайс-лист2'!L71*Титульный!$AY$1,Титульный!$AY$3)","v":11415},"-",{"$f":"CEILING('прайс-лист2'!N71*Титульный!$AY$1,Титульный!$AY$3)","v":14165},{"$f":"CEILING('прайс-лист2'!O71*Титульный!$AY$1,Титульный!$AY$3)","v":15265},{"$f":"CEILING('прайс-лист2'!P71*Титульный!$AY$1,Титульный!$AY$3)","v":14155},{"$f":"CEILING('прайс-лист2'!Q71*Титульный!$AY$1,Титульный!$AY$3)","v":15245},"-","-","-"]
["Шкаф (420) Ниша 2дв 2240х560",null,"420х580х2240","-","-","-","-","-","-","-","-","-",{"$f":"CEILING('прайс-лист2'!N72*Титульный!$AY$1,Титульный!$AY$3)","v":18100},{"$f":"CEILING('прайс-лист2'!O72*Титульный!$AY$1,Титульный!$AY$3)","v":19320},{"$f":"CEILING('прайс-лист2'!P72*Титульный!$AY$1,Титульный!$AY$3)","v":18080},{"$f":"CEILING('прайс-лист2'!Q72*Титульный!$AY$1,Титульный!$AY$3)","v":19540},"-","-","-"]
["Шкаф (420) Ниша 4дв 2040х840",null,"840х440х2040",{"$f":"CEILING('прайс-лист2'!E73*Титульный!$AY$1,Титульный!$AY$3)","v":16982},{"$f":"CEILING('прайс-лист2'!F73*Титульный!$AY$1,Титульный!$AY$3)","v":22622},{"$f":"CEILING('прайс-лист2'!G73*Титульный!$AY$1,Титульный!$AY$3)","v":17822},{"$f":"CEILING('прайс-лист2'!H73*Титульный!$AY$1,Титульный!$AY$3)","v":19942},{"$f":"CEILING('прайс-лист2'!I73*Титульный!$AY$1,Титульный!$AY$3)","v":14622},{"$f":"CEILING('прайс-лист2'!J73*Титульный!$AY$1,Титульный!$AY$3)","v":15102},{"$f":"CEILING('прайс-лист2'!K73*Титульный!$AY$1,Титульный!$AY$3)","v":16302},{"$f":"CEILING('прайс-лист2'!L73*Титульный!$AY$1,Титульный!$AY$3)","v":17662},"-",{"$f":"CEILING('прайс-лист2'!N73*Титульный!$AY$1,Титульный!$AY$3)","v":22582},{"$f":"CEILING('прайс-лист2'!O73*Титульный!$AY$1,Титульный!$AY$3)","v":24622},{"$f":"CEILING('прайс-лист2'!P73*Титульный!$AY$1,Титульный!$AY$3)","v":22582},{"$f":"CEILING('прайс-лист2'!Q73*Титульный!$AY$1,Титульный!$AY$3)","v":24502},"-","-","-"]
["Шкаф (420) Ниша 4дв 2240х840",null,"840х440х2240",{"$f":"CEILING('прайс-лист2'!E74*Титульный!$AY$1,Титульный!$AY$3)","v":20503},{"$f":"CEILING('прайс-лист2'!F74*Титульный!$AY$1,Титульный!$AY$3)","v":26843},{"$f":"CEILING('прайс-лист2'!G74*Титульный!$AY$1,Титульный!$AY$3)","v":21463},{"$f":"CEILING('прайс-лист2'!H74*Титульный!$AY$1,Титульный!$AY$3)","v":23843},{"$f":"CEILING('прайс-лист2'!I74*Титульный!$AY$1,Титульный!$AY$3)","v":17843},{"$f":"CEILING('прайс-лист2'!J74*Титульный!$AY$1,Титульный!$AY$3)","v":18383},{"$f":"CEILING('прайс-лист2'!K74*Титульный!$AY$1,Титульный!$AY$3)","v":19703},{"$f":"CEILING('прайс-лист2'!L74*Титульный!$AY$1,Титульный!$AY$3)","v":21243},"-",{"$f":"CEILING('прайс-лист2'!N74*Титульный!$AY$1,Титульный!$AY$3)","v":26743},{"$f":"CEILING('прайс-лист2'!O74*Титульный!$AY$1,Титульный!$AY$3)","v":28943},{"$f":"CEILING('прайс-лист2'!P74*Титульный!$AY$1,Титульный!$AY$3)","v":26723},{"$f":"CEILING('прайс-лист2'!Q74*Титульный!$AY$1,Титульный!$AY$3)","v":28903},"-","-","-"]
["Шкаф (420) Торцевой 2040х420 ЛЕВ\\ПР",null,"420х440х2040",{"$f":"CEILING('прайс-лист2'!E75*Титульный!$AY$1,Титульный!$AY$3)","v":13306},{"$f":"CEILING('прайс-лист2'!F75*Титульный!$AY$1,Титульный!$AY$3)","v":18906},{"$f":"CEILING('прайс-лист2'!G75*Титульный!$AY$1,Титульный!$AY$3)","v":14156},{"$f":"CEILING('прайс-лист2'!H75*Титульный!$AY$1,Титульный!$AY$3)","v":16246},{"$f":"CEILING('прайс-лист2'!I75*Титульный!$AY$1,Титульный!$AY$3)","v":10986},{"$f":"CEILING('прайс-лист2'!J75*Титульный!$AY$1,Титульный!$AY$3)","v":11456},{"$f":"CEILING('прайс-лист2'!K75*Титульный!$AY$1,Титульный!$AY$3)","v":12616},{"$f":"CEILING('прайс-лист2'!L75*Титульный!$AY$1,Титульный!$AY$3)","v":13956},"-",{"$f":"CEILING('прайс-лист2'!N75*Титульный!$AY$1,Титульный!$AY$3)","v":18826},{"$f":"CEILING('прайс-лист2'!O75*Титульный!$AY$1,Титульный!$AY$3)","v":20776},{"$f":"CEILING('прайс-лист2'!P75*Титульный!$AY$1,Титульный!$AY$3)","v":18796},{"$f":"CEILING('прайс-лист2'!Q75*Титульный!$AY$1,Титульный!$AY$3)","v":20716},"-","-","-"]
["Шкаф (420) Торцевой 2240х420 ЛЕВ\\ПР",null,"420х440х2240",{"$f":"CEILING('прайс-лист2'!E76*Титульный!$AY$1,Титульный!$AY$3)","v":14355},{"$f":"CEILING('прайс-лист2'!F76*Титульный!$AY$1,Титульный!$AY$3)","v":20525},{"$f":"CEILING('прайс-лист2'!G76*Титульный!$AY$1,Титульный!$AY$3)","v":15285},{"$f":"CEILING('прайс-лист2'!H76*Титульный!$AY$1,Титульный!$AY$3)","v":17595},{"$f":"CEILING('прайс-лист2'!I76*Титульный!$AY$1,Титульный!$AY$3)","v":11795},{"$f":"CEILING('прайс-лист2'!J76*Титульный!$AY$1,Титульный!$AY$3)","v":12315},{"$f":"CEILING('прайс-лист2'!K76*Титульный!$AY$1,Титульный!$AY$3)","v":13585},{"$f":"CEILING('прайс-лист2'!L76*Титульный!$AY$1,Титульный!$AY$3)","v":15065},"-",{"$f":"CEILING('прайс-лист2'!N76*Титульный!$AY$1,Титульный!$AY$3)","v":20405},{"$f":"CEILING('прайс-лист2'!O76*Титульный!$AY$1,Титульный!$AY$3)","v":22525},{"$f":"CEILING('прайс-лист2'!P76*Титульный!$AY$1,Титульный!$AY$3)","v":20375},{"$f":"CEILING('прайс-лист2'!Q76*Титульный!$AY$1,Титульный!$AY$3)","v":22485},"-","-","-"]
["Шкаф (420) 4 двери, 1160х1120",null,"1120х440х1160",{"$f":"CEILING('прайс-лист2'!E77*Титульный!$AY$1,Титульный!$AY$3)","v":16223},{"$f":"CEILING('прайс-лист2'!F77*Титульный!$AY$1,Титульный!$AY$3)","v":21463},{"$f":"CEILING('прайс-лист2'!G77*Титульный!$AY$1,Титульный!$AY$3)","v":17023},{"$f":"CEILING('прайс-лист2'!H77*Титульный!$AY$1,Титульный!$AY$3)","v":18983},{"$f":"CEILING('прайс-лист2'!I77*Титульный!$AY$1,Титульный!$AY$3)","v":14023},{"$f":"CEILING('прайс-лист2'!J77*Титульный!$AY$1,Титульный!$AY$3)","v":14463},{"$f":"CEILING('прайс-лист2'!K77*Титульный!$AY$1,Титульный!$AY$3)","v":15583},{"$f":"CEILING('прайс-лист2'!L77*Титульный!$AY$1,Титульный!$AY$3)","v":16823},"-","-","-",{"$f":"CEILING('прайс-лист2'!P77*Титульный!$AY$1,Титульный!$AY$3)","v":21423},{"$f":"CEILING('прайс-лист2'!Q77*Титульный!$AY$1,Титульный!$AY$3)","v":23223},"-","-","-"]
["Шкафы глубиной 560мм"]
["Шкаф (560) 1дв 2040х420",null,"420х580х2040",{"$f":"CEILING('прайс-лист2'!E79*Титульный!$AY$1,Титульный!$AY$3)","v":11792},{"$f":"CEILING('прайс-лист2'!F79*Титульный!$AY$1,Титульный!$AY$3)","v":15332},{"$f":"CEILING('прайс-лист2'!G79*Титульный!$AY$1,Титульный!$AY$3)","v":12332},{"$f":"CEILING('прайс-лист2'!H79*Титульный!$AY$1,Титульный!$AY$3)","v":13652},{"$f":"CEILING('прайс-лист2'!I79*Титульный!$AY$1,Титульный!$AY$3)","v":10302},{"$f":"CEILING('прайс-лист2'!J79*Титульный!$AY$1,Титульный!$AY$3)","v":10582},{"$f":"CEILING('прайс-лист2'!K79*Титульный!$AY$1,Титульный!$AY$3)","v":11282},{"$f":"CEILING('прайс-лист2'!L79*Титульный!$AY$1,Титульный!$AY$3)","v":12112},"-",{"$f":"CEILING('прайс-лист2'!N79*Титульный!$AY$1,Титульный!$AY$3)","v":15082},{"$f":"CEILING('прайс-лист2'!O79*Титульный!$AY$1,Титульный!$AY$3)","v":16092},{"$f":"CEILING('прайс-лист2'!P79*Титульный!$AY$1,Титульный!$AY$3)","v":15062},{"$f":"CEILING('прайс-лист2'!Q79*Титульный!$AY$1,Титульный!$AY$3)","v":16272},"-",{"$f":"CEILING('прайс-лист2'!S79*Титульный!$AY$1,Титульный!$AY$3)","v":1344},{"$f":"CEILING('прайс-лист2'!T79*Титульный!$AY$1,Титульный!$AY$3)","v":2490}]
["Шкаф (560) 1дв 2040х560",null,"560х580х2040",{"$f":"CEILING('прайс-лист2'!E80*Титульный!$AY$1,Титульный!$AY$3)","v":13873},{"$f":"CEILING('прайс-лист2'!F80*Титульный!$AY$1,Титульный!$AY$3)","v":18593},{"$f":"CEILING('прайс-лист2'!G80*Титульный!$AY$1,Титульный!$AY$3)","v":14583},{"$f":"CEILING('прайс-лист2'!H80*Титульный!$AY$1,Титульный!$AY$3)","v":16353},{"$f":"CEILING('прайс-лист2'!I80*Титульный!$AY$1,Титульный!$AY$3)","v":11853},{"$f":"CEILING('прайс-лист2'!J80*Титульный!$AY$1,Титульный!$AY$3)","v":12203},{"$f":"CEILING('прайс-лист2'!K80*Титульный!$AY$1,Титульный!$AY$3)","v":13093},{"$f":"CEILING('прайс-лист2'!L80*Титульный!$AY$1,Титульный!$AY$3)","v":14183},"-",{"$f":"CEILING('прайс-лист2'!N80*Титульный!$AY$1,Титульный!$AY$3)","v":18003},{"$f":"CEILING('прайс-лист2'!O80*Титульный!$AY$1,Титульный!$AY$3)","v":19073},{"$f":"CEILING('прайс-лист2'!P80*Титульный!$AY$1,Титульный!$AY$3)","v":17983},{"$f":"CEILING('прайс-лист2'!Q80*Титульный!$AY$1,Титульный!$AY$3)","v":19593},"-",{"$f":"CEILING('прайс-лист2'!S80*Титульный!$AY$1,Титульный!$AY$3)","v":1932},{"$f":"CEILING('прайс-лист2'!T80*Титульный!$AY$1,Титульный!$AY$3)","v":3314}]
["Шкаф (560) 1дв 2240х420",null,"420х580х2240",{"$f":"CEILING('прайс-лист2'!E81*Титульный!$AY$1,Титульный!$AY$3)","v":12962},{"$f":"CEILING('прайс-лист2'!F81*Титульный!$AY$1,Титульный!$AY$3)","v":16842},{"$f":"CEILING('прайс-лист2'!G81*Титульный!$AY$1,Титульный!$AY$3)","v":13542},{"$f":"CEILING('прайс-лист2'!H81*Титульный!$AY$1,Титульный!$AY$3)","v":15002},{"$f":"CEILING('прайс-лист2'!I81*Титульный!$AY$1,Титульный!$AY$3)","v":11322},{"$f":"CEILING('прайс-лист2'!J81*Титульный!$AY$1,Титульный!$AY$3)","v":11622},{"$f":"CEILING('прайс-лист2'!K81*Титульный!$AY$1,Титульный!$AY$3)","v":12392},{"$f":"CEILING('прайс-лист2'!L81*Титульный!$AY$1,Титульный!$AY$3)","v":13302},"-",{"$f":"CEILING('прайс-лист2'!N81*Титульный!$AY$1,Титульный!$AY$3)","v":16552},{"$f":"CEILING('прайс-лист2'!O81*Титульный!$AY$1,Титульный!$AY$3)","v":17652},{"$f":"CEILING('прайс-лист2'!P81*Титульный!$AY$1,Титульный!$AY$3)","v":16532},{"$f":"CEILING('прайс-лист2'!Q81*Титульный!$AY$1,Титульный!$AY$3)","v":17862},"-",{"$f":"CEILING('прайс-лист2'!S81*Титульный!$AY$1,Титульный!$AY$3)","v":1523},{"$f":"CEILING('прайс-лист2'!T81*Титульный!$AY$1,Титульный!$AY$3)","v":2730}]
["Шкаф (560) 1дв 2240х560",null,"560х580х2240",{"$f":"CEILING('прайс-лист2'!E82*Титульный!$AY$1,Титульный!$AY$3)","v":15077},{"$f":"CEILING('прайс-лист2'!F82*Титульный!$AY$1,Титульный!$AY$3)","v":20267},{"$f":"CEILING('прайс-лист2'!G82*Титульный!$AY$1,Титульный!$AY$3)","v":15857},{"$f":"CEILING('прайс-лист2'!H82*Титульный!$AY$1,Титульный!$AY$3)","v":17797},{"$f":"CEILING('прайс-лист2'!I82*Титульный!$AY$1,Титульный!$AY$3)","v":12857},{"$f":"CEILING('прайс-лист2'!J82*Титульный!$AY$1,Титульный!$AY$3)","v":13237},{"$f":"CEILING('прайс-лист2'!K82*Титульный!$AY$1,Титульный!$AY$3)","v":14207},{"$f":"CEILING('прайс-лист2'!L82*Титульный!$AY$1,Титульный!$AY$3)","v":15397},"-",{"$f":"CEILING('прайс-лист2'!N82*Титульный!$AY$1,Титульный!$AY$3)","v":19597},{"$f":"CEILING('прайс-лист2'!O82*Титульный!$AY$1,Титульный!$AY$3)","v":20747},{"$f":"CEILING('прайс-лист2'!P82*Титульный!$AY$1,Титульный!$AY$3)","v":19567},{"$f":"CEILING('прайс-лист2'!Q82*Титульный!$AY$1,Титульный!$AY$3)","v":21347},"-",{"$f":"CEILING('прайс-лист2'!S82*Титульный!$AY$1,Титульный!$AY$3)","v":2190},{"$f":"CEILING('прайс-лист2'!T82*Титульный!$AY$1,Титульный!$AY$3)","v":3632}]
["Шкаф (560) 1дв 2ящ 2040х420",null,"420х580х2040",{"$f":"CEILING('прайс-лист2'!E83*Титульный!$AY$1,Титульный!$AY$3)","v":13488},{"$f":"CEILING('прайс-лист2'!F83*Титульный!$AY$1,Титульный!$AY$3)","v":17008},{"$f":"CEILING('прайс-лист2'!G83*Титульный!$AY$1,Титульный!$AY$3)","v":14018},{"$f":"CEILING('прайс-лист2'!H83*Титульный!$AY$1,Титульный!$AY$3)","v":15328},{"$f":"CEILING('прайс-лист2'!I83*Титульный!$AY$1,Титульный!$AY$3)","v":12038},{"$f":"CEILING('прайс-лист2'!J83*Титульный!$AY$1,Титульный!$AY$3)","v":12348},{"$f":"CEILING('прайс-лист2'!K83*Титульный!$AY$1,Титульный!$AY$3)","v":13088},{"$f":"CEILING('прайс-лист2'!L83*Титульный!$AY$1,Титульный!$AY$3)","v":13958},"-",{"$f":"CEILING('прайс-лист2'!N83*Титульный!$AY$1,Титульный!$AY$3)","v":17088},{"$f":"CEILING('прайс-лист2'!O83*Титульный!$AY$1,Титульный!$AY$3)","v":18448},{"$f":"CEILING('прайс-лист2'!P83*Титульный!$AY$1,Титульный!$AY$3)","v":17068},{"$f":"CEILING('прайс-лист2'!Q83*Титульный!$AY$1,Титульный!$AY$3)","v":18278},"-",{"$f":"CEILING('прайс-лист2'!S83*Титульный!$AY$1,Титульный!$AY$3)","v":1344},{"$f":"CEILING('прайс-лист2'!T83*Титульный!$AY$1,Титульный!$AY$3)","v":2010}]
["Шкаф (560) 1дв 2ящ 2040х560",null,"560х580х2040",{"$f":"CEILING('прайс-лист2'!E84*Титульный!$AY$1,Титульный!$AY$3)","v":15308},{"$f":"CEILING('прайс-лист2'!F84*Титульный!$AY$1,Титульный!$AY$3)","v":20018},{"$f":"CEILING('прайс-лист2'!G84*Титульный!$AY$1,Титульный!$AY$3)","v":16018},{"$f":"CEILING('прайс-лист2'!H84*Титульный!$AY$1,Титульный!$AY$3)","v":17788},{"$f":"CEILING('прайс-лист2'!I84*Титульный!$AY$1,Титульный!$AY$3)","v":13338},{"$f":"CEILING('прайс-лист2'!J84*Титульный!$AY$1,Титульный!$AY$3)","v":13738},{"$f":"CEILING('прайс-лист2'!K84*Титульный!$AY$1,Титульный!$AY$3)","v":14698},{"$f":"CEILING('прайс-лист2'!L84*Титульный!$AY$1,Титульный!$AY$3)","v":15808},"-",{"$f":"CEILING('прайс-лист2'!N84*Титульный!$AY$1,Титульный!$AY$3)","v":19848},{"$f":"CEILING('прайс-лист2'!O84*Титульный!$AY$1,Титульный!$AY$3)","v":21388},{"$f":"CEILING('прайс-лист2'!P84*Титульный!$AY$1,Титульный!$AY$3)","v":19828},{"$f":"CEILING('прайс-лист2'!Q84*Титульный!$AY$1,Титульный!$AY$3)","v":21438},"-",{"$f":"CEILING('прайс-лист2'!S84*Титульный!$AY$1,Титульный!$AY$3)","v":1932},{"$f":"CEILING('прайс-лист2'!T84*Титульный!$AY$1,Титульный!$AY$3)","v":2677}]
["Шкаф (560) 1дв 2ящ 2240х420",null,"420х580х2240",{"$f":"CEILING('прайс-лист2'!E85*Титульный!$AY$1,Титульный!$AY$3)","v":14284},{"$f":"CEILING('прайс-лист2'!F85*Титульный!$AY$1,Титульный!$AY$3)","v":18164},{"$f":"CEILING('прайс-лист2'!G85*Титульный!$AY$1,Титульный!$AY$3)","v":14864},{"$f":"CEILING('прайс-лист2'!H85*Титульный!$AY$1,Титульный!$AY$3)","v":16314},{"$f":"CEILING('прайс-лист2'!I85*Титульный!$AY$1,Титульный!$AY$3)","v":12684},{"$f":"CEILING('прайс-лист2'!J85*Титульный!$AY$1,Титульный!$AY$3)","v":13024},{"$f":"CEILING('прайс-лист2'!K85*Титульный!$AY$1,Титульный!$AY$3)","v":13834},{"$f":"CEILING('прайс-лист2'!L85*Титульный!$AY$1,Титульный!$AY$3)","v":14784},"-",{"$f":"CEILING('прайс-лист2'!N85*Титульный!$AY$1,Титульный!$AY$3)","v":18194},{"$f":"CEILING('прайс-лист2'!O85*Титульный!$AY$1,Титульный!$AY$3)","v":19644},{"$f":"CEILING('прайс-лист2'!P85*Титульный!$AY$1,Титульный!$AY$3)","v":18184},{"$f":"CEILING('прайс-лист2'!Q85*Титульный!$AY$1,Титульный!$AY$3)","v":19514},"-",{"$f":"CEILING('прайс-лист2'!S85*Титульный!$AY$1,Титульный!$AY$3)","v":1523},{"$f":"CEILING('прайс-лист2'!T85*Титульный!$AY$1,Титульный!$AY$3)","v":2250}]
["Шкаф (560) 1дв 2ящ 2240х560",null,"560х580х2240",{"$f":"CEILING('прайс-лист2'!E86*Титульный!$AY$1,Титульный!$AY$3)","v":16528},{"$f":"CEILING('прайс-лист2'!F86*Титульный!$AY$1,Титульный!$AY$3)","v":21718},{"$f":"CEILING('прайс-лист2'!G86*Титульный!$AY$1,Титульный!$AY$3)","v":17318},{"$f":"CEILING('прайс-лист2'!H86*Титульный!$AY$1,Титульный!$AY$3)","v":19258},{"$f":"CEILING('прайс-лист2'!I86*Титульный!$AY$1,Титульный!$AY$3)","v":14358},{"$f":"CEILING('прайс-лист2'!J86*Титульный!$AY$1,Титульный!$AY$3)","v":14798},{"$f":"CEILING('прайс-лист2'!K86*Титульный!$AY$1,Титульный!$AY$3)","v":15838},{"$f":"CEILING('прайс-лист2'!L86*Титульный!$AY$1,Титульный!$AY$3)","v":17058},"-",{"$f":"CEILING('прайс-лист2'!N86*Титульный!$AY$1,Титульный!$AY$3)","v":21468},{"$f":"CEILING('прайс-лист2'!O86*Титульный!$AY$1,Титульный!$AY$3)","v":23098},{"$f":"CEILING('прайс-лист2'!P86*Титульный!$AY$1,Титульный!$AY$3)","v":21448},{"$f":"CEILING('прайс-лист2'!Q86*Титульный!$AY$1,Титульный!$AY$3)","v":23218},"-",{"$f":"CEILING('прайс-лист2'!S86*Титульный!$AY$1,Титульный!$AY$3)","v":2190},{"$f":"CEILING('прайс-лист2'!T86*Титульный!$AY$1,Титульный!$AY$3)","v":2995}]
["Шкаф (560) 2дв 1ящ 2040х560",null,"560х580х2040",{"$f":"CEILING('прайс-лист2'!E87*Титульный!$AY$1,Титульный!$AY$3)","v":14272},{"$f":"CEILING('прайс-лист2'!F87*Титульный!$AY$1,Титульный!$AY$3)","v":18982},{"$f":"CEILING('прайс-лист2'!G87*Титульный!$AY$1,Титульный!$AY$3)","v":15002},{"$f":"CEILING('прайс-лист2'!H87*Титульный!$AY$1,Титульный!$AY$3)","v":16762},{"$f":"CEILING('прайс-лист2'!I87*Титульный!$AY$1,Титульный!$AY$3)","v":12312},{"$f":"CEILING('прайс-лист2'!J87*Титульный!$AY$1,Титульный!$AY$3)","v":12712},{"$f":"CEILING('прайс-лист2'!K87*Титульный!$AY$1,Титульный!$AY$3)","v":13672},{"$f":"CEILING('прайс-лист2'!L87*Титульный!$AY$1,Титульный!$AY$3)","v":14792},"-",{"$f":"CEILING('прайс-лист2'!N87*Титульный!$AY$1,Титульный!$AY$3)","v":18832},{"$f":"CEILING('прайс-лист2'!O87*Титульный!$AY$1,Титульный!$AY$3)","v":20372},{"$f":"CEILING('прайс-лист2'!P87*Титульный!$AY$1,Титульный!$AY$3)","v":18812},{"$f":"CEILING('прайс-лист2'!Q87*Титульный!$AY$1,Титульный!$AY$3)","v":20412},"-","-","-"]
["Шкаф (560) 2дв 1ящ 2240х560",null,"560х580х2240",{"$f":"CEILING('прайс-лист2'!E88*Титульный!$AY$1,Титульный!$AY$3)","v":15510},{"$f":"CEILING('прайс-лист2'!F88*Титульный!$AY$1,Титульный!$AY$3)","v":20690},{"$f":"CEILING('прайс-лист2'!G88*Титульный!$AY$1,Титульный!$AY$3)","v":16300},{"$f":"CEILING('прайс-лист2'!H88*Титульный!$AY$1,Титульный!$AY$3)","v":18240},{"$f":"CEILING('прайс-лист2'!I88*Титульный!$AY$1,Титульный!$AY$3)","v":13340},{"$f":"CEILING('прайс-лист2'!J88*Титульный!$AY$1,Титульный!$AY$3)","v":13780},{"$f":"CEILING('прайс-лист2'!K88*Титульный!$AY$1,Титульный!$AY$3)","v":14820},{"$f":"CEILING('прайс-лист2'!L88*Титульный!$AY$1,Титульный!$AY$3)","v":16040},"-",{"$f":"CEILING('прайс-лист2'!N88*Титульный!$AY$1,Титульный!$AY$3)","v":20460},{"$f":"CEILING('прайс-лист2'!O88*Титульный!$AY$1,Титульный!$AY$3)","v":22080},{"$f":"CEILING('прайс-лист2'!P88*Титульный!$AY$1,Титульный!$AY$3)","v":20430},{"$f":"CEILING('прайс-лист2'!Q88*Титульный!$AY$1,Титульный!$AY$3)","v":22200},"-","-","-"]
["Шкаф (560) 2дв 2040х840 ",null,"840х580х2040",{"$f":"CEILING('прайс-лист2'!E89*Титульный!$AY$1,Титульный!$AY$3)","v":19641},{"$f":"CEILING('прайс-лист2'!F89*Титульный!$AY$1,Титульный!$AY$3)","v":26721},{"$f":"CEILING('прайс-лист2'!G89*Титульный!$AY$1,Титульный!$AY$3)","v":20721},{"$f":"CEILING('прайс-лист2'!H89*Титульный!$AY$1,Титульный!$AY$3)","v":23361},{"$f":"CEILING('прайс-лист2'!I89*Титульный!$AY$1,Титульный!$AY$3)","v":16661},{"$f":"CEILING('прайс-лист2'!J89*Титульный!$AY$1,Титульный!$AY$3)","v":17221},{"$f":"CEILING('прайс-лист2'!K89*Титульный!$AY$1,Титульный!$AY$3)","v":18621},{"$f":"CEILING('прайс-лист2'!L89*Титульный!$AY$1,Титульный!$AY$3)","v":20281},"-",{"$f":"CEILING('прайс-лист2'!N89*Титульный!$AY$1,Титульный!$AY$3)","v":26221},{"$f":"CEILING('прайс-лист2'!O89*Титульный!$AY$1,Титульный!$AY$3)","v":28241},{"$f":"CEILING('прайс-лист2'!P89*Титульный!$AY$1,Титульный!$AY$3)","v":26181},{"$f":"CEILING('прайс-лист2'!Q89*Титульный!$AY$1,Титульный!$AY$3)","v":28601},"-",{"$f":"CEILING('прайс-лист2'!S89*Титульный!$AY$1,Титульный!$AY$3)","v":2688},{"$f":"CEILING('прайс-лист2'!T89*Титульный!$AY$1,Титульный!$AY$3)","v":4980}]
["Шкаф (560) 2дв 2240х840",null,"840х580х2240",{"$f":"CEILING('прайс-лист2'!E90*Титульный!$AY$1,Титульный!$AY$3)","v":21374},{"$f":"CEILING('прайс-лист2'!F90*Титульный!$AY$1,Титульный!$AY$3)","v":29134},{"$f":"CEILING('прайс-лист2'!G90*Титульный!$AY$1,Титульный!$AY$3)","v":22534},{"$f":"CEILING('прайс-лист2'!H90*Титульный!$AY$1,Титульный!$AY$3)","v":25454},{"$f":"CEILING('прайс-лист2'!I90*Титульный!$AY$1,Титульный!$AY$3)","v":18094},{"$f":"CEILING('прайс-лист2'!J90*Титульный!$AY$1,Титульный!$AY$3)","v":18694},{"$f":"CEILING('прайс-лист2'!K90*Титульный!$AY$1,Титульный!$AY$3)","v":20234},{"$f":"CEILING('прайс-лист2'!L90*Титульный!$AY$1,Титульный!$AY$3)","v":22054},"-",{"$f":"CEILING('прайс-лист2'!N90*Титульный!$AY$1,Титульный!$AY$3)","v":28554},{"$f":"CEILING('прайс-лист2'!O90*Титульный!$AY$1,Титульный!$AY$3)","v":30754},{"$f":"CEILING('прайс-лист2'!P90*Титульный!$AY$1,Титульный!$AY$3)","v":28514},{"$f":"CEILING('прайс-лист2'!Q90*Титульный!$AY$1,Титульный!$AY$3)","v":31174},"-",{"$f":"CEILING('прайс-лист2'!S90*Титульный!$AY$1,Титульный!$AY$3)","v":3046},{"$f":"CEILING('прайс-лист2'!T90*Титульный!$AY$1,Титульный!$AY$3)","v":5460}]
["Шкаф (560) 2дв 2ящ 2040х840",null,"840х580х2040",{"$f":"CEILING('прайс-лист2'!E91*Титульный!$AY$1,Титульный!$AY$3)","v":20840},{"$f":"CEILING('прайс-лист2'!F91*Титульный!$AY$1,Титульный!$AY$3)","v":27880},{"$f":"CEILING('прайс-лист2'!G91*Титульный!$AY$1,Титульный!$AY$3)","v":21920},{"$f":"CEILING('прайс-лист2'!H91*Титульный!$AY$1,Титульный!$AY$3)","v":24540},{"$f":"CEILING('прайс-лист2'!I91*Титульный!$AY$1,Титульный!$AY$3)","v":17920},{"$f":"CEILING('прайс-лист2'!J91*Титульный!$AY$1,Титульный!$AY$3)","v":18520},{"$f":"CEILING('прайс-лист2'!K91*Титульный!$AY$1,Титульный!$AY$3)","v":20000},{"$f":"CEILING('прайс-лист2'!L91*Титульный!$AY$1,Титульный!$AY$3)","v":21700},"-",{"$f":"CEILING('прайс-лист2'!N91*Титульный!$AY$1,Титульный!$AY$3)","v":27880},{"$f":"CEILING('прайс-лист2'!O91*Титульный!$AY$1,Титульный!$AY$3)","v":30440},{"$f":"CEILING('прайс-лист2'!P91*Титульный!$AY$1,Титульный!$AY$3)","v":27840},{"$f":"CEILING('прайс-лист2'!Q91*Титульный!$AY$1,Титульный!$AY$3)","v":30260},"-",{"$f":"CEILING('прайс-лист2'!S91*Титульный!$AY$1,Титульный!$AY$3)","v":2688},{"$f":"CEILING('прайс-лист2'!T91*Титульный!$AY$1,Титульный!$AY$3)","v":4980}]
["Шкаф (560) 2дв 2ящ 2240х840",null,"840х580х2240",{"$f":"CEILING('прайс-лист2'!E92*Титульный!$AY$1,Титульный!$AY$3)","v":22553},{"$f":"CEILING('прайс-лист2'!F92*Титульный!$AY$1,Титульный!$AY$3)","v":30313},{"$f":"CEILING('прайс-лист2'!G92*Титульный!$AY$1,Титульный!$AY$3)","v":23733},{"$f":"CEILING('прайс-лист2'!H92*Титульный!$AY$1,Титульный!$AY$3)","v":26633},{"$f":"CEILING('прайс-лист2'!I92*Титульный!$AY$1,Титульный!$AY$3)","v":19333},{"$f":"CEILING('прайс-лист2'!J92*Титульный!$AY$1,Титульный!$AY$3)","v":19993},{"$f":"CEILING('прайс-лист2'!K92*Титульный!$AY$1,Титульный!$AY$3)","v":21613},{"$f":"CEILING('прайс-лист2'!L92*Титульный!$AY$1,Титульный!$AY$3)","v":23473},"-",{"$f":"CEILING('прайс-лист2'!N92*Титульный!$AY$1,Титульный!$AY$3)","v":30213},{"$f":"CEILING('прайс-лист2'!O92*Титульный!$AY$1,Титульный!$AY$3)","v":32953},{"$f":"CEILING('прайс-лист2'!P92*Титульный!$AY$1,Титульный!$AY$3)","v":30193},{"$f":"CEILING('прайс-лист2'!Q92*Титульный!$AY$1,Титульный!$AY$3)","v":32853},"-",{"$f":"CEILING('прайс-лист2'!S92*Титульный!$AY$1,Титульный!$AY$3)","v":3046},{"$f":"CEILING('прайс-лист2'!T92*Титульный!$AY$1,Титульный!$AY$3)","v":5460}]
["Шкаф (560) ДО 1дв 2040х420",null,"420х580х2040",{"$f":"CEILING('прайс-лист2'!E93*Титульный!$AY$1,Титульный!$AY$3)","v":11148},{"$f":"CEILING('прайс-лист2'!F93*Титульный!$AY$1,Титульный!$AY$3)","v":14688},{"$f":"CEILING('прайс-лист2'!G93*Титульный!$AY$1,Титульный!$AY$3)","v":11688},{"$f":"CEILING('прайс-лист2'!H93*Титульный!$AY$1,Титульный!$AY$3)","v":13008},{"$f":"CEILING('прайс-лист2'!I93*Титульный!$AY$1,Титульный!$AY$3)","v":9658},{"$f":"CEILING('прайс-лист2'!J93*Титульный!$AY$1,Титульный!$AY$3)","v":9938},{"$f":"CEILING('прайс-лист2'!K93*Титульный!$AY$1,Титульный!$AY$3)","v":10638},{"$f":"CEILING('прайс-лист2'!L93*Титульный!$AY$1,Титульный!$AY$3)","v":11468},"-",{"$f":"CEILING('прайс-лист2'!N93*Титульный!$AY$1,Титульный!$AY$3)","v":14438},{"$f":"CEILING('прайс-лист2'!O93*Титульный!$AY$1,Титульный!$AY$3)","v":15448},{"$f":"CEILING('прайс-лист2'!P93*Титульный!$AY$1,Титульный!$AY$3)","v":14418},{"$f":"CEILING('прайс-лист2'!Q93*Титульный!$AY$1,Титульный!$AY$3)","v":15628},"-",{"$f":"CEILING('прайс-лист2'!S93*Титульный!$AY$1,Титульный!$AY$3)","v":1344},{"$f":"CEILING('прайс-лист2'!T93*Титульный!$AY$1,Титульный!$AY$3)","v":2490}]
["Шкаф (560) ДО 1дв 2040х560",null,"560х580х2040",{"$f":"CEILING('прайс-лист2'!E94*Титульный!$AY$1,Титульный!$AY$3)","v":12801},{"$f":"CEILING('прайс-лист2'!F94*Титульный!$AY$1,Титульный!$AY$3)","v":17521},{"$f":"CEILING('прайс-лист2'!G94*Титульный!$AY$1,Титульный!$AY$3)","v":13511},{"$f":"CEILING('прайс-лист2'!H94*Титульный!$AY$1,Титульный!$AY$3)","v":15281},{"$f":"CEILING('прайс-лист2'!I94*Титульный!$AY$1,Титульный!$AY$3)","v":10781},{"$f":"CEILING('прайс-лист2'!J94*Титульный!$AY$1,Титульный!$AY$3)","v":11131},{"$f":"CEILING('прайс-лист2'!K94*Титульный!$AY$1,Титульный!$AY$3)","v":12021},{"$f":"CEILING('прайс-лист2'!L94*Титульный!$AY$1,Титульный!$AY$3)","v":13111},"-",{"$f":"CEILING('прайс-лист2'!N94*Титульный!$AY$1,Титульный!$AY$3)","v":16931},{"$f":"CEILING('прайс-лист2'!O94*Титульный!$AY$1,Титульный!$AY$3)","v":18001},{"$f":"CEILING('прайс-лист2'!P94*Титульный!$AY$1,Титульный!$AY$3)","v":16911},{"$f":"CEILING('прайс-лист2'!Q94*Титульный!$AY$1,Титульный!$AY$3)","v":18521},"-",{"$f":"CEILING('прайс-лист2'!S94*Титульный!$AY$1,Титульный!$AY$3)","v":1932},{"$f":"CEILING('прайс-лист2'!T94*Титульный!$AY$1,Титульный!$AY$3)","v":3314}]
["Шкаф (560) ДО 1дв 2240х420",null,"420х580х2240",{"$f":"CEILING('прайс-лист2'!E95*Титульный!$AY$1,Титульный!$AY$3)","v":11855},{"$f":"CEILING('прайс-лист2'!F95*Титульный!$AY$1,Титульный!$AY$3)","v":15735},{"$f":"CEILING('прайс-лист2'!G95*Титульный!$AY$1,Титульный!$AY$3)","v":12435},{"$f":"CEILING('прайс-лист2'!H95*Титульный!$AY$1,Титульный!$AY$3)","v":13895},{"$f":"CEILING('прайс-лист2'!I95*Титульный!$AY$1,Титульный!$AY$3)","v":10215},{"$f":"CEILING('прайс-лист2'!J95*Титульный!$AY$1,Титульный!$AY$3)","v":10515},{"$f":"CEILING('прайс-лист2'!K95*Титульный!$AY$1,Титульный!$AY$3)","v":11285},{"$f":"CEILING('прайс-лист2'!L95*Титульный!$AY$1,Титульный!$AY$3)","v":12195},"-",{"$f":"CEILING('прайс-лист2'!N95*Титульный!$AY$1,Титульный!$AY$3)","v":15445},{"$f":"CEILING('прайс-лист2'!O95*Титульный!$AY$1,Титульный!$AY$3)","v":16545},{"$f":"CEILING('прайс-лист2'!P95*Титульный!$AY$1,Титульный!$AY$3)","v":15425},{"$f":"CEILING('прайс-лист2'!Q95*Титульный!$AY$1,Титульный!$AY$3)","v":16755},"-",{"$f":"CEILING('прайс-лист2'!S95*Титульный!$AY$1,Титульный!$AY$3)","v":1523},{"$f":"CEILING('прайс-лист2'!T95*Титульный!$AY$1,Титульный!$AY$3)","v":2730}]
["Шкаф (560) ДО 1дв 2240х560",null,"560х580х2240",{"$f":"CEILING('прайс-лист2'!E96*Титульный!$AY$1,Титульный!$AY$3)","v":13589},{"$f":"CEILING('прайс-лист2'!F96*Титульный!$AY$1,Титульный!$AY$3)","v":18779},{"$f":"CEILING('прайс-лист2'!G96*Титульный!$AY$1,Титульный!$AY$3)","v":14369},{"$f":"CEILING('прайс-лист2'!H96*Титульный!$AY$1,Титульный!$AY$3)","v":16309},{"$f":"CEILING('прайс-лист2'!I96*Титульный!$AY$1,Титульный!$AY$3)","v":11369},{"$f":"CEILING('прайс-лист2'!J96*Титульный!$AY$1,Титульный!$AY$3)","v":11749},{"$f":"CEILING('прайс-лист2'!K96*Титульный!$AY$1,Титульный!$AY$3)","v":12719},{"$f":"CEILING('прайс-лист2'!L96*Титульный!$AY$1,Титульный!$AY$3)","v":13909},"-",{"$f":"CEILING('прайс-лист2'!N96*Титульный!$AY$1,Титульный!$AY$3)","v":18109},{"$f":"CEILING('прайс-лист2'!O96*Титульный!$AY$1,Титульный!$AY$3)","v":19259},{"$f":"CEILING('прайс-лист2'!P96*Титульный!$AY$1,Титульный!$AY$3)","v":18079},{"$f":"CEILING('прайс-лист2'!Q96*Титульный!$AY$1,Титульный!$AY$3)","v":19859},"-",{"$f":"CEILING('прайс-лист2'!S96*Титульный!$AY$1,Титульный!$AY$3)","v":2190},{"$f":"CEILING('прайс-лист2'!T96*Титульный!$AY$1,Титульный!$AY$3)","v":3632}]
["Внимание!!! Для наборов мебели \"Марго\" использовать только накладные зеркала"]
["Шкафы глубиной 560мм"]
["Наименование","Эскиз","Габариты,  ШхГхВ мм.","МДФ фасады",null,null,null,"Марго16",null,null,null,null,"UV-лак",null,"ТСС",null,"ТСС сборный","Стоимость зеркал"]
[null,null,null,"1 ЦК","1 ЦК + патина","2 ЦК","3 ЦК","1 ц.к.","2 ц.к.","3 ц.к.","4 ц.к.","5 ц.к.","UV-лак кромка ABC/AL кромка","кромка 3D","1 ЦК","2 ЦК",null,"Зеркало в рамке**","Зеркало накладное*"]
["Шкаф (560) ДО 2дв 2040х840",null,"840х580х2040",{"$f":"CEILING('прайс-лист2'!E97*Титульный!$AY$1,Титульный!$AY$3)","v":18131},{"$f":"CEILING('прайс-лист2'!F97*Титульный!$AY$1,Титульный!$AY$3)","v":25211},{"$f":"CEILING('прайс-лист2'!G97*Титульный!$AY$1,Титульный!$AY$3)","v":19211},{"$f":"CEILING('прайс-лист2'!H97*Титульный!$AY$1,Титульный!$AY$3)","v":21851},{"$f":"CEILING('прайс-лист2'!I97*Титульный!$AY$1,Титульный!$AY$3)","v":15151},{"$f":"CEILING('прайс-лист2'!J97*Титульный!$AY$1,Титульный!$AY$3)","v":15711},{"$f":"CEILING('прайс-лист2'!K97*Титульный!$AY$1,Титульный!$AY$3)","v":17111},{"$f":"CEILING('прайс-лист2'!L97*Титульный!$AY$1,Титульный!$AY$3)","v":18771},"-",{"$f":"CEILING('прайс-лист2'!N97*Титульный!$AY$1,Титульный!$AY$3)","v":24711},{"$f":"CEILING('прайс-лист2'!O97*Титульный!$AY$1,Титульный!$AY$3)","v":26731},{"$f":"CEILING('прайс-лист2'!P97*Титульный!$AY$1,Титульный!$AY$3)","v":24671},{"$f":"CEILING('прайс-лист2'!Q97*Титульный!$AY$1,Титульный!$AY$3)","v":27091},"-",{"$f":"CEILING('прайс-лист2'!S97*Титульный!$AY$1,Титульный!$AY$3)","v":2688},{"$f":"CEILING('прайс-лист2'!T97*Титульный!$AY$1,Титульный!$AY$3)","v":5985}]
[" Шкаф (560) ДО 2дв 2040х1120",null,"1120х580х2040",{"$f":"CEILING('прайс-лист2'!E98*Титульный!$AY$1,Титульный!$AY$3)","v":21576},{"$f":"CEILING('прайс-лист2'!F98*Титульный!$AY$1,Титульный!$AY$3)","v":31016},{"$f":"CEILING('прайс-лист2'!G98*Титульный!$AY$1,Титульный!$AY$3)","v":22996},{"$f":"CEILING('прайс-лист2'!H98*Титульный!$AY$1,Титульный!$AY$3)","v":26536},{"$f":"CEILING('прайс-лист2'!I98*Титульный!$AY$1,Титульный!$AY$3)","v":17536},{"$f":"CEILING('прайс-лист2'!J98*Титульный!$AY$1,Титульный!$AY$3)","v":18236},{"$f":"CEILING('прайс-лист2'!K98*Титульный!$AY$1,Титульный!$AY$3)","v":20016},{"$f":"CEILING('прайс-лист2'!L98*Титульный!$AY$1,Титульный!$AY$3)","v":22196},"-",{"$f":"CEILING('прайс-лист2'!N98*Титульный!$AY$1,Титульный!$AY$3)","v":29836},{"$f":"CEILING('прайс-лист2'!O98*Титульный!$AY$1,Титульный!$AY$3)","v":31976},{"$f":"CEILING('прайс-лист2'!P98*Титульный!$AY$1,Титульный!$AY$3)","v":29796},{"$f":"CEILING('прайс-лист2'!Q98*Титульный!$AY$1,Титульный!$AY$3)","v":33016},"-",{"$f":"CEILING('прайс-лист2'!S98*Титульный!$AY$1,Титульный!$AY$3)","v":3864},{"$f":"CEILING('прайс-лист2'!T98*Титульный!$AY$1,Титульный!$AY$3)","v":7464}]
["Шкаф (560) ДО 2дв 2240х840",null,"840х580х2240",{"$f":"CEILING('прайс-лист2'!E99*Титульный!$AY$1,Титульный!$AY$3)","v":19225},{"$f":"CEILING('прайс-лист2'!F99*Титульный!$AY$1,Титульный!$AY$3)","v":26985},{"$f":"CEILING('прайс-лист2'!G99*Титульный!$AY$1,Титульный!$AY$3)","v":20385},{"$f":"CEILING('прайс-лист2'!H99*Титульный!$AY$1,Титульный!$AY$3)","v":23305},{"$f":"CEILING('прайс-лист2'!I99*Титульный!$AY$1,Титульный!$AY$3)","v":15945},{"$f":"CEILING('прайс-лист2'!J99*Титульный!$AY$1,Титульный!$AY$3)","v":16545},{"$f":"CEILING('прайс-лист2'!K99*Титульный!$AY$1,Титульный!$AY$3)","v":18085},{"$f":"CEILING('прайс-лист2'!L99*Титульный!$AY$1,Титульный!$AY$3)","v":19905},"-",{"$f":"CEILING('прайс-лист2'!N99*Титульный!$AY$1,Титульный!$AY$3)","v":26405},{"$f":"CEILING('прайс-лист2'!O99*Титульный!$AY$1,Титульный!$AY$3)","v":28605},{"$f":"CEILING('прайс-лист2'!P99*Титульный!$AY$1,Титульный!$AY$3)","v":26365},{"$f":"CEILING('прайс-лист2'!Q99*Титульный!$AY$1,Титульный!$AY$3)","v":29025},"-",{"$f":"CEILING('прайс-лист2'!S99*Титульный!$AY$1,Титульный!$AY$3)","v":3046},{"$f":"CEILING('прайс-лист2'!T99*Титульный!$AY$1,Титульный!$AY$3)","v":5460}]
["Шкаф (560) ДО 2дв 2240х1120",null,"1120х580х2240",{"$f":"CEILING('прайс-лист2'!E100*Титульный!$AY$1,Титульный!$AY$3)","v":22889},{"$f":"CEILING('прайс-лист2'!F100*Титульный!$AY$1,Титульный!$AY$3)","v":33269},{"$f":"CEILING('прайс-лист2'!G100*Титульный!$AY$1,Титульный!$AY$3)","v":24449},{"$f":"CEILING('прайс-лист2'!H100*Титульный!$AY$1,Титульный!$AY$3)","v":28329},{"$f":"CEILING('прайс-лист2'!I100*Титульный!$AY$1,Титульный!$AY$3)","v":18449},{"$f":"CEILING('прайс-лист2'!J100*Титульный!$AY$1,Титульный!$AY$3)","v":19209},{"$f":"CEILING('прайс-лист2'!K100*Титульный!$AY$1,Титульный!$AY$3)","v":21149},{"$f":"CEILING('прайс-лист2'!L100*Титульный!$AY$1,Титульный!$AY$3)","v":23529},"-",{"$f":"CEILING('прайс-лист2'!N100*Титульный!$AY$1,Титульный!$AY$3)","v":31929},{"$f":"CEILING('прайс-лист2'!O100*Титульный!$AY$1,Титульный!$AY$3)","v":34229},{"$f":"CEILING('прайс-лист2'!P100*Титульный!$AY$1,Титульный!$AY$3)","v":31869},{"$f":"CEILING('прайс-лист2'!Q100*Титульный!$AY$1,Титульный!$AY$3)","v":35429},"-",{"$f":"CEILING('прайс-лист2'!S100*Титульный!$AY$1,Титульный!$AY$3)","v":4380},{"$f":"CEILING('прайс-лист2'!T100*Титульный!$AY$1,Титульный!$AY$3)","v":7264}]
["Шкаф (560) ДО 2дв 2ящ 2040х840",null,"840х580х2040",{"$f":"CEILING('прайс-лист2'!E101*Титульный!$AY$1,Титульный!$AY$3)","v":20361},{"$f":"CEILING('прайс-лист2'!F101*Титульный!$AY$1,Титульный!$AY$3)","v":27401},{"$f":"CEILING('прайс-лист2'!G101*Титульный!$AY$1,Титульный!$AY$3)","v":21441},{"$f":"CEILING('прайс-лист2'!H101*Титульный!$AY$1,Титульный!$AY$3)","v":24061},{"$f":"CEILING('прайс-лист2'!I101*Титульный!$AY$1,Титульный!$AY$3)","v":17441},{"$f":"CEILING('прайс-лист2'!J101*Титульный!$AY$1,Титульный!$AY$3)","v":18041},{"$f":"CEILING('прайс-лист2'!K101*Титульный!$AY$1,Титульный!$AY$3)","v":19521},{"$f":"CEILING('прайс-лист2'!L101*Титульный!$AY$1,Титульный!$AY$3)","v":21221},"-",{"$f":"CEILING('прайс-лист2'!N101*Титульный!$AY$1,Титульный!$AY$3)","v":27401},{"$f":"CEILING('прайс-лист2'!O101*Титульный!$AY$1,Титульный!$AY$3)","v":29961},{"$f":"CEILING('прайс-лист2'!P101*Титульный!$AY$1,Титульный!$AY$3)","v":27361},{"$f":"CEILING('прайс-лист2'!Q101*Титульный!$AY$1,Титульный!$AY$3)","v":29781},"-",{"$f":"CEILING('прайс-лист2'!S101*Титульный!$AY$1,Титульный!$AY$3)","v":2688},{"$f":"CEILING('прайс-лист2'!T101*Титульный!$AY$1,Титульный!$AY$3)","v":4980}]
["Шкаф (560) ДО 2дв 2ящ 2240х840",null,"840х580х2240",{"$f":"CEILING('прайс-лист2'!E102*Титульный!$AY$1,Титульный!$AY$3)","v":21436},{"$f":"CEILING('прайс-лист2'!F102*Титульный!$AY$1,Титульный!$AY$3)","v":29196},{"$f":"CEILING('прайс-лист2'!G102*Титульный!$AY$1,Титульный!$AY$3)","v":22616},{"$f":"CEILING('прайс-лист2'!H102*Титульный!$AY$1,Титульный!$AY$3)","v":25516},{"$f":"CEILING('прайс-лист2'!I102*Титульный!$AY$1,Титульный!$AY$3)","v":18216},{"$f":"CEILING('прайс-лист2'!J102*Титульный!$AY$1,Титульный!$AY$3)","v":18876},{"$f":"CEILING('прайс-лист2'!K102*Титульный!$AY$1,Титульный!$AY$3)","v":20496},{"$f":"CEILING('прайс-лист2'!L102*Титульный!$AY$1,Титульный!$AY$3)","v":22356},"-",{"$f":"CEILING('прайс-лист2'!N102*Титульный!$AY$1,Титульный!$AY$3)","v":29096},{"$f":"CEILING('прайс-лист2'!O102*Титульный!$AY$1,Титульный!$AY$3)","v":31836},{"$f":"CEILING('прайс-лист2'!P102*Титульный!$AY$1,Титульный!$AY$3)","v":29076},{"$f":"CEILING('прайс-лист2'!Q102*Титульный!$AY$1,Титульный!$AY$3)","v":31736},"-",{"$f":"CEILING('прайс-лист2'!S102*Титульный!$AY$1,Титульный!$AY$3)","v":3046},{"$f":"CEILING('прайс-лист2'!T102*Титульный!$AY$1,Титульный!$AY$3)","v":5460}]
[" Шкаф (560) Комб 2дв 2040х840",null,"840х580х2040",{"$f":"CEILING('прайс-лист2'!E103*Титульный!$AY$1,Титульный!$AY$3)","v":21063},{"$f":"CEILING('прайс-лист2'!F103*Титульный!$AY$1,Титульный!$AY$3)","v":28143},{"$f":"CEILING('прайс-лист2'!G103*Титульный!$AY$1,Титульный!$AY$3)","v":22143},{"$f":"CEILING('прайс-лист2'!H103*Титульный!$AY$1,Титульный!$AY$3)","v":24783},{"$f":"CEILING('прайс-лист2'!I103*Титульный!$AY$1,Титульный!$AY$3)","v":18083},{"$f":"CEILING('прайс-лист2'!J103*Титульный!$AY$1,Титульный!$AY$3)","v":18643},{"$f":"CEILING('прайс-лист2'!K103*Титульный!$AY$1,Титульный!$AY$3)","v":20043},{"$f":"CEILING('прайс-лист2'!L103*Титульный!$AY$1,Титульный!$AY$3)","v":21703},"-",{"$f":"CEILING('прайс-лист2'!N103*Титульный!$AY$1,Титульный!$AY$3)","v":27643},{"$f":"CEILING('прайс-лист2'!O103*Титульный!$AY$1,Титульный!$AY$3)","v":29663},{"$f":"CEILING('прайс-лист2'!P103*Титульный!$AY$1,Титульный!$AY$3)","v":27603},{"$f":"CEILING('прайс-лист2'!Q103*Титульный!$AY$1,Титульный!$AY$3)","v":30023},"-",{"$f":"CEILING('прайс-лист2'!S103*Титульный!$AY$1,Титульный!$AY$3)","v":2688},{"$f":"CEILING('прайс-лист2'!T103*Титульный!$AY$1,Титульный!$AY$3)","v":4980}]
["Шкаф (560) Комб 2дв 2240х840",null,"840х580х2240",{"$f":"CEILING('прайс-лист2'!E104*Титульный!$AY$1,Титульный!$AY$3)","v":22606},{"$f":"CEILING('прайс-лист2'!F104*Титульный!$AY$1,Титульный!$AY$3)","v":30366},{"$f":"CEILING('прайс-лист2'!G104*Титульный!$AY$1,Титульный!$AY$3)","v":23766},{"$f":"CEILING('прайс-лист2'!H104*Титульный!$AY$1,Титульный!$AY$3)","v":26686},{"$f":"CEILING('прайс-лист2'!I104*Титульный!$AY$1,Титульный!$AY$3)","v":19326},{"$f":"CEILING('прайс-лист2'!J104*Титульный!$AY$1,Титульный!$AY$3)","v":19926},{"$f":"CEILING('прайс-лист2'!K104*Титульный!$AY$1,Титульный!$AY$3)","v":21466},{"$f":"CEILING('прайс-лист2'!L104*Титульный!$AY$1,Титульный!$AY$3)","v":23286},"-",{"$f":"CEILING('прайс-лист2'!N104*Титульный!$AY$1,Титульный!$AY$3)","v":29786},{"$f":"CEILING('прайс-лист2'!O104*Титульный!$AY$1,Титульный!$AY$3)","v":31986},{"$f":"CEILING('прайс-лист2'!P104*Титульный!$AY$1,Титульный!$AY$3)","v":29746},{"$f":"CEILING('прайс-лист2'!Q104*Титульный!$AY$1,Титульный!$AY$3)","v":32406},"-",{"$f":"CEILING('прайс-лист2'!S104*Титульный!$AY$1,Титульный!$AY$3)","v":3046},{"$f":"CEILING('прайс-лист2'!T104*Титульный!$AY$1,Титульный!$AY$3)","v":5460}]
[" Шкаф (560) Комб 2дв 2040х1120",null,"1120х580х2040",{"$f":"CEILING('прайс-лист2'!E105*Титульный!$AY$1,Титульный!$AY$3)","v":24294},{"$f":"CEILING('прайс-лист2'!F105*Титульный!$AY$1,Титульный!$AY$3)","v":33734},{"$f":"CEILING('прайс-лист2'!G105*Титульный!$AY$1,Титульный!$AY$3)","v":25714},{"$f":"CEILING('прайс-лист2'!H105*Титульный!$AY$1,Титульный!$AY$3)","v":29254},{"$f":"CEILING('прайс-лист2'!I105*Титульный!$AY$1,Титульный!$AY$3)","v":20254},{"$f":"CEILING('прайс-лист2'!J105*Титульный!$AY$1,Титульный!$AY$3)","v":20954},{"$f":"CEILING('прайс-лист2'!K105*Титульный!$AY$1,Титульный!$AY$3)","v":22734},{"$f":"CEILING('прайс-лист2'!L105*Титульный!$AY$1,Титульный!$AY$3)","v":24914},"-",{"$f":"CEILING('прайс-лист2'!N105*Титульный!$AY$1,Титульный!$AY$3)","v":32554},{"$f":"CEILING('прайс-лист2'!O105*Титульный!$AY$1,Титульный!$AY$3)","v":34694},{"$f":"CEILING('прайс-лист2'!P105*Титульный!$AY$1,Титульный!$AY$3)","v":32514},{"$f":"CEILING('прайс-лист2'!Q105*Титульный!$AY$1,Титульный!$AY$3)","v":35734},"-",{"$f":"CEILING('прайс-лист2'!S105*Титульный!$AY$1,Титульный!$AY$3)","v":3864},{"$f":"CEILING('прайс-лист2'!T105*Титульный!$AY$1,Титульный!$AY$3)","v":7464}]
["Шкаф (560) Комб 2дв 2240х1120",null,"1120х580х2240",{"$f":"CEILING('прайс-лист2'!E106*Титульный!$AY$1,Титульный!$AY$3)","v":25968},{"$f":"CEILING('прайс-лист2'!F106*Титульный!$AY$1,Титульный!$AY$3)","v":36348},{"$f":"CEILING('прайс-лист2'!G106*Титульный!$AY$1,Титульный!$AY$3)","v":27528},{"$f":"CEILING('прайс-лист2'!H106*Титульный!$AY$1,Титульный!$AY$3)","v":31408},{"$f":"CEILING('прайс-лист2'!I106*Титульный!$AY$1,Титульный!$AY$3)","v":21528},{"$f":"CEILING('прайс-лист2'!J106*Титульный!$AY$1,Титульный!$AY$3)","v":22288},{"$f":"CEILING('прайс-лист2'!K106*Титульный!$AY$1,Титульный!$AY$3)","v":24228},{"$f":"CEILING('прайс-лист2'!L106*Титульный!$AY$1,Титульный!$AY$3)","v":26608},"-",{"$f":"CEILING('прайс-лист2'!N106*Титульный!$AY$1,Титульный!$AY$3)","v":35008},{"$f":"CEILING('прайс-лист2'!O106*Титульный!$AY$1,Титульный!$AY$3)","v":37308},{"$f":"CEILING('прайс-лист2'!P106*Титульный!$AY$1,Титульный!$AY$3)","v":34948},{"$f":"CEILING('прайс-лист2'!Q106*Титульный!$AY$1,Титульный!$AY$3)","v":38508},"-",{"$f":"CEILING('прайс-лист2'!S106*Титульный!$AY$1,Титульный!$AY$3)","v":4380},{"$f":"CEILING('прайс-лист2'!T106*Титульный!$AY$1,Титульный!$AY$3)","v":7264}]
["Шкаф (560) Комб 3дв 2040х1260",null,"1260х580х2040",{"$f":"CEILING('прайс-лист2'!E107*Титульный!$AY$1,Титульный!$AY$3)","v":27737},{"$f":"CEILING('прайс-лист2'!F107*Титульный!$AY$1,Титульный!$AY$3)","v":38357},{"$f":"CEILING('прайс-лист2'!G107*Титульный!$AY$1,Титульный!$AY$3)","v":29357},{"$f":"CEILING('прайс-лист2'!H107*Титульный!$AY$1,Титульный!$AY$3)","v":33317},{"$f":"CEILING('прайс-лист2'!I107*Титульный!$AY$1,Титульный!$AY$3)","v":23267},{"$f":"CEILING('прайс-лист2'!J107*Титульный!$AY$1,Титульный!$AY$3)","v":24107},{"$f":"CEILING('прайс-лист2'!K107*Титульный!$AY$1,Титульный!$AY$3)","v":26207},{"$f":"CEILING('прайс-лист2'!L107*Титульный!$AY$1,Титульный!$AY$3)","v":28697},"-",{"$f":"CEILING('прайс-лист2'!N107*Титульный!$AY$1,Титульный!$AY$3)","v":37607},{"$f":"CEILING('прайс-лист2'!O107*Титульный!$AY$1,Титульный!$AY$3)","v":40637},{"$f":"CEILING('прайс-лист2'!P107*Титульный!$AY$1,Титульный!$AY$3)","v":37547},{"$f":"CEILING('прайс-лист2'!Q107*Титульный!$AY$1,Титульный!$AY$3)","v":41177},"-",{"$f":"CEILING('прайс-лист2'!S107*Титульный!$AY$1,Титульный!$AY$3)","v":1344},{"$f":"CEILING('прайс-лист2'!T107*Титульный!$AY$1,Титульный!$AY$3)","v":2490}]
["Шкаф (560) Комб 3дв 2040х1400",null,"1400х580х2040",{"$f":"CEILING('прайс-лист2'!E108*Титульный!$AY$1,Титульный!$AY$3)","v":29391},{"$f":"CEILING('прайс-лист2'!F108*Титульный!$AY$1,Титульный!$AY$3)","v":41191},{"$f":"CEILING('прайс-лист2'!G108*Титульный!$AY$1,Титульный!$AY$3)","v":31181},{"$f":"CEILING('прайс-лист2'!H108*Титульный!$AY$1,Титульный!$AY$3)","v":35591},{"$f":"CEILING('прайс-лист2'!I108*Титульный!$AY$1,Титульный!$AY$3)","v":24391},{"$f":"CEILING('прайс-лист2'!J108*Титульный!$AY$1,Титульный!$AY$3)","v":25301},{"$f":"CEILING('прайс-лист2'!K108*Титульный!$AY$1,Титульный!$AY$3)","v":27591},{"$f":"CEILING('прайс-лист2'!L108*Титульный!$AY$1,Титульный!$AY$3)","v":30341},"-",{"$f":"CEILING('прайс-лист2'!N108*Титульный!$AY$1,Титульный!$AY$3)","v":40101},{"$f":"CEILING('прайс-лист2'!O108*Титульный!$AY$1,Титульный!$AY$3)","v":43191},{"$f":"CEILING('прайс-лист2'!P108*Титульный!$AY$1,Титульный!$AY$3)","v":40041},{"$f":"CEILING('прайс-лист2'!Q108*Титульный!$AY$1,Титульный!$AY$3)","v":44071},"-",{"$f":"CEILING('прайс-лист2'!S108*Титульный!$AY$1,Титульный!$AY$3)","v":1932},{"$f":"CEILING('прайс-лист2'!T108*Титульный!$AY$1,Титульный!$AY$3)","v":3314}]
["Шкаф (560) Комб 3дв 2040х1680",null,"1680х580х2040",{"$f":"CEILING('прайс-лист2'!E109*Титульный!$AY$1,Титульный!$AY$3)","v":32869},{"$f":"CEILING('прайс-лист2'!F109*Титульный!$AY$1,Титульный!$AY$3)","v":47029},{"$f":"CEILING('прайс-лист2'!G109*Титульный!$AY$1,Титульный!$AY$3)","v":34999},{"$f":"CEILING('прайс-лист2'!H109*Титульный!$AY$1,Титульный!$AY$3)","v":40309},{"$f":"CEILING('прайс-лист2'!I109*Титульный!$AY$1,Титульный!$AY$3)","v":26809},{"$f":"CEILING('прайс-лист2'!J109*Титульный!$AY$1,Титульный!$AY$3)","v":27859},{"$f":"CEILING('прайс-лист2'!K109*Титульный!$AY$1,Титульный!$AY$3)","v":30529},{"$f":"CEILING('прайс-лист2'!L109*Титульный!$AY$1,Титульный!$AY$3)","v":33799},"-",{"$f":"CEILING('прайс-лист2'!N109*Титульный!$AY$1,Титульный!$AY$3)","v":45259},{"$f":"CEILING('прайс-лист2'!O109*Титульный!$AY$1,Титульный!$AY$3)","v":48469},{"$f":"CEILING('прайс-лист2'!P109*Титульный!$AY$1,Титульный!$AY$3)","v":45199},{"$f":"CEILING('прайс-лист2'!Q109*Титульный!$AY$1,Титульный!$AY$3)","v":50029},"-",{"$f":"CEILING('прайс-лист2'!S109*Титульный!$AY$1,Титульный!$AY$3)","v":1932},{"$f":"CEILING('прайс-лист2'!T109*Титульный!$AY$1,Титульный!$AY$3)","v":3314}]
["Шкаф (560) Комб 3дв 2240х1260",null,"1260х580х2240",{"$f":"CEILING('прайс-лист2'!E110*Титульный!$AY$1,Титульный!$AY$3)","v":29703},{"$f":"CEILING('прайс-лист2'!F110*Титульный!$AY$1,Титульный!$AY$3)","v":41343},{"$f":"CEILING('прайс-лист2'!G110*Титульный!$AY$1,Титульный!$AY$3)","v":31443},{"$f":"CEILING('прайс-лист2'!H110*Титульный!$AY$1,Титульный!$AY$3)","v":35823},{"$f":"CEILING('прайс-лист2'!I110*Титульный!$AY$1,Титульный!$AY$3)","v":24783},{"$f":"CEILING('прайс-лист2'!J110*Титульный!$AY$1,Титульный!$AY$3)","v":25683},{"$f":"CEILING('прайс-лист2'!K110*Титульный!$AY$1,Титульный!$AY$3)","v":27993},{"$f":"CEILING('прайс-лист2'!L110*Титульный!$AY$1,Титульный!$AY$3)","v":30723},"-",{"$f":"CEILING('прайс-лист2'!N110*Титульный!$AY$1,Титульный!$AY$3)","v":40473},{"$f":"CEILING('прайс-лист2'!O110*Титульный!$AY$1,Титульный!$AY$3)","v":43773},{"$f":"CEILING('прайс-лист2'!P110*Титульный!$AY$1,Титульный!$AY$3)","v":40413},{"$f":"CEILING('прайс-лист2'!Q110*Титульный!$AY$1,Титульный!$AY$3)","v":44403},"-",{"$f":"CEILING('прайс-лист2'!S110*Титульный!$AY$1,Титульный!$AY$3)","v":1523},{"$f":"CEILING('прайс-лист2'!T110*Титульный!$AY$1,Титульный!$AY$3)","v":2730}]
["Шкаф (560) Комб 3дв 2240х1400",null,"1400х580х2240",{"$f":"CEILING('прайс-лист2'!E111*Титульный!$AY$1,Титульный!$AY$3)","v":31445},{"$f":"CEILING('прайс-лист2'!F111*Титульный!$AY$1,Титульный!$AY$3)","v":44395},{"$f":"CEILING('прайс-лист2'!G111*Титульный!$AY$1,Титульный!$AY$3)","v":33385},{"$f":"CEILING('прайс-лист2'!H111*Титульный!$AY$1,Титульный!$AY$3)","v":38245},{"$f":"CEILING('прайс-лист2'!I111*Титульный!$AY$1,Титульный!$AY$3)","v":25945},{"$f":"CEILING('прайс-лист2'!J111*Титульный!$AY$1,Титульный!$AY$3)","v":26925},{"$f":"CEILING('прайс-лист2'!K111*Титульный!$AY$1,Титульный!$AY$3)","v":29435},{"$f":"CEILING('прайс-лист2'!L111*Титульный!$AY$1,Титульный!$AY$3)","v":32445},"-",{"$f":"CEILING('прайс-лист2'!N111*Титульный!$AY$1,Титульный!$AY$3)","v":43145},{"$f":"CEILING('прайс-лист2'!O111*Титульный!$AY$1,Титульный!$AY$3)","v":46495},{"$f":"CEILING('прайс-лист2'!P111*Титульный!$AY$1,Титульный!$AY$3)","v":43075},{"$f":"CEILING('прайс-лист2'!Q111*Титульный!$AY$1,Титульный!$AY$3)","v":47515},"-",{"$f":"CEILING('прайс-лист2'!S111*Титульный!$AY$1,Титульный!$AY$3)","v":2190},{"$f":"CEILING('прайс-лист2'!T111*Титульный!$AY$1,Титульный!$AY$3)","v":3632}]
["Шкаф (560) Комб 3дв 2240х1680",null,"1680х580х2240",{"$f":"CEILING('прайс-лист2'!E112*Титульный!$AY$1,Титульный!$AY$3)","v":35463},{"$f":"CEILING('прайс-лист2'!F112*Титульный!$AY$1,Титульный!$AY$3)","v":51033},{"$f":"CEILING('прайс-лист2'!G112*Титульный!$AY$1,Титульный!$AY$3)","v":37803},{"$f":"CEILING('прайс-лист2'!H112*Титульный!$AY$1,Титульный!$AY$3)","v":43623},{"$f":"CEILING('прайс-лист2'!I112*Титульный!$AY$1,Титульный!$AY$3)","v":28803},{"$f":"CEILING('прайс-лист2'!J112*Титульный!$AY$1,Титульный!$AY$3)","v":29943},{"$f":"CEILING('прайс-лист2'!K112*Титульный!$AY$1,Титульный!$AY$3)","v":32853},{"$f":"CEILING('прайс-лист2'!L112*Титульный!$AY$1,Титульный!$AY$3)","v":36423},"-",{"$f":"CEILING('прайс-лист2'!N112*Титульный!$AY$1,Титульный!$AY$3)","v":49023},{"$f":"CEILING('прайс-лист2'!O112*Титульный!$AY$1,Титульный!$AY$3)","v":52473},{"$f":"CEILING('прайс-лист2'!P112*Титульный!$AY$1,Титульный!$AY$3)","v":48933},{"$f":"CEILING('прайс-лист2'!Q112*Титульный!$AY$1,Титульный!$AY$3)","v":54273},"-",{"$f":"CEILING('прайс-лист2'!S112*Титульный!$AY$1,Титульный!$AY$3)","v":2190},{"$f":"CEILING('прайс-лист2'!T112*Титульный!$AY$1,Титульный!$AY$3)","v":3632}]
["Шкаф (560) Комб 3дв 2ящ 2040х1400",null,"1400х580х2040",{"$f":"CEILING('прайс-лист2'!E113*Титульный!$AY$1,Титульный!$AY$3)","v":33122},{"$f":"CEILING('прайс-лист2'!F113*Титульный!$AY$1,Титульный!$AY$3)","v":44912},{"$f":"CEILING('прайс-лист2'!G113*Титульный!$AY$1,Титульный!$AY$3)","v":34912},{"$f":"CEILING('прайс-лист2'!H113*Титульный!$AY$1,Титульный!$AY$3)","v":39322},{"$f":"CEILING('прайс-лист2'!I113*Титульный!$AY$1,Титульный!$AY$3)","v":28172},{"$f":"CEILING('прайс-лист2'!J113*Титульный!$AY$1,Титульный!$AY$3)","v":29132},{"$f":"CEILING('прайс-лист2'!K113*Титульный!$AY$1,Титульный!$AY$3)","v":31492},{"$f":"CEILING('прайс-лист2'!L113*Титульный!$AY$1,Титульный!$AY$3)","v":34262},"-",{"$f":"CEILING('прайс-лист2'!N113*Титульный!$AY$1,Титульный!$AY$3)","v":44242},{"$f":"CEILING('прайс-лист2'!O113*Титульный!$AY$1,Титульный!$AY$3)","v":47802},{"$f":"CEILING('прайс-лист2'!P113*Титульный!$AY$1,Титульный!$AY$3)","v":44182},{"$f":"CEILING('прайс-лист2'!Q113*Титульный!$AY$1,Титульный!$AY$3)","v":48212},"-",{"$f":"CEILING('прайс-лист2'!S113*Титульный!$AY$1,Титульный!$AY$3)","v":1932},{"$f":"CEILING('прайс-лист2'!T113*Титульный!$AY$1,Титульный!$AY$3)","v":3314}]
["Шкаф (560) Комб 3дв 2ящ 2040х1680",null,"1680х580х2040",{"$f":"CEILING('прайс-лист2'!E114*Титульный!$AY$1,Титульный!$AY$3)","v":36369},{"$f":"CEILING('прайс-лист2'!F114*Титульный!$AY$1,Титульный!$AY$3)","v":50519},{"$f":"CEILING('прайс-лист2'!G114*Титульный!$AY$1,Титульный!$AY$3)","v":38499},{"$f":"CEILING('прайс-лист2'!H114*Титульный!$AY$1,Титульный!$AY$3)","v":43809},{"$f":"CEILING('прайс-лист2'!I114*Титульный!$AY$1,Титульный!$AY$3)","v":30359},{"$f":"CEILING('прайс-лист2'!J114*Титульный!$AY$1,Титульный!$AY$3)","v":31459},{"$f":"CEILING('прайс-лист2'!K114*Титульный!$AY$1,Титульный!$AY$3)","v":34199},{"$f":"CEILING('прайс-лист2'!L114*Титульный!$AY$1,Титульный!$AY$3)","v":37489},"-",{"$f":"CEILING('прайс-лист2'!N114*Титульный!$AY$1,Титульный!$AY$3)","v":49169},{"$f":"CEILING('прайс-лист2'!O114*Титульный!$AY$1,Титульный!$AY$3)","v":52849},{"$f":"CEILING('прайс-лист2'!P114*Титульный!$AY$1,Титульный!$AY$3)","v":49109},{"$f":"CEILING('прайс-лист2'!Q114*Титульный!$AY$1,Титульный!$AY$3)","v":53939},"-",{"$f":"CEILING('прайс-лист2'!S114*Титульный!$AY$1,Титульный!$AY$3)","v":1932},{"$f":"CEILING('прайс-лист2'!T114*Титульный!$AY$1,Титульный!$AY$3)","v":3314}]
["Шкаф (560) Комб 3дв 2ящ 2240х1400",null,"1400х580х2240",{"$f":"CEILING('прайс-лист2'!E119*Титульный!$AY$1,Титульный!$AY$3)","v":35400},{"$f":"CEILING('прайс-лист2'!F119*Титульный!$AY$1,Титульный!$AY$3)","v":48350},{"$f":"CEILING('прайс-лист2'!G119*Титульный!$AY$1,Титульный!$AY$3)","v":37350},{"$f":"CEILING('прайс-лист2'!H119*Титульный!$AY$1,Титульный!$AY$3)","v":42210},{"$f":"CEILING('прайс-лист2'!I119*Титульный!$AY$1,Титульный!$AY$3)","v":29950},{"$f":"CEILING('прайс-лист2'!J119*Титульный!$AY$1,Титульный!$AY$3)","v":30990},{"$f":"CEILING('прайс-лист2'!K119*Титульный!$AY$1,Титульный!$AY$3)","v":33570},{"$f":"CEILING('прайс-лист2'!L119*Титульный!$AY$1,Титульный!$AY$3)","v":36610},"-",{"$f":"CEILING('прайс-лист2'!N119*Титульный!$AY$1,Титульный!$AY$3)","v":47520},{"$f":"CEILING('прайс-лист2'!O119*Титульный!$AY$1,Титульный!$AY$3)","v":51350},{"$f":"CEILING('прайс-лист2'!P119*Титульный!$AY$1,Титульный!$AY$3)","v":47460},{"$f":"CEILING('прайс-лист2'!Q119*Титульный!$AY$1,Титульный!$AY$3)","v":51890},"-",{"$f":"CEILING('прайс-лист2'!S119*Титульный!$AY$1,Титульный!$AY$3)","v":2190},{"$f":"CEILING('прайс-лист2'!T119*Титульный!$AY$1,Титульный!$AY$3)","v":3632}]
["Шкаф (560) Комб 3дв 2ящ 2240х1680",null,"1680х580х2240",{"$f":"CEILING('прайс-лист2'!E120*Титульный!$AY$1,Титульный!$AY$3)","v":38888},{"$f":"CEILING('прайс-лист2'!F120*Титульный!$AY$1,Титульный!$AY$3)","v":54458},{"$f":"CEILING('прайс-лист2'!G120*Титульный!$AY$1,Титульный!$AY$3)","v":41238},{"$f":"CEILING('прайс-лист2'!H120*Титульный!$AY$1,Титульный!$AY$3)","v":47058},{"$f":"CEILING('прайс-лист2'!I120*Титульный!$AY$1,Титульный!$AY$3)","v":32278},{"$f":"CEILING('прайс-лист2'!J120*Титульный!$AY$1,Титульный!$AY$3)","v":33478},{"$f":"CEILING('прайс-лист2'!K120*Титульный!$AY$1,Титульный!$AY$3)","v":36458},{"$f":"CEILING('прайс-лист2'!L120*Титульный!$AY$1,Титульный!$AY$3)","v":40058},"-",{"$f":"CEILING('прайс-лист2'!N120*Титульный!$AY$1,Титульный!$AY$3)","v":52868},{"$f":"CEILING('прайс-лист2'!O120*Титульный!$AY$1,Титульный!$AY$3)","v":56798},{"$f":"CEILING('прайс-лист2'!P120*Титульный!$AY$1,Титульный!$AY$3)","v":52788},{"$f":"CEILING('прайс-лист2'!Q120*Титульный!$AY$1,Титульный!$AY$3)","v":58118},"-",{"$f":"CEILING('прайс-лист2'!S120*Титульный!$AY$1,Титульный!$AY$3)","v":2190},{"$f":"CEILING('прайс-лист2'!T120*Титульный!$AY$1,Титульный!$AY$3)","v":3632}]
["Шкаф (560) Комб 4дв 2040х1960",null,"1960х580х2040",{"$f":"CEILING('прайс-лист2'!E121*Титульный!$AY$1,Титульный!$AY$3)","v":41137},{"$f":"CEILING('прайс-лист2'!F121*Титульный!$AY$1,Титульный!$AY$3)","v":57657},{"$f":"CEILING('прайс-лист2'!G121*Титульный!$AY$1,Титульный!$AY$3)","v":43637},{"$f":"CEILING('прайс-лист2'!H121*Титульный!$AY$1,Титульный!$AY$3)","v":49817},{"$f":"CEILING('прайс-лист2'!I121*Титульный!$AY$1,Титульный!$AY$3)","v":34117},{"$f":"CEILING('прайс-лист2'!J121*Титульный!$AY$1,Титульный!$AY$3)","v":35377},{"$f":"CEILING('прайс-лист2'!K121*Титульный!$AY$1,Титульный!$AY$3)","v":38557},{"$f":"CEILING('прайс-лист2'!L121*Титульный!$AY$1,Титульный!$AY$3)","v":42397},"-",{"$f":"CEILING('прайс-лист2'!N121*Титульный!$AY$1,Титульный!$AY$3)","v":55977},{"$f":"CEILING('прайс-лист2'!O121*Титульный!$AY$1,Титульный!$AY$3)","v":60137},{"$f":"CEILING('прайс-лист2'!P121*Титульный!$AY$1,Титульный!$AY$3)","v":55897},{"$f":"CEILING('прайс-лист2'!Q121*Титульный!$AY$1,Титульный!$AY$3)","v":61537},"-",{"$f":"CEILING('прайс-лист2'!S121*Титульный!$AY$1,Титульный!$AY$3)","v":2688},{"$f":"CEILING('прайс-лист2'!T121*Титульный!$AY$1,Титульный!$AY$3)","v":5985}]
["Шкаф (560) Комб 4дв 2240х1960",null,"1960х580х2240",{"$f":"CEILING('прайс-лист2'!E122*Титульный!$AY$1,Титульный!$AY$3)","v":44414},{"$f":"CEILING('прайс-лист2'!F122*Титульный!$AY$1,Титульный!$AY$3)","v":62554},{"$f":"CEILING('прайс-лист2'!G122*Титульный!$AY$1,Титульный!$AY$3)","v":47134},{"$f":"CEILING('прайс-лист2'!H122*Титульный!$AY$1,Титульный!$AY$3)","v":53934},{"$f":"CEILING('прайс-лист2'!I122*Титульный!$AY$1,Титульный!$AY$3)","v":36694},{"$f":"CEILING('прайс-лист2'!J122*Титульный!$AY$1,Титульный!$AY$3)","v":38054},{"$f":"CEILING('прайс-лист2'!K122*Титульный!$AY$1,Титульный!$AY$3)","v":41534},{"$f":"CEILING('прайс-лист2'!L122*Титульный!$AY$1,Титульный!$AY$3)","v":45734},"-",{"$f":"CEILING('прайс-лист2'!N122*Титульный!$AY$1,Титульный!$AY$3)","v":60634},{"$f":"CEILING('прайс-лист2'!O122*Титульный!$AY$1,Титульный!$AY$3)","v":65134},{"$f":"CEILING('прайс-лист2'!P122*Титульный!$AY$1,Титульный!$AY$3)","v":60534},{"$f":"CEILING('прайс-лист2'!Q122*Титульный!$AY$1,Титульный!$AY$3)","v":66754},"-",{"$f":"CEILING('прайс-лист2'!S122*Титульный!$AY$1,Титульный!$AY$3)","v":3046},{"$f":"CEILING('прайс-лист2'!T122*Титульный!$AY$1,Титульный!$AY$3)","v":5460}]
["Шкаф (560) Комб 4дв 2ящ 2040х1960",null,"1960х580х2040",{"$f":"CEILING('прайс-лист2'!E123*Титульный!$AY$1,Титульный!$AY$3)","v":42189},{"$f":"CEILING('прайс-лист2'!F123*Титульный!$AY$1,Титульный!$AY$3)","v":58669},{"$f":"CEILING('прайс-лист2'!G123*Титульный!$AY$1,Титульный!$AY$3)","v":44689},{"$f":"CEILING('прайс-лист2'!H123*Титульный!$AY$1,Титульный!$AY$3)","v":50849},{"$f":"CEILING('прайс-лист2'!I123*Титульный!$AY$1,Титульный!$AY$3)","v":35229},{"$f":"CEILING('прайс-лист2'!J123*Титульный!$AY$1,Титульный!$AY$3)","v":36529},{"$f":"CEILING('прайс-лист2'!K123*Титульный!$AY$1,Титульный!$AY$3)","v":39789},{"$f":"CEILING('прайс-лист2'!L123*Титульный!$AY$1,Титульный!$AY$3)","v":43669},"-",{"$f":"CEILING('прайс-лист2'!N123*Титульный!$AY$1,Титульный!$AY$3)","v":57489},{"$f":"CEILING('прайс-лист2'!O123*Титульный!$AY$1,Титульный!$AY$3)","v":62189},{"$f":"CEILING('прайс-лист2'!P123*Титульный!$AY$1,Титульный!$AY$3)","v":57409},{"$f":"CEILING('прайс-лист2'!Q123*Титульный!$AY$1,Титульный!$AY$3)","v":63049},"-",{"$f":"CEILING('прайс-лист2'!S123*Титульный!$AY$1,Титульный!$AY$3)","v":2688},{"$f":"CEILING('прайс-лист2'!T123*Титульный!$AY$1,Титульный!$AY$3)","v":5985}]
["Шкаф (560) Комб 4дв 2ящ 2240х1960",null,"1960х580х2240",{"$f":"CEILING('прайс-лист2'!E124*Титульный!$AY$1,Титульный!$AY$3)","v":45161},{"$f":"CEILING('прайс-лист2'!F124*Титульный!$AY$1,Титульный!$AY$3)","v":63301},{"$f":"CEILING('прайс-лист2'!G124*Титульный!$AY$1,Титульный!$AY$3)","v":47901},{"$f":"CEILING('прайс-лист2'!H124*Титульный!$AY$1,Титульный!$AY$3)","v":54681},{"$f":"CEILING('прайс-лист2'!I124*Титульный!$AY$1,Титульный!$AY$3)","v":37501},{"$f":"CEILING('прайс-лист2'!J124*Титульный!$AY$1,Титульный!$AY$3)","v":38921},{"$f":"CEILING('прайс-лист2'!K124*Титульный!$AY$1,Титульный!$AY$3)","v":42481},{"$f":"CEILING('прайс-лист2'!L124*Титульный!$AY$1,Титульный!$AY$3)","v":46721},"-",{"$f":"CEILING('прайс-лист2'!N124*Титульный!$AY$1,Титульный!$AY$3)","v":61861},{"$f":"CEILING('прайс-лист2'!O124*Титульный!$AY$1,Титульный!$AY$3)","v":66901},{"$f":"CEILING('прайс-лист2'!P124*Титульный!$AY$1,Титульный!$AY$3)","v":61781},{"$f":"CEILING('прайс-лист2'!Q124*Титульный!$AY$1,Титульный!$AY$3)","v":68001},"-",{"$f":"CEILING('прайс-лист2'!S124*Титульный!$AY$1,Титульный!$AY$3)","v":3046},{"$f":"CEILING('прайс-лист2'!T124*Титульный!$AY$1,Титульный!$AY$3)","v":5460}]
["Внимание!!! Для наборов мебели \"Марго\" использовать только накладные зеркала"]
["Шкафы глубиной 560мм"]
["Наименование","Эскиз","Габариты,  ШхГхВ мм.","МДФ фасады",null,null,null,"Марго16",null,null,null,null,"UV-лак",null,"ТСС",null,"ТСС сборный","Стоимость зеркал"]
[null,null,null,"1 ЦК","1 ЦК + патина","2 ЦК","3 ЦК","1 ц.к.","2 ц.к.","3 ц.к.","4 ц.к.","5 ц.к.","UV-лак кромка ABC/AL кромка","кромка 3D","1 ЦК","2 ЦК",null,"Зеркало в рамке**","Зеркало накладное*"]
["Шкаф (560) Торцевой 2040х420 лев./пр",null,"420х580х2040",{"$f":"CEILING('прайс-лист2'!E125*Титульный!$AY$1,Титульный!$AY$3)","v":15798},{"$f":"CEILING('прайс-лист2'!F125*Титульный!$AY$1,Титульный!$AY$3)","v":22578},{"$f":"CEILING('прайс-лист2'!G125*Титульный!$AY$1,Титульный!$AY$3)","v":16818},{"$f":"CEILING('прайс-лист2'!H125*Титульный!$AY$1,Титульный!$AY$3)","v":19358},{"$f":"CEILING('прайс-лист2'!I125*Титульный!$AY$1,Титульный!$AY$3)","v":12948},{"$f":"CEILING('прайс-лист2'!J125*Титульный!$AY$1,Титульный!$AY$3)","v":13488},{"$f":"CEILING('прайс-лист2'!K125*Титульный!$AY$1,Титульный!$AY$3)","v":14838},{"$f":"CEILING('прайс-лист2'!L125*Титульный!$AY$1,Титульный!$AY$3)","v":16428},"-",{"$f":"CEILING('прайс-лист2'!N125*Титульный!$AY$1,Титульный!$AY$3)","v":22158},{"$f":"CEILING('прайс-лист2'!O125*Титульный!$AY$1,Титульный!$AY$3)","v":24168},{"$f":"CEILING('прайс-лист2'!P125*Титульный!$AY$1,Титульный!$AY$3)","v":22118},{"$f":"CEILING('прайс-лист2'!Q125*Титульный!$AY$1,Титульный!$AY$3)","v":24448},"-","-","-"]
["Шкаф (560) Торцевой 2240х420 лев./пр",null,"420х580х2240",{"$f":"CEILING('прайс-лист2'!E126*Титульный!$AY$1,Титульный!$AY$3)","v":17066},{"$f":"CEILING('прайс-лист2'!F126*Титульный!$AY$1,Титульный!$AY$3)","v":24526},{"$f":"CEILING('прайс-лист2'!G126*Титульный!$AY$1,Титульный!$AY$3)","v":18186},{"$f":"CEILING('прайс-лист2'!H126*Титульный!$AY$1,Титульный!$AY$3)","v":20986},{"$f":"CEILING('прайс-лист2'!I126*Титульный!$AY$1,Титульный!$AY$3)","v":13926},{"$f":"CEILING('прайс-лист2'!J126*Титульный!$AY$1,Титульный!$AY$3)","v":14516},{"$f":"CEILING('прайс-лист2'!K126*Титульный!$AY$1,Титульный!$AY$3)","v":15986},{"$f":"CEILING('прайс-лист2'!L126*Титульный!$AY$1,Титульный!$AY$3)","v":17756},"-",{"$f":"CEILING('прайс-лист2'!N126*Титульный!$AY$1,Титульный!$AY$3)","v":24026},{"$f":"CEILING('прайс-лист2'!O126*Титульный!$AY$1,Титульный!$AY$3)","v":26216},{"$f":"CEILING('прайс-лист2'!P126*Титульный!$AY$1,Титульный!$AY$3)","v":23996},{"$f":"CEILING('прайс-лист2'!Q126*Титульный!$AY$1,Титульный!$AY$3)","v":26546},"-","-","-"]
["Шкафы антресольные и стеллажи (340) (420)"]
["Шкаф (340) антр 1 дв. 400х1200",null,"1200х360х400",{"$f":"CEILING('прайс-лист2'!E128*Титульный!$AY$1,Титульный!$AY$3)","v":6071},{"$f":"CEILING('прайс-лист2'!F128*Титульный!$AY$1,Титульный!$AY$3)","v":8091},{"$f":"CEILING('прайс-лист2'!G128*Титульный!$AY$1,Титульный!$AY$3)","v":6381},{"$f":"CEILING('прайс-лист2'!H128*Титульный!$AY$1,Титульный!$AY$3)","v":7131},{"$f":"CEILING('прайс-лист2'!I128*Титульный!$AY$1,Титульный!$AY$3)","v":5231},{"$f":"CEILING('прайс-лист2'!J128*Титульный!$AY$1,Титульный!$AY$3)","v":5401},{"$f":"CEILING('прайс-лист2'!K128*Титульный!$AY$1,Титульный!$AY$3)","v":5811},{"$f":"CEILING('прайс-лист2'!L128*Титульный!$AY$1,Титульный!$AY$3)","v":6301},"-",{"$f":"CEILING('прайс-лист2'!N128*Титульный!$AY$1,Титульный!$AY$3)","v":8031},{"$f":"CEILING('прайс-лист2'!O128*Титульный!$AY$1,Титульный!$AY$3)","v":8701},{"$f":"CEILING('прайс-лист2'!P128*Титульный!$AY$1,Титульный!$AY$3)","v":8021},{"$f":"CEILING('прайс-лист2'!Q128*Титульный!$AY$1,Титульный!$AY$3)","v":8711},"-","-","-"]
["Шкаф (340) антр 1 дв. 400х1260",null,"1260х360х400",{"$f":"CEILING('прайс-лист2'!E129*Титульный!$AY$1,Титульный!$AY$3)","v":6183},{"$f":"CEILING('прайс-лист2'!F129*Титульный!$AY$1,Титульный!$AY$3)","v":8303},{"$f":"CEILING('прайс-лист2'!G129*Титульный!$AY$1,Титульный!$AY$3)","v":6503},{"$f":"CEILING('прайс-лист2'!H129*Титульный!$AY$1,Титульный!$AY$3)","v":7293},{"$f":"CEILING('прайс-лист2'!I129*Титульный!$AY$1,Титульный!$AY$3)","v":5303},{"$f":"CEILING('прайс-лист2'!J129*Титульный!$AY$1,Титульный!$AY$3)","v":5473},{"$f":"CEILING('прайс-лист2'!K129*Титульный!$AY$1,Титульный!$AY$3)","v":5903},{"$f":"CEILING('прайс-лист2'!L129*Титульный!$AY$1,Титульный!$AY$3)","v":6413},"-",{"$f":"CEILING('прайс-лист2'!N129*Титульный!$AY$1,Титульный!$AY$3)","v":8233},{"$f":"CEILING('прайс-лист2'!O129*Титульный!$AY$1,Титульный!$AY$3)","v":8923},{"$f":"CEILING('прайс-лист2'!P129*Титульный!$AY$1,Титульный!$AY$3)","v":8223},{"$f":"CEILING('прайс-лист2'!Q129*Титульный!$AY$1,Титульный!$AY$3)","v":8953},"-","-","-"]
["Шкаф (340) антр 1 дв. 400х840",null,"840х360х400",{"$f":"CEILING('прайс-лист2'!E130*Титульный!$AY$1,Титульный!$AY$3)","v":5017},{"$f":"CEILING('прайс-лист2'!F130*Титульный!$AY$1,Титульный!$AY$3)","v":6427},{"$f":"CEILING('прайс-лист2'!G130*Титульный!$AY$1,Титульный!$AY$3)","v":5227},{"$f":"CEILING('прайс-лист2'!H130*Титульный!$AY$1,Титульный!$AY$3)","v":5757},{"$f":"CEILING('прайс-лист2'!I130*Титульный!$AY$1,Титульный!$AY$3)","v":4427},{"$f":"CEILING('прайс-лист2'!J130*Титульный!$AY$1,Титульный!$AY$3)","v":4557},{"$f":"CEILING('прайс-лист2'!K130*Титульный!$AY$1,Титульный!$AY$3)","v":4847},{"$f":"CEILING('прайс-лист2'!L130*Титульный!$AY$1,Титульный!$AY$3)","v":5187},"-",{"$f":"CEILING('прайс-лист2'!N130*Титульный!$AY$1,Титульный!$AY$3)","v":6427},{"$f":"CEILING('прайс-лист2'!O130*Титульный!$AY$1,Титульный!$AY$3)","v":6947},{"$f":"CEILING('прайс-лист2'!P130*Титульный!$AY$1,Титульный!$AY$3)","v":6417},{"$f":"CEILING('прайс-лист2'!Q130*Титульный!$AY$1,Титульный!$AY$3)","v":6907},"-","-","-"]
["Шкаф (340) антр 1 дв. стекло 400х1260",null,"1260х360х400",{"$f":"CEILING('прайс-лист2'!E131*Титульный!$AY$1,Титульный!$AY$3)","v":7377},{"$f":"CEILING('прайс-лист2'!F131*Титульный!$AY$1,Титульный!$AY$3)","v":9497},{"$f":"CEILING('прайс-лист2'!G131*Титульный!$AY$1,Титульный!$AY$3)","v":7697},{"$f":"CEILING('прайс-лист2'!H131*Титульный!$AY$1,Титульный!$AY$3)","v":8487},{"$f":"CEILING('прайс-лист2'!I131*Титульный!$AY$1,Титульный!$AY$3)","v":5389},{"$f":"CEILING('прайс-лист2'!J131*Титульный!$AY$1,Титульный!$AY$3)","v":5509},{"$f":"CEILING('прайс-лист2'!K131*Титульный!$AY$1,Титульный!$AY$3)","v":5859},{"$f":"CEILING('прайс-лист2'!L131*Титульный!$AY$1,Титульный!$AY$3)","v":6319},"-","-","-","-","-","-","-","-"]
["Шкаф (340) антр 1 дв. стекло 400х840",null,"840х360х400",{"$f":"CEILING('прайс-лист2'!E132*Титульный!$AY$1,Титульный!$AY$3)","v":5788},{"$f":"CEILING('прайс-лист2'!F132*Титульный!$AY$1,Титульный!$AY$3)","v":7198},{"$f":"CEILING('прайс-лист2'!G132*Титульный!$AY$1,Титульный!$AY$3)","v":5998},{"$f":"CEILING('прайс-лист2'!H132*Титульный!$AY$1,Титульный!$AY$3)","v":6528},{"$f":"CEILING('прайс-лист2'!I132*Титульный!$AY$1,Титульный!$AY$3)","v":4495},{"$f":"CEILING('прайс-лист2'!J132*Титульный!$AY$1,Титульный!$AY$3)","v":4565},{"$f":"CEILING('прайс-лист2'!K132*Титульный!$AY$1,Титульный!$AY$3)","v":4795},{"$f":"CEILING('прайс-лист2'!L132*Титульный!$AY$1,Титульный!$AY$3)","v":5095},"-","-","-","-","-","-","-","-"]
["Шкаф (340) антр 2 дв. ниша 400х1400",null,"1400х360х400",{"$f":"CEILING('прайс-лист2'!E133*Титульный!$AY$1,Титульный!$AY$3)","v":7486},{"$f":"CEILING('прайс-лист2'!F133*Титульный!$AY$1,Титульный!$AY$3)","v":9366},{"$f":"CEILING('прайс-лист2'!G133*Титульный!$AY$1,Титульный!$AY$3)","v":7766},{"$f":"CEILING('прайс-лист2'!H133*Титульный!$AY$1,Титульный!$AY$3)","v":8466},{"$f":"CEILING('прайс-лист2'!I133*Титульный!$AY$1,Титульный!$AY$3)","v":6726},{"$f":"CEILING('прайс-лист2'!J133*Титульный!$AY$1,Титульный!$AY$3)","v":6886},{"$f":"CEILING('прайс-лист2'!K133*Титульный!$AY$1,Титульный!$AY$3)","v":7306},{"$f":"CEILING('прайс-лист2'!L133*Титульный!$AY$1,Титульный!$AY$3)","v":7766},"-",{"$f":"CEILING('прайс-лист2'!N133*Титульный!$AY$1,Титульный!$AY$3)","v":9466},{"$f":"CEILING('прайс-лист2'!O133*Титульный!$AY$1,Титульный!$AY$3)","v":10266},{"$f":"CEILING('прайс-лист2'!P133*Титульный!$AY$1,Титульный!$AY$3)","v":9466},{"$f":"CEILING('прайс-лист2'!Q133*Титульный!$AY$1,Титульный!$AY$3)","v":10106},"-","-","-"]
["Шкаф (340) антр 2 дв. ниша 400х1640",null,"1640х360х400",{"$f":"CEILING('прайс-лист2'!E134*Титульный!$AY$1,Титульный!$AY$3)","v":7998},{"$f":"CEILING('прайс-лист2'!F134*Титульный!$AY$1,Титульный!$AY$3)","v":9878},{"$f":"CEILING('прайс-лист2'!G134*Титульный!$AY$1,Титульный!$AY$3)","v":8278},{"$f":"CEILING('прайс-лист2'!H134*Титульный!$AY$1,Титульный!$AY$3)","v":8978},{"$f":"CEILING('прайс-лист2'!I134*Титульный!$AY$1,Титульный!$AY$3)","v":7238},{"$f":"CEILING('прайс-лист2'!J134*Титульный!$AY$1,Титульный!$AY$3)","v":7398},{"$f":"CEILING('прайс-лист2'!K134*Титульный!$AY$1,Титульный!$AY$3)","v":7818},{"$f":"CEILING('прайс-лист2'!L134*Титульный!$AY$1,Титульный!$AY$3)","v":8278},"-",{"$f":"CEILING('прайс-лист2'!N134*Титульный!$AY$1,Титульный!$AY$3)","v":9978},{"$f":"CEILING('прайс-лист2'!O134*Титульный!$AY$1,Титульный!$AY$3)","v":10778},{"$f":"CEILING('прайс-лист2'!P134*Титульный!$AY$1,Титульный!$AY$3)","v":9978},{"$f":"CEILING('прайс-лист2'!Q134*Титульный!$AY$1,Титульный!$AY$3)","v":10618},"-","-","-"]
["Шкаф (340) антр 2 дв. ниша 400х2040",null,"2040х360х400",{"$f":"CEILING('прайс-лист2'!E135*Титульный!$AY$1,Титульный!$AY$3)","v":9405},{"$f":"CEILING('прайс-лист2'!F135*Титульный!$AY$1,Титульный!$AY$3)","v":11685},{"$f":"CEILING('прайс-лист2'!G135*Титульный!$AY$1,Титульный!$AY$3)","v":9745},{"$f":"CEILING('прайс-лист2'!H135*Титульный!$AY$1,Титульный!$AY$3)","v":10605},{"$f":"CEILING('прайс-лист2'!I135*Титульный!$AY$1,Титульный!$AY$3)","v":8465},{"$f":"CEILING('прайс-лист2'!J135*Титульный!$AY$1,Титульный!$AY$3)","v":8665},{"$f":"CEILING('прайс-лист2'!K135*Титульный!$AY$1,Титульный!$AY$3)","v":9145},{"$f":"CEILING('прайс-лист2'!L135*Титульный!$AY$1,Титульный!$AY$3)","v":9705},"-",{"$f":"CEILING('прайс-лист2'!N135*Титульный!$AY$1,Титульный!$AY$3)","v":11745},{"$f":"CEILING('прайс-лист2'!O135*Титульный!$AY$1,Титульный!$AY$3)","v":12645},{"$f":"CEILING('прайс-лист2'!P135*Титульный!$AY$1,Титульный!$AY$3)","v":11725},{"$f":"CEILING('прайс-лист2'!Q135*Титульный!$AY$1,Титульный!$AY$3)","v":12505},"-","-","-"]
["Стеллаж (340) навесной 300х300",null,"300х340х300",{"$f":"CEILING('прайс-лист2'!E136*Титульный!$AY$1,Титульный!$AY$3)","v":1030},{"$f":"CEILING('прайс-лист2'!F136*Титульный!$AY$1,Титульный!$AY$3)","v":1030},{"$f":"CEILING('прайс-лист2'!G136*Титульный!$AY$1,Титульный!$AY$3)","v":1030},{"$f":"CEILING('прайс-лист2'!H136*Титульный!$AY$1,Титульный!$AY$3)","v":1030},{"$f":"CEILING('прайс-лист2'!I136*Титульный!$AY$1,Титульный!$AY$3)","v":1030},{"$f":"CEILING('прайс-лист2'!J136*Титульный!$AY$1,Титульный!$AY$3)","v":1030},{"$f":"CEILING('прайс-лист2'!K136*Титульный!$AY$1,Титульный!$AY$3)","v":1030},{"$f":"CEILING('прайс-лист2'!L136*Титульный!$AY$1,Титульный!$AY$3)","v":1030},"-",{"$f":"CEILING('прайс-лист2'!N136*Титульный!$AY$1,Титульный!$AY$3)","v":1030},{"$f":"CEILING('прайс-лист2'!O136*Титульный!$AY$1,Титульный!$AY$3)","v":1030},{"$f":"CEILING('прайс-лист2'!P136*Титульный!$AY$1,Титульный!$AY$3)","v":1030},{"$f":"CEILING('прайс-лист2'!Q136*Титульный!$AY$1,Титульный!$AY$3)","v":1030},"-","-","-"]
["Стеллаж (340) навесной 300х1260",null,"1260х340х300",{"$f":"CEILING('прайс-лист2'!E137*Титульный!$AY$1,Титульный!$AY$3)","v":2792},{"$f":"CEILING('прайс-лист2'!F137*Титульный!$AY$1,Титульный!$AY$3)","v":2792},{"$f":"CEILING('прайс-лист2'!G137*Титульный!$AY$1,Титульный!$AY$3)","v":2792},{"$f":"CEILING('прайс-лист2'!H137*Титульный!$AY$1,Титульный!$AY$3)","v":2792},{"$f":"CEILING('прайс-лист2'!I137*Титульный!$AY$1,Титульный!$AY$3)","v":2792},{"$f":"CEILING('прайс-лист2'!J137*Титульный!$AY$1,Титульный!$AY$3)","v":2792},{"$f":"CEILING('прайс-лист2'!K137*Титульный!$AY$1,Титульный!$AY$3)","v":2792},{"$f":"CEILING('прайс-лист2'!L137*Титульный!$AY$1,Титульный!$AY$3)","v":2792},"-",{"$f":"CEILING('прайс-лист2'!N137*Титульный!$AY$1,Титульный!$AY$3)","v":2792},{"$f":"CEILING('прайс-лист2'!O137*Титульный!$AY$1,Титульный!$AY$3)","v":2792},{"$f":"CEILING('прайс-лист2'!P137*Титульный!$AY$1,Титульный!$AY$3)","v":2792},{"$f":"CEILING('прайс-лист2'!Q137*Титульный!$AY$1,Титульный!$AY$3)","v":2792},"-","-","-"]
["Стеллаж (340) 2040х300",null,"300х340х2040",{"$f":"CEILING('прайс-лист2'!E138*Титульный!$AY$1,Титульный!$AY$3)","v":4257},{"$f":"CEILING('прайс-лист2'!F138*Титульный!$AY$1,Титульный!$AY$3)","v":4257},{"$f":"CEILING('прайс-лист2'!G138*Титульный!$AY$1,Титульный!$AY$3)","v":4257},{"$f":"CEILING('прайс-лист2'!H138*Титульный!$AY$1,Титульный!$AY$3)","v":4257},{"$f":"CEILING('прайс-лист2'!I138*Титульный!$AY$1,Титульный!$AY$3)","v":4257},"-","-","-","-",{"$f":"CEILING('прайс-лист2'!N138*Титульный!$AY$1,Титульный!$AY$3)","v":4257},{"$f":"CEILING('прайс-лист2'!O138*Титульный!$AY$1,Титульный!$AY$3)","v":4257},{"$f":"CEILING('прайс-лист2'!P138*Титульный!$AY$1,Титульный!$AY$3)","v":4257},{"$f":"CEILING('прайс-лист2'!Q138*Титульный!$AY$1,Титульный!$AY$3)","v":4257},"-","-","-"]
["Стеллаж (340) 2240х300",null,"300х340х2240",{"$f":"CEILING('прайс-лист2'!E139*Титульный!$AY$1,Титульный!$AY$3)","v":4625},{"$f":"CEILING('прайс-лист2'!F139*Титульный!$AY$1,Титульный!$AY$3)","v":4625},{"$f":"CEILING('прайс-лист2'!G139*Титульный!$AY$1,Титульный!$AY$3)","v":4625},{"$f":"CEILING('прайс-лист2'!H139*Титульный!$AY$1,Титульный!$AY$3)","v":4625},{"$f":"CEILING('прайс-лист2'!I139*Титульный!$AY$1,Титульный!$AY$3)","v":4625},"-","-","-","-",{"$f":"CEILING('прайс-лист2'!N139*Титульный!$AY$1,Титульный!$AY$3)","v":4625},{"$f":"CEILING('прайс-лист2'!O139*Титульный!$AY$1,Титульный!$AY$3)","v":4625},{"$f":"CEILING('прайс-лист2'!P139*Титульный!$AY$1,Титульный!$AY$3)","v":4625},{"$f":"CEILING('прайс-лист2'!Q139*Титульный!$AY$1,Титульный!$AY$3)","v":4625},"-","-","-"]
["Стеллаж (420) 2040х420",null,"420х420х2040",{"$f":"CEILING('прайс-лист2'!E140*Титульный!$AY$1,Титульный!$AY$3)","v":5405},{"$f":"CEILING('прайс-лист2'!F140*Титульный!$AY$1,Титульный!$AY$3)","v":5405},{"$f":"CEILING('прайс-лист2'!G140*Титульный!$AY$1,Титульный!$AY$3)","v":5405},{"$f":"CEILING('прайс-лист2'!H140*Титульный!$AY$1,Титульный!$AY$3)","v":5405},{"$f":"CEILING('прайс-лист2'!I140*Титульный!$AY$1,Титульный!$AY$3)","v":5405},"-","-","-","-",{"$f":"CEILING('прайс-лист2'!N140*Титульный!$AY$1,Титульный!$AY$3)","v":5405},{"$f":"CEILING('прайс-лист2'!O140*Титульный!$AY$1,Титульный!$AY$3)","v":5405},{"$f":"CEILING('прайс-лист2'!P140*Титульный!$AY$1,Титульный!$AY$3)","v":5405},{"$f":"CEILING('прайс-лист2'!Q140*Титульный!$AY$1,Титульный!$AY$3)","v":5405},"-","-","-"]
["Стеллаж (420) 2040х560",null,"560х420х2040",{"$f":"CEILING('прайс-лист2'!E141*Титульный!$AY$1,Титульный!$AY$3)","v":6025},{"$f":"CEILING('прайс-лист2'!F141*Титульный!$AY$1,Титульный!$AY$3)","v":6025},{"$f":"CEILING('прайс-лист2'!G141*Титульный!$AY$1,Титульный!$AY$3)","v":6025},{"$f":"CEILING('прайс-лист2'!H141*Титульный!$AY$1,Титульный!$AY$3)","v":6025},{"$f":"CEILING('прайс-лист2'!I141*Титульный!$AY$1,Титульный!$AY$3)","v":6025},"-","-","-","-",{"$f":"CEILING('прайс-лист2'!N141*Титульный!$AY$1,Титульный!$AY$3)","v":6025},{"$f":"CEILING('прайс-лист2'!O141*Титульный!$AY$1,Титульный!$AY$3)","v":6025},{"$f":"CEILING('прайс-лист2'!P141*Титульный!$AY$1,Титульный!$AY$3)","v":6025},{"$f":"CEILING('прайс-лист2'!Q141*Титульный!$AY$1,Титульный!$AY$3)","v":6025},"-","-","-"]
["Стеллаж (420) 2040х840",null,"840х420х2040",{"$f":"CEILING('прайс-лист2'!E142*Титульный!$AY$1,Титульный!$AY$3)","v":7212},{"$f":"CEILING('прайс-лист2'!F142*Титульный!$AY$1,Титульный!$AY$3)","v":7212},{"$f":"CEILING('прайс-лист2'!G142*Титульный!$AY$1,Титульный!$AY$3)","v":7212},{"$f":"CEILING('прайс-лист2'!H142*Титульный!$AY$1,Титульный!$AY$3)","v":7212},{"$f":"CEILING('прайс-лист2'!I142*Титульный!$AY$1,Титульный!$AY$3)","v":7212},"-","-","-","-",{"$f":"CEILING('прайс-лист2'!N142*Титульный!$AY$1,Титульный!$AY$3)","v":7212},{"$f":"CEILING('прайс-лист2'!O142*Титульный!$AY$1,Титульный!$AY$3)","v":7212},{"$f":"CEILING('прайс-лист2'!P142*Титульный!$AY$1,Титульный!$AY$3)","v":7212},{"$f":"CEILING('прайс-лист2'!Q142*Титульный!$AY$1,Титульный!$AY$3)","v":7212},"-","-","-"]
["Стеллаж (420) 2240х420",null,"420х420х2240",{"$f":"CEILING('прайс-лист2'!E143*Титульный!$AY$1,Титульный!$AY$3)","v":6016},{"$f":"CEILING('прайс-лист2'!F143*Титульный!$AY$1,Титульный!$AY$3)","v":6016},{"$f":"CEILING('прайс-лист2'!G143*Титульный!$AY$1,Титульный!$AY$3)","v":6016},{"$f":"CEILING('прайс-лист2'!H143*Титульный!$AY$1,Титульный!$AY$3)","v":6016},{"$f":"CEILING('прайс-лист2'!I143*Титульный!$AY$1,Титульный!$AY$3)","v":6016},"-","-","-","-",{"$f":"CEILING('прайс-лист2'!N143*Титульный!$AY$1,Титульный!$AY$3)","v":6016},{"$f":"CEILING('прайс-лист2'!O143*Титульный!$AY$1,Титульный!$AY$3)","v":6016},{"$f":"CEILING('прайс-лист2'!P143*Титульный!$AY$1,Титульный!$AY$3)","v":6016},{"$f":"CEILING('прайс-лист2'!Q143*Титульный!$AY$1,Титульный!$AY$3)","v":6016},"-","-","-"]
["Стеллаж (420) 2240х560",null,"560х420х2240",{"$f":"CEILING('прайс-лист2'!E144*Титульный!$AY$1,Титульный!$AY$3)","v":6734},{"$f":"CEILING('прайс-лист2'!F144*Титульный!$AY$1,Титульный!$AY$3)","v":6734},{"$f":"CEILING('прайс-лист2'!G144*Титульный!$AY$1,Титульный!$AY$3)","v":6734},{"$f":"CEILING('прайс-лист2'!H144*Титульный!$AY$1,Титульный!$AY$3)","v":6734},{"$f":"CEILING('прайс-лист2'!I144*Титульный!$AY$1,Титульный!$AY$3)","v":6734},"-","-","-","-",{"$f":"CEILING('прайс-лист2'!N144*Титульный!$AY$1,Титульный!$AY$3)","v":6734},{"$f":"CEILING('прайс-лист2'!O144*Титульный!$AY$1,Титульный!$AY$3)","v":6734},{"$f":"CEILING('прайс-лист2'!P144*Титульный!$AY$1,Титульный!$AY$3)","v":6734},{"$f":"CEILING('прайс-лист2'!Q144*Титульный!$AY$1,Титульный!$AY$3)","v":6734},"-","-","-"]
["Стеллаж (420) 2240х840",null,"840х420х2240",{"$f":"CEILING('прайс-лист2'!E145*Титульный!$AY$1,Титульный!$AY$3)","v":8107},{"$f":"CEILING('прайс-лист2'!F145*Титульный!$AY$1,Титульный!$AY$3)","v":8107},{"$f":"CEILING('прайс-лист2'!G145*Титульный!$AY$1,Титульный!$AY$3)","v":8107},{"$f":"CEILING('прайс-лист2'!H145*Титульный!$AY$1,Титульный!$AY$3)","v":8107},{"$f":"CEILING('прайс-лист2'!I145*Титульный!$AY$1,Титульный!$AY$3)","v":8107},"-","-","-","-",{"$f":"CEILING('прайс-лист2'!N145*Титульный!$AY$1,Титульный!$AY$3)","v":8107},{"$f":"CEILING('прайс-лист2'!O145*Титульный!$AY$1,Титульный!$AY$3)","v":8107},{"$f":"CEILING('прайс-лист2'!P145*Титульный!$AY$1,Титульный!$AY$3)","v":8107},{"$f":"CEILING('прайс-лист2'!Q145*Титульный!$AY$1,Титульный!$AY$3)","v":8107},"-","-","-"]
["Стеллаж (420) 2 дв 2240х840",null,"840х420х2240",{"$f":"CEILING('прайс-лист2'!E146*Титульный!$AY$1,Титульный!$AY$3)","v":11761},{"$f":"CEILING('прайс-лист2'!F146*Титульный!$AY$1,Титульный!$AY$3)","v":13181},{"$f":"CEILING('прайс-лист2'!G146*Титульный!$AY$1,Титульный!$AY$3)","v":11981},{"$f":"CEILING('прайс-лист2'!H146*Титульный!$AY$1,Титульный!$AY$3)","v":12501},{"$f":"CEILING('прайс-лист2'!I146*Титульный!$AY$1,Титульный!$AY$3)","v":11201},"-","-","-","-",{"$f":"CEILING('прайс-лист2'!N146*Титульный!$AY$1,Титульный!$AY$3)","v":13321},{"$f":"CEILING('прайс-лист2'!O146*Титульный!$AY$1,Титульный!$AY$3)","v":14021},{"$f":"CEILING('прайс-лист2'!P146*Титульный!$AY$1,Титульный!$AY$3)","v":13321},{"$f":"CEILING('прайс-лист2'!Q146*Титульный!$AY$1,Титульный!$AY$3)","v":13801},"-","-","-"]
["Стеллаж (420) 2 ящика 2240х560",null,"560х420х2240",{"$f":"CEILING('прайс-лист2'!E147*Титульный!$AY$1,Титульный!$AY$3)","v":10562},{"$f":"CEILING('прайс-лист2'!F147*Титульный!$AY$1,Титульный!$AY$3)","v":11502},{"$f":"CEILING('прайс-лист2'!G147*Титульный!$AY$1,Титульный!$AY$3)","v":10702},{"$f":"CEILING('прайс-лист2'!H147*Титульный!$AY$1,Титульный!$AY$3)","v":11062},{"$f":"CEILING('прайс-лист2'!I147*Титульный!$AY$1,Титульный!$AY$3)","v":10202},"-","-","-","-",{"$f":"CEILING('прайс-лист2'!N147*Титульный!$AY$1,Титульный!$AY$3)","v":11762},{"$f":"CEILING('прайс-лист2'!O147*Титульный!$AY$1,Титульный!$AY$3)","v":12402},{"$f":"CEILING('прайс-лист2'!P147*Титульный!$AY$1,Титульный!$AY$3)","v":11762},{"$f":"CEILING('прайс-лист2'!Q147*Титульный!$AY$1,Титульный!$AY$3)","v":12082},"-","-","-"]
["Стеллаж навесной (420) Н=600х1260",null,"1260х600х420",{"$f":"CEILING('прайс-лист2'!E148*Титульный!$AY$1,Титульный!$AY$3)","v":5495},null,null,null,null,null,null,null,null,null,null,null,null,null,"-","-"]
["Антресоли"]
["Антресоль (420) 1дв 400х420 лев\\пр",null,"420х440х400",{"$f":"CEILING('прайс-лист2'!E150*Титульный!$AY$1,Титульный!$AY$3)","v":3534},{"$f":"CEILING('прайс-лист2'!F150*Титульный!$AY$1,Титульный!$AY$3)","v":4244},{"$f":"CEILING('прайс-лист2'!G150*Титульный!$AY$1,Титульный!$AY$3)","v":3644},{"$f":"CEILING('прайс-лист2'!H150*Титульный!$AY$1,Титульный!$AY$3)","v":3904},{"$f":"CEILING('прайс-лист2'!I150*Титульный!$AY$1,Титульный!$AY$3)","v":3254},{"$f":"CEILING('прайс-лист2'!J150*Титульный!$AY$1,Титульный!$AY$3)","v":3324},{"$f":"CEILING('прайс-лист2'!K150*Титульный!$AY$1,Титульный!$AY$3)","v":3484},{"$f":"CEILING('прайс-лист2'!L150*Титульный!$AY$1,Титульный!$AY$3)","v":3664},"-",{"$f":"CEILING('прайс-лист2'!N150*Титульный!$AY$1,Титульный!$AY$3)","v":4314},{"$f":"CEILING('прайс-лист2'!O150*Титульный!$AY$1,Титульный!$AY$3)","v":4664},{"$f":"CEILING('прайс-лист2'!P150*Титульный!$AY$1,Титульный!$AY$3)","v":4314},{"$f":"CEILING('прайс-лист2'!Q150*Титульный!$AY$1,Титульный!$AY$3)","v":4554},"-","-","-"]
["Антресоль (420) 1дв 400х560 лев\\пр",null,"560х440х400",{"$f":"CEILING('прайс-лист2'!E151*Титульный!$AY$1,Титульный!$AY$3)","v":4120},{"$f":"CEILING('прайс-лист2'!F151*Титульный!$AY$1,Титульный!$AY$3)","v":5060},{"$f":"CEILING('прайс-лист2'!G151*Титульный!$AY$1,Титульный!$AY$3)","v":4260},{"$f":"CEILING('прайс-лист2'!H151*Титульный!$AY$1,Титульный!$AY$3)","v":4610},{"$f":"CEILING('прайс-лист2'!I151*Титульный!$AY$1,Титульный!$AY$3)","v":3740},{"$f":"CEILING('прайс-лист2'!J151*Титульный!$AY$1,Титульный!$AY$3)","v":3820},{"$f":"CEILING('прайс-лист2'!K151*Титульный!$AY$1,Титульный!$AY$3)","v":4030},{"$f":"CEILING('прайс-лист2'!L151*Титульный!$AY$1,Титульный!$AY$3)","v":4260},"-",{"$f":"CEILING('прайс-лист2'!N151*Титульный!$AY$1,Титульный!$AY$3)","v":5110},{"$f":"CEILING('прайс-лист2'!O151*Титульный!$AY$1,Титульный!$AY$3)","v":5510},{"$f":"CEILING('прайс-лист2'!P151*Титульный!$AY$1,Титульный!$AY$3)","v":5110},{"$f":"CEILING('прайс-лист2'!Q151*Титульный!$AY$1,Титульный!$AY$3)","v":5430},"-","-","-"]
["Антресоль (420) 2дв 400х840",null,"840х440х400",{"$f":"CEILING('прайс-лист2'!E152*Титульный!$AY$1,Титульный!$AY$3)","v":5899},{"$f":"CEILING('прайс-лист2'!F152*Титульный!$AY$1,Титульный!$AY$3)","v":7319},{"$f":"CEILING('прайс-лист2'!G152*Титульный!$AY$1,Титульный!$AY$3)","v":6119},{"$f":"CEILING('прайс-лист2'!H152*Титульный!$AY$1,Титульный!$AY$3)","v":6639},{"$f":"CEILING('прайс-лист2'!I152*Титульный!$AY$1,Титульный!$AY$3)","v":5339},{"$f":"CEILING('прайс-лист2'!J152*Титульный!$AY$1,Титульный!$AY$3)","v":5479},{"$f":"CEILING('прайс-лист2'!K152*Титульный!$AY$1,Титульный!$AY$3)","v":5799},{"$f":"CEILING('прайс-лист2'!L152*Титульный!$AY$1,Титульный!$AY$3)","v":6159},"-",{"$f":"CEILING('прайс-лист2'!N152*Титульный!$AY$1,Титульный!$AY$3)","v":7459},{"$f":"CEILING('прайс-лист2'!O152*Титульный!$AY$1,Титульный!$AY$3)","v":8159},{"$f":"CEILING('прайс-лист2'!P152*Титульный!$AY$1,Титульный!$AY$3)","v":7459},{"$f":"CEILING('прайс-лист2'!Q152*Титульный!$AY$1,Титульный!$AY$3)","v":7939},"-","-","-"]
["Антресоль (420) 3дв 400х1260",null,"1260х440х400",{"$f":"CEILING('прайс-лист2'!E153*Титульный!$AY$1,Титульный!$AY$3)","v":8475},{"$f":"CEILING('прайс-лист2'!F153*Титульный!$AY$1,Титульный!$AY$3)","v":10605},{"$f":"CEILING('прайс-лист2'!G153*Титульный!$AY$1,Титульный!$AY$3)","v":8805},{"$f":"CEILING('прайс-лист2'!H153*Титульный!$AY$1,Титульный!$AY$3)","v":9585},{"$f":"CEILING('прайс-лист2'!I153*Титульный!$AY$1,Титульный!$AY$3)","v":7635},{"$f":"CEILING('прайс-лист2'!J153*Титульный!$AY$1,Титульный!$AY$3)","v":7845},{"$f":"CEILING('прайс-лист2'!K153*Титульный!$AY$1,Титульный!$AY$3)","v":8325},{"$f":"CEILING('прайс-лист2'!L153*Титульный!$AY$1,Титульный!$AY$3)","v":8865},"-",{"$f":"CEILING('прайс-лист2'!N153*Титульный!$AY$1,Титульный!$AY$3)","v":10815},{"$f":"CEILING('прайс-лист2'!O153*Титульный!$AY$1,Титульный!$AY$3)","v":11865},{"$f":"CEILING('прайс-лист2'!P153*Титульный!$AY$1,Титульный!$AY$3)","v":10815},{"$f":"CEILING('прайс-лист2'!Q153*Титульный!$AY$1,Титульный!$AY$3)","v":11535},"-","-","-"]
["Антресоль угл. (420) трап. 400х732х732",null,"732х732",{"$f":"CEILING('прайс-лист2'!E154*Титульный!$AY$1,Титульный!$AY$3)","v":6012},{"$f":"CEILING('прайс-лист2'!F154*Титульный!$AY$1,Титульный!$AY$3)","v":6722},{"$f":"CEILING('прайс-лист2'!G154*Титульный!$AY$1,Титульный!$AY$3)","v":6122},{"$f":"CEILING('прайс-лист2'!H154*Титульный!$AY$1,Титульный!$AY$3)","v":6382},{"$f":"CEILING('прайс-лист2'!I154*Титульный!$AY$1,Титульный!$AY$3)","v":5732},{"$f":"CEILING('прайс-лист2'!J154*Титульный!$AY$1,Титульный!$AY$3)","v":5802},{"$f":"CEILING('прайс-лист2'!K154*Титульный!$AY$1,Титульный!$AY$3)","v":5962},{"$f":"CEILING('прайс-лист2'!L154*Титульный!$AY$1,Титульный!$AY$3)","v":6142},"-",{"$f":"CEILING('прайс-лист2'!N154*Титульный!$AY$1,Титульный!$AY$3)","v":6792},{"$f":"CEILING('прайс-лист2'!O154*Титульный!$AY$1,Титульный!$AY$3)","v":7142},{"$f":"CEILING('прайс-лист2'!P154*Титульный!$AY$1,Титульный!$AY$3)","v":6792},{"$f":"CEILING('прайс-лист2'!Q154*Титульный!$AY$1,Титульный!$AY$3)","v":7032},"-","-","-"]
["Антресоли"]
["Наименование","Эскиз","Габариты,  ШхГхВ мм.","МДФ фасады",null,null,null,"Марго16",null,null,null,null,"UV-лак",null,"ТСС",null,"ТСС сборный","Стоимость зеркал"]
[null,null,null,"1 ЦК","1 ЦК + патина","2 ЦК","3 ЦК","1 ц.к.","2 ц.к.","3 ц.к.","4 ц.к.","5 ц.к.","UV-лак кромка ABC/AL кромка","кромка 3D","1 ЦК","2 ЦК",null,"Зеркало в рамке**","Зеркало накладное*"]
["Антресоль (340) 2 дв. 400х840",null,"840х360х400",{"$f":"CEILING('прайс-лист2'!E155*Титульный!$AY$1,Титульный!$AY$3)","v":5665},{"$f":"CEILING('прайс-лист2'!F155*Титульный!$AY$1,Титульный!$AY$3)","v":7085},{"$f":"CEILING('прайс-лист2'!G155*Титульный!$AY$1,Титульный!$AY$3)","v":5885},{"$f":"CEILING('прайс-лист2'!H155*Титульный!$AY$1,Титульный!$AY$3)","v":6405},{"$f":"CEILING('прайс-лист2'!I155*Титульный!$AY$1,Титульный!$AY$3)","v":5105},{"$f":"CEILING('прайс-лист2'!J155*Титульный!$AY$1,Титульный!$AY$3)","v":5245},{"$f":"CEILING('прайс-лист2'!K155*Титульный!$AY$1,Титульный!$AY$3)","v":5565},{"$f":"CEILING('прайс-лист2'!L155*Титульный!$AY$1,Титульный!$AY$3)","v":5925},"-",{"$f":"CEILING('прайс-лист2'!N155*Титульный!$AY$1,Титульный!$AY$3)","v":7225},{"$f":"CEILING('прайс-лист2'!O155*Титульный!$AY$1,Титульный!$AY$3)","v":7925},{"$f":"CEILING('прайс-лист2'!P155*Титульный!$AY$1,Титульный!$AY$3)","v":7225},{"$f":"CEILING('прайс-лист2'!Q155*Титульный!$AY$1,Титульный!$AY$3)","v":7705},"-","-","-"]
["Антресоль (340) 2 дв расп. ниша 400х1260",null,"1260х360х400",{"$f":"CEILING('прайс-лист2'!E156*Титульный!$AY$1,Титульный!$AY$3)","v":7032},{"$f":"CEILING('прайс-лист2'!F156*Титульный!$AY$1,Титульный!$AY$3)","v":8452},{"$f":"CEILING('прайс-лист2'!G156*Титульный!$AY$1,Титульный!$AY$3)","v":7252},{"$f":"CEILING('прайс-лист2'!H156*Титульный!$AY$1,Титульный!$AY$3)","v":7772},{"$f":"CEILING('прайс-лист2'!I156*Титульный!$AY$1,Титульный!$AY$3)","v":6472},{"$f":"CEILING('прайс-лист2'!J156*Титульный!$AY$1,Титульный!$AY$3)","v":6612},{"$f":"CEILING('прайс-лист2'!K156*Титульный!$AY$1,Титульный!$AY$3)","v":6932},{"$f":"CEILING('прайс-лист2'!L156*Титульный!$AY$1,Титульный!$AY$3)","v":7292},"-",{"$f":"CEILING('прайс-лист2'!N156*Титульный!$AY$1,Титульный!$AY$3)","v":8592},{"$f":"CEILING('прайс-лист2'!O156*Титульный!$AY$1,Титульный!$AY$3)","v":9292},{"$f":"CEILING('прайс-лист2'!P156*Титульный!$AY$1,Титульный!$AY$3)","v":8592},{"$f":"CEILING('прайс-лист2'!Q156*Титульный!$AY$1,Титульный!$AY$3)","v":9072},"-","-","-"]
["Антресоль торц (420) 400х420 лев\\пр",null,"420х440х400",{"$f":"CEILING('прайс-лист2'!E157*Титульный!$AY$1,Титульный!$AY$3)","v":4824},{"$f":"CEILING('прайс-лист2'!F157*Титульный!$AY$1,Титульный!$AY$3)","v":5944},{"$f":"CEILING('прайс-лист2'!G157*Титульный!$AY$1,Титульный!$AY$3)","v":4994},{"$f":"CEILING('прайс-лист2'!H157*Титульный!$AY$1,Титульный!$AY$3)","v":5414},{"$f":"CEILING('прайс-лист2'!I157*Титульный!$AY$1,Титульный!$AY$3)","v":4384},{"$f":"CEILING('прайс-лист2'!J157*Титульный!$AY$1,Титульный!$AY$3)","v":4504},{"$f":"CEILING('прайс-лист2'!K157*Титульный!$AY$1,Титульный!$AY$3)","v":4764},{"$f":"CEILING('прайс-лист2'!L157*Титульный!$AY$1,Титульный!$AY$3)","v":5054},"-",{"$f":"CEILING('прайс-лист2'!N157*Титульный!$AY$1,Титульный!$AY$3)","v":6124},{"$f":"CEILING('прайс-лист2'!O157*Титульный!$AY$1,Титульный!$AY$3)","v":6734},{"$f":"CEILING('прайс-лист2'!P157*Титульный!$AY$1,Титульный!$AY$3)","v":6114},{"$f":"CEILING('прайс-лист2'!Q157*Титульный!$AY$1,Титульный!$AY$3)","v":6504},"-","-","-"]
["Антресоль (560) 1дв 400х420 лев\\пр",null,"420х580х400",{"$f":"CEILING('прайс-лист2'!E158*Титульный!$AY$1,Титульный!$AY$3)","v":4049},{"$f":"CEILING('прайс-лист2'!F158*Титульный!$AY$1,Титульный!$AY$3)","v":4759},{"$f":"CEILING('прайс-лист2'!G158*Титульный!$AY$1,Титульный!$AY$3)","v":4159},{"$f":"CEILING('прайс-лист2'!H158*Титульный!$AY$1,Титульный!$AY$3)","v":4419},{"$f":"CEILING('прайс-лист2'!I158*Титульный!$AY$1,Титульный!$AY$3)","v":3769},{"$f":"CEILING('прайс-лист2'!J158*Титульный!$AY$1,Титульный!$AY$3)","v":3839},{"$f":"CEILING('прайс-лист2'!K158*Титульный!$AY$1,Титульный!$AY$3)","v":3999},{"$f":"CEILING('прайс-лист2'!L158*Титульный!$AY$1,Титульный!$AY$3)","v":4179},"-",{"$f":"CEILING('прайс-лист2'!N158*Титульный!$AY$1,Титульный!$AY$3)","v":4829},{"$f":"CEILING('прайс-лист2'!O158*Титульный!$AY$1,Титульный!$AY$3)","v":5179},{"$f":"CEILING('прайс-лист2'!P158*Титульный!$AY$1,Титульный!$AY$3)","v":4829},{"$f":"CEILING('прайс-лист2'!Q158*Титульный!$AY$1,Титульный!$AY$3)","v":5069},"-","-","-"]
["Антресоль (560) 1дв 400х560 лев\\пр",null,"560х580х400",{"$f":"CEILING('прайс-лист2'!E159*Титульный!$AY$1,Титульный!$AY$3)","v":4516},{"$f":"CEILING('прайс-лист2'!F159*Титульный!$AY$1,Титульный!$AY$3)","v":5456},{"$f":"CEILING('прайс-лист2'!G159*Титульный!$AY$1,Титульный!$AY$3)","v":4656},{"$f":"CEILING('прайс-лист2'!H159*Титульный!$AY$1,Титульный!$AY$3)","v":5006},{"$f":"CEILING('прайс-лист2'!I159*Титульный!$AY$1,Титульный!$AY$3)","v":4136},{"$f":"CEILING('прайс-лист2'!J159*Титульный!$AY$1,Титульный!$AY$3)","v":4216},{"$f":"CEILING('прайс-лист2'!K159*Титульный!$AY$1,Титульный!$AY$3)","v":4426},{"$f":"CEILING('прайс-лист2'!L159*Титульный!$AY$1,Титульный!$AY$3)","v":4656},"-",{"$f":"CEILING('прайс-лист2'!N159*Титульный!$AY$1,Титульный!$AY$3)","v":5506},{"$f":"CEILING('прайс-лист2'!O159*Титульный!$AY$1,Титульный!$AY$3)","v":5906},{"$f":"CEILING('прайс-лист2'!P159*Титульный!$AY$1,Титульный!$AY$3)","v":5506},{"$f":"CEILING('прайс-лист2'!Q159*Титульный!$AY$1,Титульный!$AY$3)","v":5826},"-","-","-"]
["Антресоль (560) 2дв 400х840",null,"840х580х400",{"$f":"CEILING('прайс-лист2'!E160*Титульный!$AY$1,Титульный!$AY$3)","v":6432},{"$f":"CEILING('прайс-лист2'!F160*Титульный!$AY$1,Титульный!$AY$3)","v":7852},{"$f":"CEILING('прайс-лист2'!G160*Титульный!$AY$1,Титульный!$AY$3)","v":6652},{"$f":"CEILING('прайс-лист2'!H160*Титульный!$AY$1,Титульный!$AY$3)","v":7172},{"$f":"CEILING('прайс-лист2'!I160*Титульный!$AY$1,Титульный!$AY$3)","v":5872},{"$f":"CEILING('прайс-лист2'!J160*Титульный!$AY$1,Титульный!$AY$3)","v":6012},{"$f":"CEILING('прайс-лист2'!K160*Титульный!$AY$1,Титульный!$AY$3)","v":6332},{"$f":"CEILING('прайс-лист2'!L160*Титульный!$AY$1,Титульный!$AY$3)","v":6692},"-",{"$f":"CEILING('прайс-лист2'!N160*Титульный!$AY$1,Титульный!$AY$3)","v":7992},{"$f":"CEILING('прайс-лист2'!O160*Титульный!$AY$1,Титульный!$AY$3)","v":8692},{"$f":"CEILING('прайс-лист2'!P160*Титульный!$AY$1,Титульный!$AY$3)","v":7992},{"$f":"CEILING('прайс-лист2'!Q160*Титульный!$AY$1,Титульный!$AY$3)","v":8472},"-","-","-"]
["Антресоль (560) 3дв 400х1260",null,"1260х580х400",{"$f":"CEILING('прайс-лист2'!E162*Титульный!$AY$1,Титульный!$AY$3)","v":9231},{"$f":"CEILING('прайс-лист2'!F162*Титульный!$AY$1,Титульный!$AY$3)","v":11361},{"$f":"CEILING('прайс-лист2'!G162*Титульный!$AY$1,Титульный!$AY$3)","v":9561},{"$f":"CEILING('прайс-лист2'!H162*Титульный!$AY$1,Титульный!$AY$3)","v":10341},{"$f":"CEILING('прайс-лист2'!I162*Титульный!$AY$1,Титульный!$AY$3)","v":8391},{"$f":"CEILING('прайс-лист2'!J162*Титульный!$AY$1,Титульный!$AY$3)","v":8601},{"$f":"CEILING('прайс-лист2'!K162*Титульный!$AY$1,Титульный!$AY$3)","v":9081},{"$f":"CEILING('прайс-лист2'!L162*Титульный!$AY$1,Титульный!$AY$3)","v":9621},"-",{"$f":"CEILING('прайс-лист2'!N162*Титульный!$AY$1,Титульный!$AY$3)","v":11571},{"$f":"CEILING('прайс-лист2'!O162*Титульный!$AY$1,Титульный!$AY$3)","v":12621},{"$f":"CEILING('прайс-лист2'!P162*Титульный!$AY$1,Титульный!$AY$3)","v":11571},{"$f":"CEILING('прайс-лист2'!Q162*Титульный!$AY$1,Титульный!$AY$3)","v":12291},"-","-","-"]
["Антресоль угл. (560) трап. 400х975х975",null,"975х975",{"$f":"CEILING('прайс-лист2'!E163*Титульный!$AY$1,Титульный!$AY$3)","v":7514},{"$f":"CEILING('прайс-лист2'!F163*Титульный!$AY$1,Титульный!$AY$3)","v":8454},{"$f":"CEILING('прайс-лист2'!G163*Титульный!$AY$1,Титульный!$AY$3)","v":7654},{"$f":"CEILING('прайс-лист2'!H163*Титульный!$AY$1,Титульный!$AY$3)","v":8004},{"$f":"CEILING('прайс-лист2'!I163*Титульный!$AY$1,Титульный!$AY$3)","v":7134},{"$f":"CEILING('прайс-лист2'!J163*Титульный!$AY$1,Титульный!$AY$3)","v":7214},{"$f":"CEILING('прайс-лист2'!K163*Титульный!$AY$1,Титульный!$AY$3)","v":7424},{"$f":"CEILING('прайс-лист2'!L163*Титульный!$AY$1,Титульный!$AY$3)","v":7654},"-",{"$f":"CEILING('прайс-лист2'!N163*Титульный!$AY$1,Титульный!$AY$3)","v":8504},{"$f":"CEILING('прайс-лист2'!O163*Титульный!$AY$1,Титульный!$AY$3)","v":8904},{"$f":"CEILING('прайс-лист2'!P163*Титульный!$AY$1,Титульный!$AY$3)","v":8504},{"$f":"CEILING('прайс-лист2'!Q163*Титульный!$AY$1,Титульный!$AY$3)","v":8824},"-","-","-"]
["Шкафы угловые и стеллажи торцевые"]
[" Шкаф Угл (420х420) Трап 2040х732х732",null,"732х732",{"$f":"CEILING('прайс-лист2'!E165*Титульный!$AY$1,Титульный!$AY$3)","v":17446},{"$f":"CEILING('прайс-лист2'!F165*Титульный!$AY$1,Титульный!$AY$3)","v":20986},{"$f":"CEILING('прайс-лист2'!G165*Титульный!$AY$1,Титульный!$AY$3)","v":17986},{"$f":"CEILING('прайс-лист2'!H165*Титульный!$AY$1,Титульный!$AY$3)","v":19306},{"$f":"CEILING('прайс-лист2'!I165*Титульный!$AY$1,Титульный!$AY$3)","v":15956},{"$f":"CEILING('прайс-лист2'!J165*Титульный!$AY$1,Титульный!$AY$3)","v":16236},{"$f":"CEILING('прайс-лист2'!K165*Титульный!$AY$1,Титульный!$AY$3)","v":16936},{"$f":"CEILING('прайс-лист2'!L165*Титульный!$AY$1,Титульный!$AY$3)","v":17766},"-",{"$f":"CEILING('прайс-лист2'!N165*Титульный!$AY$1,Титульный!$AY$3)","v":20736},{"$f":"CEILING('прайс-лист2'!O165*Титульный!$AY$1,Титульный!$AY$3)","v":21746},{"$f":"CEILING('прайс-лист2'!P165*Титульный!$AY$1,Титульный!$AY$3)","v":20716},{"$f":"CEILING('прайс-лист2'!Q165*Титульный!$AY$1,Титульный!$AY$3)","v":21926},"-",{"$f":"CEILING('прайс-лист2'!S165*Титульный!$AY$1,Титульный!$AY$3)","v":1344},{"$f":"CEILING('прайс-лист2'!T165*Титульный!$AY$1,Титульный!$AY$3)","v":2490}]
["Шкаф Угл (420х420) Трап 2240х732х732",null,"732х732",{"$f":"CEILING('прайс-лист2'!E166*Титульный!$AY$1,Титульный!$AY$3)","v":18324},"-",{"$f":"CEILING('прайс-лист2'!G166*Титульный!$AY$1,Титульный!$AY$3)","v":18904},{"$f":"CEILING('прайс-лист2'!H166*Титульный!$AY$1,Титульный!$AY$3)","v":20364},{"$f":"CEILING('прайс-лист2'!I166*Титульный!$AY$1,Титульный!$AY$3)","v":16684},{"$f":"CEILING('прайс-лист2'!J166*Титульный!$AY$1,Титульный!$AY$3)","v":16984},{"$f":"CEILING('прайс-лист2'!K166*Титульный!$AY$1,Титульный!$AY$3)","v":17754},{"$f":"CEILING('прайс-лист2'!L166*Титульный!$AY$1,Титульный!$AY$3)","v":18664},"-",{"$f":"CEILING('прайс-лист2'!N166*Титульный!$AY$1,Титульный!$AY$3)","v":21914},{"$f":"CEILING('прайс-лист2'!O166*Титульный!$AY$1,Титульный!$AY$3)","v":23014},{"$f":"CEILING('прайс-лист2'!P166*Титульный!$AY$1,Титульный!$AY$3)","v":21894},{"$f":"CEILING('прайс-лист2'!Q166*Титульный!$AY$1,Титульный!$AY$3)","v":23224},"-",{"$f":"CEILING('прайс-лист2'!S166*Титульный!$AY$1,Титульный!$AY$3)","v":1523},{"$f":"CEILING('прайс-лист2'!T166*Титульный!$AY$1,Титульный!$AY$3)","v":2730}]
["Шкаф Угл (560х420) Прямой 2040х1000 лев/пр.**",null,1000,{"$f":"CEILING('прайс-лист2'!E167*Титульный!$AY$1,Титульный!$AY$3)","v":20762},{"$f":"CEILING('прайс-лист2'!F167*Титульный!$AY$1,Титульный!$AY$3)","v":29182},{"$f":"CEILING('прайс-лист2'!G167*Титульный!$AY$1,Титульный!$AY$3)","v":22032},{"$f":"CEILING('прайс-лист2'!H167*Титульный!$AY$1,Титульный!$AY$3)","v":25182},{"$f":"CEILING('прайс-лист2'!I167*Титульный!$AY$1,Титульный!$AY$3)","v":17172},{"$f":"CEILING('прайс-лист2'!J167*Титульный!$AY$1,Титульный!$AY$3)","v":17812},{"$f":"CEILING('прайс-лист2'!K167*Титульный!$AY$1,Титульный!$AY$3)","v":19432},{"$f":"CEILING('прайс-лист2'!L167*Титульный!$AY$1,Титульный!$AY$3)","v":21382},"-",{"$f":"CEILING('прайс-лист2'!N167*Титульный!$AY$1,Титульный!$AY$3)","v":28292},{"$f":"CEILING('прайс-лист2'!O167*Титульный!$AY$1,Титульный!$AY$3)","v":30382},{"$f":"CEILING('прайс-лист2'!P167*Титульный!$AY$1,Титульный!$AY$3)","v":28252},{"$f":"CEILING('прайс-лист2'!Q167*Титульный!$AY$1,Титульный!$AY$3)","v":31132},"-",{"$f":"CEILING('прайс-лист2'!S167*Титульный!$AY$1,Титульный!$AY$3)","v":1932},{"$f":"CEILING('прайс-лист2'!T167*Титульный!$AY$1,Титульный!$AY$3)","v":3314}]
["Шкаф Угл (560х420) Прямой 2240х1000 лев/пр**",null,1000,{"$f":"CEILING('прайс-лист2'!E168*Титульный!$AY$1,Титульный!$AY$3)","v":21999},"-",{"$f":"CEILING('прайс-лист2'!G168*Титульный!$AY$1,Титульный!$AY$3)","v":23389},{"$f":"CEILING('прайс-лист2'!H168*Титульный!$AY$1,Титульный!$AY$3)","v":26849},{"$f":"CEILING('прайс-лист2'!I168*Титульный!$AY$1,Титульный!$AY$3)","v":18049},{"$f":"CEILING('прайс-лист2'!J168*Титульный!$AY$1,Титульный!$AY$3)","v":18749},{"$f":"CEILING('прайс-лист2'!K168*Титульный!$AY$1,Титульный!$AY$3)","v":20509},{"$f":"CEILING('прайс-лист2'!L168*Титульный!$AY$1,Титульный!$AY$3)","v":22659},"-",{"$f":"CEILING('прайс-лист2'!N168*Титульный!$AY$1,Титульный!$AY$3)","v":30239},{"$f":"CEILING('прайс-лист2'!O168*Титульный!$AY$1,Титульный!$AY$3)","v":32499},{"$f":"CEILING('прайс-лист2'!P168*Титульный!$AY$1,Титульный!$AY$3)","v":30189},{"$f":"CEILING('прайс-лист2'!Q168*Титульный!$AY$1,Титульный!$AY$3)","v":33369},"-",{"$f":"CEILING('прайс-лист2'!S168*Титульный!$AY$1,Титульный!$AY$3)","v":2190},{"$f":"CEILING('прайс-лист2'!T168*Титульный!$AY$1,Титульный!$AY$3)","v":3632}]
["Шкаф Угл (560х420) Прямой 2040х1000 ФП ЛДСП лев/пр**",null,1000,{"$f":"CEILING('прайс-лист2'!E169*Титульный!$AY$1,Титульный!$AY$3)","v":18299},"-",{"$f":"CEILING('прайс-лист2'!G169*Титульный!$AY$1,Титульный!$AY$3)","v":19009},{"$f":"CEILING('прайс-лист2'!H169*Титульный!$AY$1,Титульный!$AY$3)","v":20779},{"$f":"CEILING('прайс-лист2'!I169*Титульный!$AY$1,Титульный!$AY$3)","v":16279},{"$f":"CEILING('прайс-лист2'!J169*Титульный!$AY$1,Титульный!$AY$3)","v":16629},{"$f":"CEILING('прайс-лист2'!K169*Титульный!$AY$1,Титульный!$AY$3)","v":17519},{"$f":"CEILING('прайс-лист2'!L169*Титульный!$AY$1,Титульный!$AY$3)","v":18609},"-",{"$f":"CEILING('прайс-лист2'!N169*Титульный!$AY$1,Титульный!$AY$3)","v":22429},{"$f":"CEILING('прайс-лист2'!O169*Титульный!$AY$1,Титульный!$AY$3)","v":23499},{"$f":"CEILING('прайс-лист2'!P169*Титульный!$AY$1,Титульный!$AY$3)","v":22409},{"$f":"CEILING('прайс-лист2'!Q169*Титульный!$AY$1,Титульный!$AY$3)","v":24019},"-","-","-"]
["Шкаф Угл (560х420) Прямой 2240х1000 ФП ЛДСП лев/пр**",null,1000,{"$f":"CEILING('прайс-лист2'!E170*Титульный!$AY$1,Титульный!$AY$3)","v":19337},"-",{"$f":"CEILING('прайс-лист2'!G170*Титульный!$AY$1,Титульный!$AY$3)","v":20117},{"$f":"CEILING('прайс-лист2'!H170*Титульный!$AY$1,Титульный!$AY$3)","v":22057},{"$f":"CEILING('прайс-лист2'!I170*Титульный!$AY$1,Титульный!$AY$3)","v":17117},{"$f":"CEILING('прайс-лист2'!J170*Титульный!$AY$1,Титульный!$AY$3)","v":17497},{"$f":"CEILING('прайс-лист2'!K170*Титульный!$AY$1,Титульный!$AY$3)","v":18467},{"$f":"CEILING('прайс-лист2'!L170*Титульный!$AY$1,Титульный!$AY$3)","v":19657},"-",{"$f":"CEILING('прайс-лист2'!N170*Титульный!$AY$1,Титульный!$AY$3)","v":23857},{"$f":"CEILING('прайс-лист2'!O170*Титульный!$AY$1,Титульный!$AY$3)","v":25007},{"$f":"CEILING('прайс-лист2'!P170*Титульный!$AY$1,Титульный!$AY$3)","v":23827},{"$f":"CEILING('прайс-лист2'!Q170*Титульный!$AY$1,Титульный!$AY$3)","v":25607},"-",{"$f":"CEILING('прайс-лист2'!S170*Титульный!$AY$1,Титульный!$AY$3)","v":2190},{"$f":"CEILING('прайс-лист2'!T170*Титульный!$AY$1,Титульный!$AY$3)","v":1808}]
["Шкаф Угл (560х420) Трап 2040х830х970 лев **",null,"830х970",{"$f":"CEILING('прайс-лист2'!E171*Титульный!$AY$1,Титульный!$AY$3)","v":20739},{"$f":"CEILING('прайс-лист2'!F171*Титульный!$AY$1,Титульный!$AY$3)","v":25459},{"$f":"CEILING('прайс-лист2'!G171*Титульный!$AY$1,Титульный!$AY$3)","v":21449},{"$f":"CEILING('прайс-лист2'!H171*Титульный!$AY$1,Титульный!$AY$3)","v":23219},{"$f":"CEILING('прайс-лист2'!I171*Титульный!$AY$1,Титульный!$AY$3)","v":18719},{"$f":"CEILING('прайс-лист2'!J171*Титульный!$AY$1,Титульный!$AY$3)","v":19069},{"$f":"CEILING('прайс-лист2'!K171*Титульный!$AY$1,Титульный!$AY$3)","v":19959},{"$f":"CEILING('прайс-лист2'!L171*Титульный!$AY$1,Титульный!$AY$3)","v":21049},"-",{"$f":"CEILING('прайс-лист2'!N171*Титульный!$AY$1,Титульный!$AY$3)","v":24869},{"$f":"CEILING('прайс-лист2'!O171*Титульный!$AY$1,Титульный!$AY$3)","v":25939},{"$f":"CEILING('прайс-лист2'!P171*Титульный!$AY$1,Титульный!$AY$3)","v":24849},{"$f":"CEILING('прайс-лист2'!Q171*Титульный!$AY$1,Титульный!$AY$3)","v":26459},"-",{"$f":"CEILING('прайс-лист2'!S171*Титульный!$AY$1,Титульный!$AY$3)","v":1932},{"$f":"CEILING('прайс-лист2'!T171*Титульный!$AY$1,Титульный!$AY$3)","v":3314}]
["Шкаф Угл (560х420) Трап 2040х830х970 пр **"]
["Шкаф Угл (560х420) Трап 2240х830х970 лев**",null,"830х970",{"$f":"CEILING('прайс-лист2'!E173*Титульный!$AY$1,Титульный!$AY$3)","v":21802},"-",{"$f":"CEILING('прайс-лист2'!G173*Титульный!$AY$1,Титульный!$AY$3)","v":22582},{"$f":"CEILING('прайс-лист2'!H173*Титульный!$AY$1,Титульный!$AY$3)","v":24522},{"$f":"CEILING('прайс-лист2'!I173*Титульный!$AY$1,Титульный!$AY$3)","v":19582},{"$f":"CEILING('прайс-лист2'!J173*Титульный!$AY$1,Титульный!$AY$3)","v":19962},{"$f":"CEILING('прайс-лист2'!K173*Титульный!$AY$1,Титульный!$AY$3)","v":20932},{"$f":"CEILING('прайс-лист2'!L173*Титульный!$AY$1,Титульный!$AY$3)","v":22122},"-",{"$f":"CEILING('прайс-лист2'!N173*Титульный!$AY$1,Титульный!$AY$3)","v":26322},{"$f":"CEILING('прайс-лист2'!O173*Титульный!$AY$1,Титульный!$AY$3)","v":27472},{"$f":"CEILING('прайс-лист2'!P173*Титульный!$AY$1,Титульный!$AY$3)","v":26292},{"$f":"CEILING('прайс-лист2'!Q173*Титульный!$AY$1,Титульный!$AY$3)","v":28072},"-",{"$f":"CEILING('прайс-лист2'!S173*Титульный!$AY$1,Титульный!$AY$3)","v":2190},{"$f":"CEILING('прайс-лист2'!T173*Титульный!$AY$1,Титульный!$AY$3)","v":1808}]
["Шкаф Угл (560х420) Трап 2240х830х970 пр**"]
["Шкаф Угл (420х420) Комб. Трап 2040х732х732",null,"732х732",{"$f":"CEILING('прайс-лист2'!E175*Титульный!$AY$1,Титульный!$AY$3)","v":18110},{"$f":"CEILING('прайс-лист2'!F175*Титульный!$AY$1,Титульный!$AY$3)","v":21650},{"$f":"CEILING('прайс-лист2'!G175*Титульный!$AY$1,Титульный!$AY$3)","v":18650},{"$f":"CEILING('прайс-лист2'!H175*Титульный!$AY$1,Титульный!$AY$3)","v":19970},{"$f":"CEILING('прайс-лист2'!I175*Титульный!$AY$1,Титульный!$AY$3)","v":16620},{"$f":"CEILING('прайс-лист2'!J175*Титульный!$AY$1,Титульный!$AY$3)","v":16900},{"$f":"CEILING('прайс-лист2'!K175*Титульный!$AY$1,Титульный!$AY$3)","v":17600},{"$f":"CEILING('прайс-лист2'!L175*Титульный!$AY$1,Титульный!$AY$3)","v":18430},"-",{"$f":"CEILING('прайс-лист2'!N175*Титульный!$AY$1,Титульный!$AY$3)","v":21400},{"$f":"CEILING('прайс-лист2'!O175*Титульный!$AY$1,Титульный!$AY$3)","v":22410},{"$f":"CEILING('прайс-лист2'!P175*Титульный!$AY$1,Титульный!$AY$3)","v":21380},{"$f":"CEILING('прайс-лист2'!Q175*Титульный!$AY$1,Титульный!$AY$3)","v":22590},"-",{"$f":"CEILING('прайс-лист2'!S175*Титульный!$AY$1,Титульный!$AY$3)","v":1344},{"$f":"CEILING('прайс-лист2'!T175*Титульный!$AY$1,Титульный!$AY$3)","v":2490}]
["Шкаф Угл (420х420) Комб. Трап 2240х732х732",null,"732х732",{"$f":"CEILING('прайс-лист2'!E176*Титульный!$AY$1,Титульный!$AY$3)","v":19196},"-",{"$f":"CEILING('прайс-лист2'!G176*Титульный!$AY$1,Титульный!$AY$3)","v":19776},{"$f":"CEILING('прайс-лист2'!H176*Титульный!$AY$1,Титульный!$AY$3)","v":21236},{"$f":"CEILING('прайс-лист2'!I176*Титульный!$AY$1,Титульный!$AY$3)","v":17556},{"$f":"CEILING('прайс-лист2'!J176*Титульный!$AY$1,Титульный!$AY$3)","v":17856},{"$f":"CEILING('прайс-лист2'!K176*Титульный!$AY$1,Титульный!$AY$3)","v":18626},{"$f":"CEILING('прайс-лист2'!L176*Титульный!$AY$1,Титульный!$AY$3)","v":19536},"-",{"$f":"CEILING('прайс-лист2'!N176*Титульный!$AY$1,Титульный!$AY$3)","v":22786},{"$f":"CEILING('прайс-лист2'!O176*Титульный!$AY$1,Титульный!$AY$3)","v":23886},{"$f":"CEILING('прайс-лист2'!P176*Титульный!$AY$1,Титульный!$AY$3)","v":22766},{"$f":"CEILING('прайс-лист2'!Q176*Титульный!$AY$1,Титульный!$AY$3)","v":24096},"-",{"$f":"CEILING('прайс-лист2'!S176*Титульный!$AY$1,Титульный!$AY$3)","v":1932},{"$f":"CEILING('прайс-лист2'!T176*Титульный!$AY$1,Титульный!$AY$3)","v":3314}]
["Шкаф Угл (560х560) Трап 2040х970х970",null,"970х970",{"$f":"CEILING('прайс-лист2'!E177*Титульный!$AY$1,Титульный!$AY$3)","v":21737},{"$f":"CEILING('прайс-лист2'!F177*Титульный!$AY$1,Титульный!$AY$3)","v":26457},{"$f":"CEILING('прайс-лист2'!G177*Титульный!$AY$1,Титульный!$AY$3)","v":22447},{"$f":"CEILING('прайс-лист2'!H177*Титульный!$AY$1,Титульный!$AY$3)","v":24217},{"$f":"CEILING('прайс-лист2'!I177*Титульный!$AY$1,Титульный!$AY$3)","v":19717},{"$f":"CEILING('прайс-лист2'!J177*Титульный!$AY$1,Титульный!$AY$3)","v":20067},{"$f":"CEILING('прайс-лист2'!K177*Титульный!$AY$1,Титульный!$AY$3)","v":20957},{"$f":"CEILING('прайс-лист2'!L177*Титульный!$AY$1,Титульный!$AY$3)","v":22047},"-",{"$f":"CEILING('прайс-лист2'!N177*Титульный!$AY$1,Титульный!$AY$3)","v":25867},{"$f":"CEILING('прайс-лист2'!O177*Титульный!$AY$1,Титульный!$AY$3)","v":26937},{"$f":"CEILING('прайс-лист2'!P177*Титульный!$AY$1,Титульный!$AY$3)","v":25847},{"$f":"CEILING('прайс-лист2'!Q177*Титульный!$AY$1,Титульный!$AY$3)","v":27457},"-",{"$f":"CEILING('прайс-лист2'!S177*Титульный!$AY$1,Титульный!$AY$3)","v":1523},{"$f":"CEILING('прайс-лист2'!T177*Титульный!$AY$1,Титульный!$AY$3)","v":2730}]
["Шкаф Угл (560х560) Трап 2240х970х970",null,"970х970",{"$f":"CEILING('прайс-лист2'!E178*Титульный!$AY$1,Титульный!$AY$3)","v":22843},"-",{"$f":"CEILING('прайс-лист2'!G178*Титульный!$AY$1,Титульный!$AY$3)","v":23623},{"$f":"CEILING('прайс-лист2'!H178*Титульный!$AY$1,Титульный!$AY$3)","v":25563},{"$f":"CEILING('прайс-лист2'!I178*Титульный!$AY$1,Титульный!$AY$3)","v":20623},{"$f":"CEILING('прайс-лист2'!J178*Титульный!$AY$1,Титульный!$AY$3)","v":21003},{"$f":"CEILING('прайс-лист2'!K178*Титульный!$AY$1,Титульный!$AY$3)","v":21973},{"$f":"CEILING('прайс-лист2'!L178*Титульный!$AY$1,Титульный!$AY$3)","v":23163},"-",{"$f":"CEILING('прайс-лист2'!N178*Титульный!$AY$1,Титульный!$AY$3)","v":27363},{"$f":"CEILING('прайс-лист2'!O178*Титульный!$AY$1,Титульный!$AY$3)","v":28513},{"$f":"CEILING('прайс-лист2'!P178*Титульный!$AY$1,Титульный!$AY$3)","v":27333},{"$f":"CEILING('прайс-лист2'!Q178*Титульный!$AY$1,Титульный!$AY$3)","v":29113},"-",{"$f":"CEILING('прайс-лист2'!S178*Титульный!$AY$1,Титульный!$AY$3)","v":2190},{"$f":"CEILING('прайс-лист2'!T178*Титульный!$AY$1,Титульный!$AY$3)","v":3632}]
["Шкаф Угл (560х560) Комб. Трап 2040х975х975",null,"975х975",{"$f":"CEILING('прайс-лист2'!E179*Титульный!$AY$1,Титульный!$AY$3)","v":22782},{"$f":"CEILING('прайс-лист2'!F179*Титульный!$AY$1,Титульный!$AY$3)","v":27502},{"$f":"CEILING('прайс-лист2'!G179*Титульный!$AY$1,Титульный!$AY$3)","v":23492},{"$f":"CEILING('прайс-лист2'!H179*Титульный!$AY$1,Титульный!$AY$3)","v":25262},{"$f":"CEILING('прайс-лист2'!I179*Титульный!$AY$1,Титульный!$AY$3)","v":20762},{"$f":"CEILING('прайс-лист2'!J179*Титульный!$AY$1,Титульный!$AY$3)","v":21112},{"$f":"CEILING('прайс-лист2'!K179*Титульный!$AY$1,Титульный!$AY$3)","v":22002},{"$f":"CEILING('прайс-лист2'!L179*Титульный!$AY$1,Титульный!$AY$3)","v":23092},"-",{"$f":"CEILING('прайс-лист2'!N179*Титульный!$AY$1,Титульный!$AY$3)","v":26912},{"$f":"CEILING('прайс-лист2'!O179*Титульный!$AY$1,Титульный!$AY$3)","v":27982},{"$f":"CEILING('прайс-лист2'!P179*Титульный!$AY$1,Титульный!$AY$3)","v":26892},{"$f":"CEILING('прайс-лист2'!Q179*Титульный!$AY$1,Титульный!$AY$3)","v":28502},"-",{"$f":"CEILING('прайс-лист2'!S179*Титульный!$AY$1,Титульный!$AY$3)","v":1932},{"$f":"CEILING('прайс-лист2'!T179*Титульный!$AY$1,Титульный!$AY$3)","v":3314}]
["Шкаф Угл (560х560) Комб. Трап 2240х975х975",null,"975х975",{"$f":"CEILING('прайс-лист2'!E180*Титульный!$AY$1,Титульный!$AY$3)","v":23579},"-",{"$f":"CEILING('прайс-лист2'!G180*Титульный!$AY$1,Титульный!$AY$3)","v":24359},{"$f":"CEILING('прайс-лист2'!H180*Титульный!$AY$1,Титульный!$AY$3)","v":26299},{"$f":"CEILING('прайс-лист2'!I180*Титульный!$AY$1,Титульный!$AY$3)","v":21359},{"$f":"CEILING('прайс-лист2'!J180*Титульный!$AY$1,Титульный!$AY$3)","v":21739},{"$f":"CEILING('прайс-лист2'!K180*Титульный!$AY$1,Титульный!$AY$3)","v":22709},{"$f":"CEILING('прайс-лист2'!L180*Титульный!$AY$1,Титульный!$AY$3)","v":23899},"-",{"$f":"CEILING('прайс-лист2'!N180*Титульный!$AY$1,Титульный!$AY$3)","v":28099},{"$f":"CEILING('прайс-лист2'!O180*Титульный!$AY$1,Титульный!$AY$3)","v":29249},{"$f":"CEILING('прайс-лист2'!P180*Титульный!$AY$1,Титульный!$AY$3)","v":28069},{"$f":"CEILING('прайс-лист2'!Q180*Титульный!$AY$1,Титульный!$AY$3)","v":29849},"-",{"$f":"CEILING('прайс-лист2'!S180*Титульный!$AY$1,Титульный!$AY$3)","v":2190},{"$f":"CEILING('прайс-лист2'!T180*Титульный!$AY$1,Титульный!$AY$3)","v":3632}]
["Стеллаж (420) Торцевой 2040х300 Радиусный",null,"300х420х2040",{"$f":"CEILING('прайс-лист2'!E181*Титульный!$AY$1,Титульный!$AY$3)","v":4487},null,null,null,null,null,null,null,null,null,null,null,null,null,"-","-"]
["Стеллаж (420) Торцевой 2240х300  Радиусный",null,"300х420х2240",{"$f":"CEILING('прайс-лист2'!E182*Титульный!$AY$1,Титульный!$AY$3)","v":5013},null,null,null,null,null,null,null,null,null,null,null,null,null,"-","-"]
["Стеллаж (560) Торцевой 2040х300 Радиусный",null,"300х560х2040",{"$f":"CEILING('прайс-лист2'!E183*Титульный!$AY$1,Титульный!$AY$3)","v":5100},null,null,null,null,null,null,null,null,null,null,null,null,null,"-","-"]
["Стеллаж (560) Торцевой 2240х300 Радиусный",null,"300х560х2240",{"$f":"CEILING('прайс-лист2'!E184*Титульный!$AY$1,Титульный!$AY$3)","v":5733},null,null,null,null,null,null,null,null,null,null,null,null,null,"-","-"]
["Внимание!!! Для наборов мебели \"Марго\" использовать только накладные зеркала"]
["Кровати"]
["Наименование","Эскиз","Габариты,  ШхГхВ мм.",null,"МДФ фасады",null,null,null,"Марго","Марго16",null,null,null,null,"UV-лак",null,"ТСС",null,"ТСС сборный"]
[null,null,null,null,"1 ЦК","1 ЦК + патина","2 ЦК","3 ЦК","1 ц.к.","1 ц.к.","2 ц.к.","3 ц.к.","4 ц.к.","5 ц.к.","UV-лак кромка ABC/AL кромка","кромка 3D","1 ЦК","2 ЦК"]
["Кровать L-2075 мм., без основания и без матраца",null,800,"900 х 2075",{"$f":"CEILING('прайс-лист2'!E189*Титульный!$AY$1,Титульный!$AY$3)","v":8215},{"$f":"CEILING('прайс-лист2'!F189*Титульный!$AY$1,Титульный!$AY$3)","v":12895},{"$f":"CEILING('прайс-лист2'!G189*Титульный!$AY$1,Титульный!$AY$3)","v":8965},{"$f":"CEILING('прайс-лист2'!H189*Титульный!$AY$1,Титульный!$AY$3)","v":10785},"-",{"$f":"CEILING('прайс-лист2'!J189*Титульный!$AY$1,Титульный!$AY$3)","v":5535},{"$f":"CEILING('прайс-лист2'!K189*Титульный!$AY$1,Титульный!$AY$3)","v":5655},{"$f":"CEILING('прайс-лист2'!L189*Титульный!$AY$1,Титульный!$AY$3)","v":5835},{"$f":"CEILING('прайс-лист2'!M189*Титульный!$AY$1,Титульный!$AY$3)","v":5955},"-",{"$f":"CEILING('прайс-лист2'!O189*Титульный!$AY$1,Титульный!$AY$3)","v":10695},{"$f":"CEILING('прайс-лист2'!P189*Титульный!$AY$1,Титульный!$AY$3)","v":11955},{"$f":"CEILING('прайс-лист2'!Q189*Титульный!$AY$1,Титульный!$AY$3)","v":10675},{"$f":"CEILING('прайс-лист2'!R189*Титульный!$AY$1,Титульный!$AY$3)","v":12275},"-"]
[null,null,900,"1000 х 2075",{"$f":"CEILING('прайс-лист2'!E190*Титульный!$AY$1,Титульный!$AY$3)","v":8925},{"$f":"CEILING('прайс-лист2'!F190*Титульный!$AY$1,Титульный!$AY$3)","v":14145},{"$f":"CEILING('прайс-лист2'!G190*Титульный!$AY$1,Титульный!$AY$3)","v":9765},{"$f":"CEILING('прайс-лист2'!H190*Титульный!$AY$1,Титульный!$AY$3)","v":11785},"-",{"$f":"CEILING('прайс-лист2'!J190*Титульный!$AY$1,Титульный!$AY$3)","v":5935},{"$f":"CEILING('прайс-лист2'!K190*Титульный!$AY$1,Титульный!$AY$3)","v":6075},{"$f":"CEILING('прайс-лист2'!L190*Титульный!$AY$1,Титульный!$AY$3)","v":6265},{"$f":"CEILING('прайс-лист2'!M190*Титульный!$AY$1,Титульный!$AY$3)","v":6385},"-",{"$f":"CEILING('прайс-лист2'!O190*Титульный!$AY$1,Титульный!$AY$3)","v":11635},{"$f":"CEILING('прайс-лист2'!P190*Титульный!$AY$1,Титульный!$AY$3)","v":12985},{"$f":"CEILING('прайс-лист2'!Q190*Титульный!$AY$1,Титульный!$AY$3)","v":11615},{"$f":"CEILING('прайс-лист2'!R190*Титульный!$AY$1,Титульный!$AY$3)","v":13405},"-"]
[null,null,1200,"1300 х 2075",{"$f":"CEILING('прайс-лист2'!E191*Титульный!$AY$1,Титульный!$AY$3)","v":11051},{"$f":"CEILING('прайс-лист2'!F191*Титульный!$AY$1,Титульный!$AY$3)","v":17851},{"$f":"CEILING('прайс-лист2'!G191*Титульный!$AY$1,Титульный!$AY$3)","v":12151},{"$f":"CEILING('прайс-лист2'!H191*Титульный!$AY$1,Титульный!$AY$3)","v":14781},"-",{"$f":"CEILING('прайс-лист2'!J191*Титульный!$AY$1,Титульный!$AY$3)","v":7151},{"$f":"CEILING('прайс-лист2'!K191*Титульный!$AY$1,Титульный!$AY$3)","v":7311},{"$f":"CEILING('прайс-лист2'!L191*Титульный!$AY$1,Титульный!$AY$3)","v":7541},{"$f":"CEILING('прайс-лист2'!M191*Титульный!$AY$1,Титульный!$AY$3)","v":7681},"-",{"$f":"CEILING('прайс-лист2'!O191*Титульный!$AY$1,Титульный!$AY$3)","v":14441},{"$f":"CEILING('прайс-лист2'!P191*Титульный!$AY$1,Титульный!$AY$3)","v":16051},{"$f":"CEILING('прайс-лист2'!Q191*Титульный!$AY$1,Титульный!$AY$3)","v":14411},{"$f":"CEILING('прайс-лист2'!R191*Титульный!$AY$1,Титульный!$AY$3)","v":16741},"-"]
[null,null,1400,"1500 х 2075",{"$f":"CEILING('прайс-лист2'!E192*Титульный!$AY$1,Титульный!$AY$3)","v":12481},{"$f":"CEILING('прайс-лист2'!F192*Титульный!$AY$1,Титульный!$AY$3)","v":20351},{"$f":"CEILING('прайс-лист2'!G192*Титульный!$AY$1,Титульный!$AY$3)","v":13751},{"$f":"CEILING('прайс-лист2'!H192*Титульный!$AY$1,Титульный!$AY$3)","v":16801},"-",{"$f":"CEILING('прайс-лист2'!J192*Титульный!$AY$1,Титульный!$AY$3)","v":7961},{"$f":"CEILING('прайс-лист2'!K192*Титульный!$AY$1,Титульный!$AY$3)","v":8141},{"$f":"CEILING('прайс-лист2'!L192*Титульный!$AY$1,Титульный!$AY$3)","v":8391},{"$f":"CEILING('прайс-лист2'!M192*Титульный!$AY$1,Титульный!$AY$3)","v":8551},"-",{"$f":"CEILING('прайс-лист2'!O192*Титульный!$AY$1,Титульный!$AY$3)","v":16331},{"$f":"CEILING('прайс-лист2'!P192*Титульный!$AY$1,Титульный!$AY$3)","v":18111},{"$f":"CEILING('прайс-лист2'!Q192*Титульный!$AY$1,Титульный!$AY$3)","v":16291},{"$f":"CEILING('прайс-лист2'!R192*Титульный!$AY$1,Титульный!$AY$3)","v":18991},"-"]
[null,null,1600,"1700 х 2075",{"$f":"CEILING('прайс-лист2'!E193*Титульный!$AY$1,Титульный!$AY$3)","v":13968},{"$f":"CEILING('прайс-лист2'!F193*Титульный!$AY$1,Титульный!$AY$3)","v":22888},{"$f":"CEILING('прайс-лист2'!G193*Титульный!$AY$1,Титульный!$AY$3)","v":15398},{"$f":"CEILING('прайс-лист2'!H193*Титульный!$AY$1,Титульный!$AY$3)","v":18858},"-",{"$f":"CEILING('прайс-лист2'!J193*Титульный!$AY$1,Титульный!$AY$3)","v":8838},{"$f":"CEILING('прайс-лист2'!K193*Титульный!$AY$1,Титульный!$AY$3)","v":9018},{"$f":"CEILING('прайс-лист2'!L193*Титульный!$AY$1,Титульный!$AY$3)","v":9288},{"$f":"CEILING('прайс-лист2'!M193*Титульный!$AY$1,Титульный!$AY$3)","v":9478},"-",{"$f":"CEILING('прайс-лист2'!O193*Титульный!$AY$1,Титульный!$AY$3)","v":18258},{"$f":"CEILING('прайс-лист2'!P193*Титульный!$AY$1,Титульный!$AY$3)","v":20198},{"$f":"CEILING('прайс-лист2'!Q193*Титульный!$AY$1,Титульный!$AY$3)","v":18218},{"$f":"CEILING('прайс-лист2'!R193*Титульный!$AY$1,Титульный!$AY$3)","v":21278},"-"]
[null,null,1800,"1900 х 2075",{"$f":"CEILING('прайс-лист2'!E194*Титульный!$AY$1,Титульный!$AY$3)","v":15635},{"$f":"CEILING('прайс-лист2'!F194*Титульный!$AY$1,Титульный!$AY$3)","v":25605},{"$f":"CEILING('прайс-лист2'!G194*Титульный!$AY$1,Титульный!$AY$3)","v":17235},{"$f":"CEILING('прайс-лист2'!H194*Титульный!$AY$1,Титульный!$AY$3)","v":21095},"-",{"$f":"CEILING('прайс-лист2'!J194*Титульный!$AY$1,Титульный!$AY$3)","v":9885},{"$f":"CEILING('прайс-лист2'!K194*Титульный!$AY$1,Титульный!$AY$3)","v":10085},{"$f":"CEILING('прайс-лист2'!L194*Титульный!$AY$1,Титульный!$AY$3)","v":10385},{"$f":"CEILING('прайс-лист2'!M194*Титульный!$AY$1,Титульный!$AY$3)","v":10585},"-",{"$f":"CEILING('прайс-лист2'!O194*Титульный!$AY$1,Титульный!$AY$3)","v":20385},{"$f":"CEILING('прайс-лист2'!P194*Титульный!$AY$1,Титульный!$AY$3)","v":22485},{"$f":"CEILING('прайс-лист2'!Q194*Титульный!$AY$1,Титульный!$AY$3)","v":20335},{"$f":"CEILING('прайс-лист2'!R194*Титульный!$AY$1,Титульный!$AY$3)","v":23765},"-"]
["Кровать L-2165 мм., без основания и без матраца с наборным изголовьем",null,800,"900 х 2165",{"$f":"CEILING('прайс-лист2'!E195*Титульный!$AY$1,Титульный!$AY$3)","v":8861},{"$f":"CEILING('прайс-лист2'!F195*Титульный!$AY$1,Титульный!$AY$3)","v":13231},{"$f":"CEILING('прайс-лист2'!G195*Титульный!$AY$1,Титульный!$AY$3)","v":9561},{"$f":"CEILING('прайс-лист2'!H195*Титульный!$AY$1,Титульный!$AY$3)","v":11281},"-","-","-","-","-","-",{"$f":"CEILING('прайс-лист2'!O195*Титульный!$AY$1,Титульный!$AY$3)","v":12241},{"$f":"CEILING('прайс-лист2'!P195*Титульный!$AY$1,Титульный!$AY$3)","v":14631},{"$f":"CEILING('прайс-лист2'!Q195*Титульный!$AY$1,Титульный!$AY$3)","v":12231},{"$f":"CEILING('прайс-лист2'!R195*Титульный!$AY$1,Титульный!$AY$3)","v":13741},"-","ВНИМАНИЕ!!!  Для кровати с наборным изголовьем,необходимо заказывать основание с круглыми опорами. "]
[null,null,900,"1000 х 2165",{"$f":"CEILING('прайс-лист2'!E196*Титульный!$AY$1,Титульный!$AY$3)","v":7681},{"$f":"CEILING('прайс-лист2'!F196*Титульный!$AY$1,Титульный!$AY$3)","v":12531},{"$f":"CEILING('прайс-лист2'!G196*Титульный!$AY$1,Титульный!$AY$3)","v":8401},{"$f":"CEILING('прайс-лист2'!H196*Титульный!$AY$1,Титульный!$AY$3)","v":10231},"-","-","-","-","-","-",{"$f":"CEILING('прайс-лист2'!O196*Титульный!$AY$1,Титульный!$AY$3)","v":13251},{"$f":"CEILING('прайс-лист2'!P196*Титульный!$AY$1,Титульный!$AY$3)","v":15821},{"$f":"CEILING('прайс-лист2'!Q196*Титульный!$AY$1,Титульный!$AY$3)","v":13211},{"$f":"CEILING('прайс-лист2'!R196*Титульный!$AY$1,Титульный!$AY$3)","v":14891},"-"]
[null,null,1200,"1300 х 2165",{"$f":"CEILING('прайс-лист2'!E197*Титульный!$AY$1,Титульный!$AY$3)","v":9091},{"$f":"CEILING('прайс-лист2'!F197*Титульный!$AY$1,Титульный!$AY$3)","v":15411},{"$f":"CEILING('прайс-лист2'!G197*Титульный!$AY$1,Титульный!$AY$3)","v":10031},{"$f":"CEILING('прайс-лист2'!H197*Титульный!$AY$1,Титульный!$AY$3)","v":12411},"-","-","-","-","-","-",{"$f":"CEILING('прайс-лист2'!O197*Титульный!$AY$1,Титульный!$AY$3)","v":16221},{"$f":"CEILING('прайс-лист2'!P197*Титульный!$AY$1,Титульный!$AY$3)","v":19421},{"$f":"CEILING('прайс-лист2'!Q197*Титульный!$AY$1,Титульный!$AY$3)","v":16201},{"$f":"CEILING('прайс-лист2'!R197*Титульный!$AY$1,Титульный!$AY$3)","v":18371},"-"]
[null,null,1400,"1500 х 2165",{"$f":"CEILING('прайс-лист2'!E198*Титульный!$AY$1,Титульный!$AY$3)","v":12861},{"$f":"CEILING('прайс-лист2'!F198*Титульный!$AY$1,Титульный!$AY$3)","v":20171},{"$f":"CEILING('прайс-лист2'!G198*Титульный!$AY$1,Титульный!$AY$3)","v":14031},{"$f":"CEILING('прайс-лист2'!H198*Титульный!$AY$1,Титульный!$AY$3)","v":16861},"-","-","-","-","-","-",{"$f":"CEILING('прайс-лист2'!O198*Титульный!$AY$1,Титульный!$AY$3)","v":18231},{"$f":"CEILING('прайс-лист2'!P198*Титульный!$AY$1,Титульный!$AY$3)","v":21841},{"$f":"CEILING('прайс-лист2'!Q198*Титульный!$AY$1,Титульный!$AY$3)","v":18171},{"$f":"CEILING('прайс-лист2'!R198*Титульный!$AY$1,Титульный!$AY$3)","v":20691},"-"]
[null,null,1600,"1700 х 2165",{"$f":"CEILING('прайс-лист2'!E199*Титульный!$AY$1,Титульный!$AY$3)","v":14171},{"$f":"CEILING('прайс-лист2'!F199*Титульный!$AY$1,Титульный!$AY$3)","v":22481},{"$f":"CEILING('прайс-лист2'!G199*Титульный!$AY$1,Титульный!$AY$3)","v":15501},{"$f":"CEILING('прайс-лист2'!H199*Титульный!$AY$1,Титульный!$AY$3)","v":18731},"-","-","-","-","-","-",{"$f":"CEILING('прайс-лист2'!O199*Титульный!$AY$1,Титульный!$AY$3)","v":20201},{"$f":"CEILING('прайс-лист2'!P199*Титульный!$AY$1,Титульный!$AY$3)","v":24251},{"$f":"CEILING('прайс-лист2'!Q199*Титульный!$AY$1,Титульный!$AY$3)","v":20171},{"$f":"CEILING('прайс-лист2'!R199*Титульный!$AY$1,Титульный!$AY$3)","v":23001},"-"]
[null,null,1800,"1900 х 2165",{"$f":"CEILING('прайс-лист2'!E200*Титульный!$AY$1,Титульный!$AY$3)","v":15501},{"$f":"CEILING('прайс-лист2'!F200*Титульный!$AY$1,Титульный!$AY$3)","v":24801},{"$f":"CEILING('прайс-лист2'!G200*Титульный!$AY$1,Титульный!$AY$3)","v":16981},{"$f":"CEILING('прайс-лист2'!H200*Титульный!$AY$1,Титульный!$AY$3)","v":20591},"-","-","-","-","-","-",{"$f":"CEILING('прайс-лист2'!O200*Титульный!$AY$1,Титульный!$AY$3)","v":22171},{"$f":"CEILING('прайс-лист2'!P200*Титульный!$AY$1,Титульный!$AY$3)","v":26661},{"$f":"CEILING('прайс-лист2'!Q200*Титульный!$AY$1,Титульный!$AY$3)","v":22151},{"$f":"CEILING('прайс-лист2'!R200*Титульный!$AY$1,Титульный!$AY$3)","v":25321},"-"]
["Кровать 2 ящика 800х1600",null,800,"846 х 1638",{"$f":"CEILING('прайс-лист2'!E201*Титульный!$AY$1,Титульный!$AY$3)","v":12706},{"$f":"CEILING('прайс-лист2'!F201*Титульный!$AY$1,Титульный!$AY$3)","v":14286},{"$f":"CEILING('прайс-лист2'!G201*Титульный!$AY$1,Титульный!$AY$3)","v":12946},{"$f":"CEILING('прайс-лист2'!H201*Титульный!$AY$1,Титульный!$AY$3)","v":13526},"-","-","-","-","-","-",{"$f":"CEILING('прайс-лист2'!O201*Титульный!$AY$1,Титульный!$AY$3)","v":14546},{"$f":"CEILING('прайс-лист2'!P201*Титульный!$AY$1,Титульный!$AY$3)","v":15426},{"$f":"CEILING('прайс-лист2'!Q201*Титульный!$AY$1,Титульный!$AY$3)","v":14546},{"$f":"CEILING('прайс-лист2'!R201*Титульный!$AY$1,Титульный!$AY$3)","v":15086},"-"]
["Кровать 2 ящика 800х2000",null,800,"846 х 2038",{"$f":"CEILING('прайс-лист2'!E202*Титульный!$AY$1,Титульный!$AY$3)","v":14307},{"$f":"CEILING('прайс-лист2'!F202*Титульный!$AY$1,Титульный!$AY$3)","v":16267},{"$f":"CEILING('прайс-лист2'!G202*Титульный!$AY$1,Титульный!$AY$3)","v":14607},{"$f":"CEILING('прайс-лист2'!H202*Титульный!$AY$1,Титульный!$AY$3)","v":15347},"-","-","-","-","-","-",{"$f":"CEILING('прайс-лист2'!O202*Титульный!$AY$1,Титульный!$AY$3)","v":16567},{"$f":"CEILING('прайс-лист2'!P202*Титульный!$AY$1,Титульный!$AY$3)","v":17607},{"$f":"CEILING('прайс-лист2'!Q202*Титульный!$AY$1,Титульный!$AY$3)","v":16547},{"$f":"CEILING('прайс-лист2'!R202*Титульный!$AY$1,Титульный!$AY$3)","v":17227},"-"]
["Кровать 2 ящика 900х1600",null,900,"946 х 1638",{"$f":"CEILING('прайс-лист2'!E203*Титульный!$AY$1,Титульный!$AY$3)","v":13418},{"$f":"CEILING('прайс-лист2'!F203*Титульный!$AY$1,Титульный!$AY$3)","v":14998},{"$f":"CEILING('прайс-лист2'!G203*Титульный!$AY$1,Титульный!$AY$3)","v":13658},{"$f":"CEILING('прайс-лист2'!H203*Титульный!$AY$1,Титульный!$AY$3)","v":14238},"-","-","-","-","-","-",{"$f":"CEILING('прайс-лист2'!O203*Титульный!$AY$1,Титульный!$AY$3)","v":15258},{"$f":"CEILING('прайс-лист2'!P203*Титульный!$AY$1,Титульный!$AY$3)","v":16138},{"$f":"CEILING('прайс-лист2'!Q203*Титульный!$AY$1,Титульный!$AY$3)","v":15258},{"$f":"CEILING('прайс-лист2'!R203*Титульный!$AY$1,Титульный!$AY$3)","v":15798},"-"]
["Кровать 2 ящика 900х2000",null,900,"946 х 2038",{"$f":"CEILING('прайс-лист2'!E204*Титульный!$AY$1,Титульный!$AY$3)","v":15117},{"$f":"CEILING('прайс-лист2'!F204*Титульный!$AY$1,Титульный!$AY$3)","v":17077},{"$f":"CEILING('прайс-лист2'!G204*Титульный!$AY$1,Титульный!$AY$3)","v":15417},{"$f":"CEILING('прайс-лист2'!H204*Титульный!$AY$1,Титульный!$AY$3)","v":16157},"-","-","-","-","-","-",{"$f":"CEILING('прайс-лист2'!O204*Титульный!$AY$1,Титульный!$AY$3)","v":17377},{"$f":"CEILING('прайс-лист2'!P204*Титульный!$AY$1,Титульный!$AY$3)","v":18417},{"$f":"CEILING('прайс-лист2'!Q204*Титульный!$AY$1,Титульный!$AY$3)","v":17357},{"$f":"CEILING('прайс-лист2'!R204*Титульный!$AY$1,Титульный!$AY$3)","v":18037},"-"]
["Кровать 1 ящик 800х1600",null,800,"856 х 1672",{"$f":"CEILING('прайс-лист2'!E205*Титульный!$AY$1,Титульный!$AY$3)","v":12619},{"$f":"CEILING('прайс-лист2'!F205*Титульный!$AY$1,Титульный!$AY$3)","v":14379},{"$f":"CEILING('прайс-лист2'!G205*Титульный!$AY$1,Титульный!$AY$3)","v":12879},{"$f":"CEILING('прайс-лист2'!H205*Титульный!$AY$1,Титульный!$AY$3)","v":13539},"-","-","-","-","-","-",{"$f":"CEILING('прайс-лист2'!O205*Титульный!$AY$1,Титульный!$AY$3)","v":14519},{"$f":"CEILING('прайс-лист2'!P205*Титульный!$AY$1,Титульный!$AY$3)","v":15319},{"$f":"CEILING('прайс-лист2'!Q205*Титульный!$AY$1,Титульный!$AY$3)","v":14509},{"$f":"CEILING('прайс-лист2'!R205*Титульный!$AY$1,Титульный!$AY$3)","v":15119},"-"]
["Кровать 1 ящик 800х1800",null,800,"856 х 1872",{"$f":"CEILING('прайс-лист2'!E206*Титульный!$AY$1,Титульный!$AY$3)","v":13784},{"$f":"CEILING('прайс-лист2'!F206*Титульный!$AY$1,Титульный!$AY$3)","v":15754},{"$f":"CEILING('прайс-лист2'!G206*Титульный!$AY$1,Титульный!$AY$3)","v":14084},{"$f":"CEILING('прайс-лист2'!H206*Титульный!$AY$1,Титульный!$AY$3)","v":14824},"-","-","-","-","-","-",{"$f":"CEILING('прайс-лист2'!O206*Титульный!$AY$1,Титульный!$AY$3)","v":15904},{"$f":"CEILING('прайс-лист2'!P206*Титульный!$AY$1,Титульный!$AY$3)","v":16794},{"$f":"CEILING('прайс-лист2'!Q206*Титульный!$AY$1,Титульный!$AY$3)","v":15894},{"$f":"CEILING('прайс-лист2'!R206*Титульный!$AY$1,Титульный!$AY$3)","v":16574},"-"]
["Кровать 1 ящик 800х2000",null,800,"856 х 2072",{"$f":"CEILING('прайс-лист2'!E207*Титульный!$AY$1,Титульный!$AY$3)","v":14625},{"$f":"CEILING('прайс-лист2'!F207*Титульный!$AY$1,Титульный!$AY$3)","v":16805},{"$f":"CEILING('прайс-лист2'!G207*Титульный!$AY$1,Титульный!$AY$3)","v":14955},{"$f":"CEILING('прайс-лист2'!H207*Титульный!$AY$1,Титульный!$AY$3)","v":15765},"-","-","-","-","-","-",{"$f":"CEILING('прайс-лист2'!O207*Титульный!$AY$1,Титульный!$AY$3)","v":16965},{"$f":"CEILING('прайс-лист2'!P207*Титульный!$AY$1,Титульный!$AY$3)","v":17935},{"$f":"CEILING('прайс-лист2'!Q207*Титульный!$AY$1,Титульный!$AY$3)","v":16945},{"$f":"CEILING('прайс-лист2'!R207*Титульный!$AY$1,Титульный!$AY$3)","v":17695},"-"]
["Кровать 1 ящик 900х2000",null,900,"956 х 2073",{"$f":"CEILING('прайс-лист2'!E208*Титульный!$AY$1,Титульный!$AY$3)","v":15601},{"$f":"CEILING('прайс-лист2'!F208*Титульный!$AY$1,Титульный!$AY$3)","v":17781},{"$f":"CEILING('прайс-лист2'!G208*Титульный!$AY$1,Титульный!$AY$3)","v":15931},{"$f":"CEILING('прайс-лист2'!H208*Титульный!$AY$1,Титульный!$AY$3)","v":16741},"-","-","-","-","-","-",{"$f":"CEILING('прайс-лист2'!O208*Титульный!$AY$1,Титульный!$AY$3)","v":17941},{"$f":"CEILING('прайс-лист2'!P208*Титульный!$AY$1,Титульный!$AY$3)","v":18911},{"$f":"CEILING('прайс-лист2'!Q208*Титульный!$AY$1,Титульный!$AY$3)","v":17921},{"$f":"CEILING('прайс-лист2'!R208*Титульный!$AY$1,Титульный!$AY$3)","v":18671},"-"]
["Передний бортик для кроватей с 1 и 2 ящ (только ЛДСП)",null,"300х1100","-",null,null,null,null,"-",{"$f":"CEILING('прайс-лист2'!J209*Титульный!$AY$1,Титульный!$AY$3)","v":1727},null,null,"-","-"]
["Кровати с царгами МДФ"]
["Наименование","Эскиз","Кровать","Габариты мм.","Цена руб."]
[null,null,null,null,"1 ЦК","1 ЦК + патина","2 ЦК","3 ЦК"]
["Кровать L-2075 мм., без основания и без матраца",null,800,"900х2075",{"$f":"CEILING('прайс-лист2'!E213*Титульный!$AY$1,Титульный!$AY$3)","v":10483},{"$f":"CEILING('прайс-лист2'!F213*Титульный!$AY$1,Титульный!$AY$3)","v":19103},{"$f":"CEILING('прайс-лист2'!G213*Титульный!$AY$1,Титульный!$AY$3)","v":11833},{"$f":"CEILING('прайс-лист2'!H213*Титульный!$AY$1,Титульный!$AY$3)","v":15113}]
[null,null,900,"1000х2075",{"$f":"CEILING('прайс-лист2'!E214*Титульный!$AY$1,Титульный!$AY$3)","v":11193},{"$f":"CEILING('прайс-лист2'!F214*Титульный!$AY$1,Титульный!$AY$3)","v":20353},{"$f":"CEILING('прайс-лист2'!G214*Титульный!$AY$1,Титульный!$AY$3)","v":12633},{"$f":"CEILING('прайс-лист2'!H214*Титульный!$AY$1,Титульный!$AY$3)","v":16113}]
[null,null,1200,"1300х2075",{"$f":"CEILING('прайс-лист2'!E215*Титульный!$AY$1,Титульный!$AY$3)","v":13396},{"$f":"CEILING('прайс-лист2'!F215*Титульный!$AY$1,Титульный!$AY$3)","v":24136},{"$f":"CEILING('прайс-лист2'!G215*Титульный!$AY$1,Титульный!$AY$3)","v":15096},{"$f":"CEILING('прайс-лист2'!H215*Титульный!$AY$1,Титульный!$AY$3)","v":19186}]
[null,null,1400,"1500х2075",{"$f":"CEILING('прайс-лист2'!E216*Титульный!$AY$1,Титульный!$AY$3)","v":14826},{"$f":"CEILING('прайс-лист2'!F216*Титульный!$AY$1,Титульный!$AY$3)","v":26636},{"$f":"CEILING('прайс-лист2'!G216*Титульный!$AY$1,Титульный!$AY$3)","v":16696},{"$f":"CEILING('прайс-лист2'!H216*Титульный!$AY$1,Титульный!$AY$3)","v":21206}]
[null,null,1600,"1700х2075",{"$f":"CEILING('прайс-лист2'!E217*Титульный!$AY$1,Титульный!$AY$3)","v":16313},{"$f":"CEILING('прайс-лист2'!F217*Титульный!$AY$1,Титульный!$AY$3)","v":29173},{"$f":"CEILING('прайс-лист2'!G217*Титульный!$AY$1,Титульный!$AY$3)","v":18343},{"$f":"CEILING('прайс-лист2'!H217*Титульный!$AY$1,Титульный!$AY$3)","v":23263}]
[null,null,1800,"1900х2075",{"$f":"CEILING('прайс-лист2'!E218*Титульный!$AY$1,Титульный!$AY$3)","v":17743},{"$f":"CEILING('прайс-лист2'!F218*Титульный!$AY$1,Титульный!$AY$3)","v":31653},{"$f":"CEILING('прайс-лист2'!G218*Титульный!$AY$1,Титульный!$AY$3)","v":19943},{"$f":"CEILING('прайс-лист2'!H218*Титульный!$AY$1,Титульный!$AY$3)","v":25263}]
["Кровать L-2165 мм., без основания и без матраца с наборным изголовьем",null,800,"900х2165",{"$f":"CEILING('прайс-лист2'!E219*Титульный!$AY$1,Титульный!$AY$3)","v":11213},{"$f":"CEILING('прайс-лист2'!F219*Титульный!$AY$1,Титульный!$AY$3)","v":19523},{"$f":"CEILING('прайс-лист2'!G219*Титульный!$AY$1,Титульный!$AY$3)","v":12513},{"$f":"CEILING('прайс-лист2'!H219*Титульный!$AY$1,Титульный!$AY$3)","v":15693},null,null,null,null,null,null,null,null,null,null,null,"ВНИМАНИЕ!!!  Для кровати с наборным изголовьем,необходимо заказывать основание с круглыми опорами. "]
[null,null,900,"1000х2165",{"$f":"CEILING('прайс-лист2'!E220*Титульный!$AY$1,Титульный!$AY$3)","v":11883},{"$f":"CEILING('прайс-лист2'!F220*Титульный!$AY$1,Титульный!$AY$3)","v":20683},{"$f":"CEILING('прайс-лист2'!G220*Титульный!$AY$1,Титульный!$AY$3)","v":13263},{"$f":"CEILING('прайс-лист2'!H220*Титульный!$AY$1,Титульный!$AY$3)","v":16623}]
[null,null,1200,"1300х2165",{"$f":"CEILING('прайс-лист2'!E221*Титульный!$AY$1,Титульный!$AY$3)","v":13883},{"$f":"CEILING('прайс-лист2'!F221*Титульный!$AY$1,Титульный!$AY$3)","v":24143},{"$f":"CEILING('прайс-лист2'!G221*Титульный!$AY$1,Титульный!$AY$3)","v":15503},{"$f":"CEILING('прайс-лист2'!H221*Титульный!$AY$1,Титульный!$AY$3)","v":19413}]
[null,null,1400,"1500х2165",{"$f":"CEILING('прайс-лист2'!E222*Титульный!$AY$1,Титульный!$AY$3)","v":15213},{"$f":"CEILING('прайс-лист2'!F222*Титульный!$AY$1,Титульный!$AY$3)","v":26463},{"$f":"CEILING('прайс-лист2'!G222*Титульный!$AY$1,Титульный!$AY$3)","v":16983},{"$f":"CEILING('прайс-лист2'!H222*Титульный!$AY$1,Титульный!$AY$3)","v":21273}]
[null,null,1600,"1700х2165",{"$f":"CEILING('прайс-лист2'!E223*Титульный!$AY$1,Титульный!$AY$3)","v":16523},{"$f":"CEILING('прайс-лист2'!F223*Титульный!$AY$1,Титульный!$AY$3)","v":28773},{"$f":"CEILING('прайс-лист2'!G223*Титульный!$AY$1,Титульный!$AY$3)","v":18453},{"$f":"CEILING('прайс-лист2'!H223*Титульный!$AY$1,Титульный!$AY$3)","v":23143}]
[null,null,1800,"1900х2165",{"$f":"CEILING('прайс-лист2'!E224*Титульный!$AY$1,Титульный!$AY$3)","v":17853},{"$f":"CEILING('прайс-лист2'!F224*Титульный!$AY$1,Титульный!$AY$3)","v":31093},{"$f":"CEILING('прайс-лист2'!G224*Титульный!$AY$1,Титульный!$AY$3)","v":19933},{"$f":"CEILING('прайс-лист2'!H224*Титульный!$AY$1,Титульный!$AY$3)","v":25003}]
["Кровати с бельевым ящиком"]
["Наименование","Эскиз","Кровать","Габариты мм.","Цена руб.",null,null,null,null,null,null,null,null,null,null,null,null,null,null,"ВНИМАНИЕ!!!  Для кровати с бельевым ящиком,необходимо заказывать основание для кровати с подъемным механизмом. "]
[null,null,null,null,"МДФ фасады",null,null,null,"Марго","Марго16",null,null,null,null,"UV-лак",null,"ТСС",null,"ТСС сборный"]
[null,null,null,null,"1 ЦК","1 ЦК + патина","2 ЦК","3 ЦК","1 ц.к.","1 ц.к.","2 ц.к.","3 ц.к.","4 ц.к.","5 ц.к.","UV-лак кромка ABC/AL кромка","кромка 3D","1 ЦК","2 ЦК"]
["Кровать с бельевым ящиком, без основания и без матраца",null,1200,"1300х2075",{"$f":"CEILING('прайс-лист2'!F228*Титульный!$AY$1,Титульный!$AY$3)","v":22566},{"$f":"CEILING('прайс-лист2'!G228*Титульный!$AY$1,Титульный!$AY$3)","v":29366},{"$f":"CEILING('прайс-лист2'!H228*Титульный!$AY$1,Титульный!$AY$3)","v":23666},{"$f":"CEILING('прайс-лист2'!I228*Титульный!$AY$1,Титульный!$AY$3)","v":26296},"-",{"$f":"CEILING('прайс-лист2'!K228*Титульный!$AY$1,Титульный!$AY$3)","v":18666},{"$f":"CEILING('прайс-лист2'!L228*Титульный!$AY$1,Титульный!$AY$3)","v":18826},{"$f":"CEILING('прайс-лист2'!M228*Титульный!$AY$1,Титульный!$AY$3)","v":19056},{"$f":"CEILING('прайс-лист2'!N228*Титульный!$AY$1,Титульный!$AY$3)","v":19196},"-",{"$f":"CEILING('прайс-лист2'!P228*Титульный!$AY$1,Титульный!$AY$3)","v":25956},{"$f":"CEILING('прайс-лист2'!Q228*Титульный!$AY$1,Титульный!$AY$3)","v":27566},{"$f":"CEILING('прайс-лист2'!R228*Титульный!$AY$1,Титульный!$AY$3)","v":25926},{"$f":"CEILING('прайс-лист2'!S228*Титульный!$AY$1,Титульный!$AY$3)","v":28256},{"$f":"CEILING('прайс-лист2'!T228*Титульный!$AY$1,Титульный!$AY$3)","v":30822}]
[null,null,1400,"1500х2075",{"$f":"CEILING('прайс-лист2'!F229*Титульный!$AY$1,Титульный!$AY$3)","v":24726},{"$f":"CEILING('прайс-лист2'!G229*Титульный!$AY$1,Титульный!$AY$3)","v":32596},{"$f":"CEILING('прайс-лист2'!H229*Титульный!$AY$1,Титульный!$AY$3)","v":25996},{"$f":"CEILING('прайс-лист2'!I229*Титульный!$AY$1,Титульный!$AY$3)","v":29046},"-",{"$f":"CEILING('прайс-лист2'!K229*Титульный!$AY$1,Титульный!$AY$3)","v":20206},{"$f":"CEILING('прайс-лист2'!L229*Титульный!$AY$1,Титульный!$AY$3)","v":20386},{"$f":"CEILING('прайс-лист2'!M229*Титульный!$AY$1,Титульный!$AY$3)","v":20636},{"$f":"CEILING('прайс-лист2'!N229*Титульный!$AY$1,Титульный!$AY$3)","v":20796},"-",{"$f":"CEILING('прайс-лист2'!P229*Титульный!$AY$1,Титульный!$AY$3)","v":28576},{"$f":"CEILING('прайс-лист2'!Q229*Титульный!$AY$1,Титульный!$AY$3)","v":30356},{"$f":"CEILING('прайс-лист2'!R229*Титульный!$AY$1,Титульный!$AY$3)","v":28536},{"$f":"CEILING('прайс-лист2'!S229*Титульный!$AY$1,Титульный!$AY$3)","v":31236},{"$f":"CEILING('прайс-лист2'!T229*Титульный!$AY$1,Титульный!$AY$3)","v":34080}]
[null,null,1600,"1700х2075",{"$f":"CEILING('прайс-лист2'!F230*Титульный!$AY$1,Титульный!$AY$3)","v":26857},{"$f":"CEILING('прайс-лист2'!G230*Титульный!$AY$1,Титульный!$AY$3)","v":35777},{"$f":"CEILING('прайс-лист2'!H230*Титульный!$AY$1,Титульный!$AY$3)","v":28287},{"$f":"CEILING('прайс-лист2'!I230*Титульный!$AY$1,Титульный!$AY$3)","v":31747},"-",{"$f":"CEILING('прайс-лист2'!K230*Титульный!$AY$1,Титульный!$AY$3)","v":21727},{"$f":"CEILING('прайс-лист2'!L230*Титульный!$AY$1,Титульный!$AY$3)","v":21907},{"$f":"CEILING('прайс-лист2'!M230*Титульный!$AY$1,Титульный!$AY$3)","v":22177},{"$f":"CEILING('прайс-лист2'!N230*Титульный!$AY$1,Титульный!$AY$3)","v":22367},"-",{"$f":"CEILING('прайс-лист2'!P230*Титульный!$AY$1,Титульный!$AY$3)","v":31147},{"$f":"CEILING('прайс-лист2'!Q230*Титульный!$AY$1,Титульный!$AY$3)","v":33087},{"$f":"CEILING('прайс-лист2'!R230*Титульный!$AY$1,Титульный!$AY$3)","v":31107},{"$f":"CEILING('прайс-лист2'!S230*Титульный!$AY$1,Титульный!$AY$3)","v":34167},{"$f":"CEILING('прайс-лист2'!T230*Титульный!$AY$1,Титульный!$AY$3)","v":37305}]
[null,null,1800,"1900х2075",{"$f":"CEILING('прайс-лист2'!F231*Титульный!$AY$1,Титульный!$AY$3)","v":29008},{"$f":"CEILING('прайс-лист2'!G231*Титульный!$AY$1,Титульный!$AY$3)","v":38978},{"$f":"CEILING('прайс-лист2'!H231*Титульный!$AY$1,Титульный!$AY$3)","v":30608},{"$f":"CEILING('прайс-лист2'!I231*Титульный!$AY$1,Титульный!$AY$3)","v":34468},"-",{"$f":"CEILING('прайс-лист2'!K231*Титульный!$AY$1,Титульный!$AY$3)","v":23258},{"$f":"CEILING('прайс-лист2'!L231*Титульный!$AY$1,Титульный!$AY$3)","v":23458},{"$f":"CEILING('прайс-лист2'!M231*Титульный!$AY$1,Титульный!$AY$3)","v":23758},{"$f":"CEILING('прайс-лист2'!N231*Титульный!$AY$1,Титульный!$AY$3)","v":23958},"-",{"$f":"CEILING('прайс-лист2'!P231*Титульный!$AY$1,Титульный!$AY$3)","v":33758},{"$f":"CEILING('прайс-лист2'!Q231*Титульный!$AY$1,Титульный!$AY$3)","v":35858},{"$f":"CEILING('прайс-лист2'!R231*Титульный!$AY$1,Титульный!$AY$3)","v":33708},{"$f":"CEILING('прайс-лист2'!S231*Титульный!$AY$1,Титульный!$AY$3)","v":37138},{"$f":"CEILING('прайс-лист2'!T231*Титульный!$AY$1,Титульный!$AY$3)","v":40551}]
["Кровать с бельевым ящиком с царгами в цвет спинок, без основания и без матраца",null,1200,"1300х2075",{"$f":"CEILING('прайс-лист2'!F232*Титульный!$AY$1,Титульный!$AY$3)","v":24855},{"$f":"CEILING('прайс-лист2'!G232*Титульный!$AY$1,Титульный!$AY$3)","v":36515},{"$f":"CEILING('прайс-лист2'!H232*Титульный!$AY$1,Титульный!$AY$3)","v":26695},{"$f":"CEILING('прайс-лист2'!I232*Титульный!$AY$1,Титульный!$AY$3)","v":31125}]
[null,null,1400,"1500х2075",{"$f":"CEILING('прайс-лист2'!F233*Титульный!$AY$1,Титульный!$AY$3)","v":27034},{"$f":"CEILING('прайс-лист2'!G233*Титульный!$AY$1,Титульный!$AY$3)","v":39764},{"$f":"CEILING('прайс-лист2'!H233*Титульный!$AY$1,Титульный!$AY$3)","v":29044},{"$f":"CEILING('прайс-лист2'!I233*Титульный!$AY$1,Титульный!$AY$3)","v":33894}]
[null,null,1600,"1700х2075",{"$f":"CEILING('прайс-лист2'!F234*Титульный!$AY$1,Титульный!$AY$3)","v":29213},{"$f":"CEILING('прайс-лист2'!G234*Титульный!$AY$1,Титульный!$AY$3)","v":42993},{"$f":"CEILING('прайс-лист2'!H234*Титульный!$AY$1,Титульный!$AY$3)","v":31383},{"$f":"CEILING('прайс-лист2'!I234*Титульный!$AY$1,Титульный!$AY$3)","v":36643}]
[null,null,1800,"1900х2075",{"$f":"CEILING('прайс-лист2'!F235*Титульный!$AY$1,Титульный!$AY$3)","v":31359},{"$f":"CEILING('прайс-лист2'!G235*Титульный!$AY$1,Титульный!$AY$3)","v":46189},{"$f":"CEILING('прайс-лист2'!H235*Титульный!$AY$1,Титульный!$AY$3)","v":33699},{"$f":"CEILING('прайс-лист2'!I235*Титульный!$AY$1,Титульный!$AY$3)","v":39359}]
["Ортопедическое основание"]
["Наименование","Эскиз","Ширина, мм"]
[null,null,800,900,1200,1400,1600,1800]
["Ортопедическое основание",null,{"$f":"CEILING('прайс-лист2'!D239*Титульный!$AY$1,Титульный!$AY$3)","v":2900},{"$f":"CEILING('прайс-лист2'!E239*Титульный!$AY$1,Титульный!$AY$3)","v":3100},{"$f":"CEILING('прайс-лист2'!F239*Титульный!$AY$1,Титульный!$AY$3)","v":4560},{"$f":"CEILING('прайс-лист2'!G239*Титульный!$AY$1,Титульный!$AY$3)","v":4770},{"$f":"CEILING('прайс-лист2'!H239*Титульный!$AY$1,Титульный!$AY$3)","v":5810},{"$f":"CEILING('прайс-лист2'!I239*Титульный!$AY$1,Титульный!$AY$3)","v":5200}]
["Ортопедическое основание для кровати с подъемным механизмом",null,"-","-",{"$f":"CEILING('прайс-лист2'!F240*Титульный!$AY$1,Титульный!$AY$3)","v":5500},{"$f":"CEILING('прайс-лист2'!G240*Титульный!$AY$1,Титульный!$AY$3)","v":5700},{"$f":"CEILING('прайс-лист2'!H240*Титульный!$AY$1,Титульный!$AY$3)","v":6000},{"$f":"CEILING('прайс-лист2'!I240*Титульный!$AY$1,Титульный!$AY$3)","v":6220}]
["Ортопедическое основание для кровати с наборным изголовьем"]
["Наименование","Эскиз","Ширина, мм"]
[null,null,800,900,1200,1400,1600,1800]
["Ортопедическое основание с круглыми опорами для кровати наборным изголовьем",null,{"$f":"CEILING('прайс-лист2'!D244*Титульный!$AY$1,Титульный!$AY$3)","v":3250},{"$f":"CEILING('прайс-лист2'!E244*Титульный!$AY$1,Титульный!$AY$3)","v":3300},{"$f":"CEILING('прайс-лист2'!F244*Титульный!$AY$1,Титульный!$AY$3)","v":5000},{"$f":"CEILING('прайс-лист2'!G244*Титульный!$AY$1,Титульный!$AY$3)","v":5230},{"$f":"CEILING('прайс-лист2'!H244*Титульный!$AY$1,Титульный!$AY$3)","v":6260},{"$f":"CEILING('прайс-лист2'!I244*Титульный!$AY$1,Титульный!$AY$3)","v":5640}]
["Матрацы"]
["Наименование","Эскиз","Ширина, мм"]
[null,null,800,900,1200,1400,1600,1800]
["Матрац Жаккард, L-2000, Н-190",null,{"$f":"CEILING('прайс-лист2'!D248*Титульный!$AY$1,Титульный!$AY$3)","v":5980},{"$f":"CEILING('прайс-лист2'!E248*Титульный!$AY$1,Титульный!$AY$3)","v":6370},{"$f":"CEILING('прайс-лист2'!F248*Титульный!$AY$1,Титульный!$AY$3)","v":8060},{"$f":"CEILING('прайс-лист2'!G248*Титульный!$AY$1,Титульный!$AY$3)","v":8970},{"$f":"CEILING('прайс-лист2'!H248*Титульный!$AY$1,Титульный!$AY$3)","v":9750},{"$f":"CEILING('прайс-лист2'!I248*Титульный!$AY$1,Титульный!$AY$3)","v":10660}]
["Матрац Жаккард, L-1600, Н-190",null,{"$f":"CEILING('прайс-лист2'!D249*Титульный!$AY$1,Титульный!$AY$3)","v":5460},"-","-","-","-","-"]
["Тумбы"]
["Наименование","Эскиз","Габариты,  ШхГхВ мм.","Цена руб."]
[null,null,null,"МДФ фасады",null,null,null,"Марго","Марго16",null,null,null,null,"UV-лак",null,"ТСС",null,"ТСС сборный"]
[null,null,null,"1 ЦК","1 ЦК + патина","2 ЦК","3 ЦК","1 ц.к.","1 ц.к.","2 ц.к.","3 ц.к.","4 ц.к.","5 ц.к.","UV-лак кромка ABC/AL кромка","кромка 3D","1 ЦК","2 ЦК"]
["Тумба TV (560) 2ящ 460х1260",null,"1260х560х460",{"$f":"CEILING('прайс-лист2'!E251*Титульный!$AY$1,Титульный!$AY$3)","v":18834},{"$f":"CEILING('прайс-лист2'!F251*Титульный!$AY$1,Титульный!$AY$3)","v":24104},{"$f":"CEILING('прайс-лист2'!G251*Титульный!$AY$1,Титульный!$AY$3)","v":19664},{"$f":"CEILING('прайс-лист2'!H251*Титульный!$AY$1,Титульный!$AY$3)","v":21674},"-",{"$f":"CEILING('прайс-лист2'!J251*Титульный!$AY$1,Титульный!$AY$3)","v":16194},{"$f":"CEILING('прайс-лист2'!K251*Титульный!$AY$1,Титульный!$AY$3)","v":16494},{"$f":"CEILING('прайс-лист2'!L251*Титульный!$AY$1,Титульный!$AY$3)","v":17104},{"$f":"CEILING('прайс-лист2'!M251*Титульный!$AY$1,Титульный!$AY$3)","v":17734},"-",{"$f":"CEILING('прайс-лист2'!O251*Титульный!$AY$1,Титульный!$AY$3)","v":22964},{"$f":"CEILING('прайс-лист2'!P251*Титульный!$AY$1,Титульный!$AY$3)","v":24964},{"$f":"CEILING('прайс-лист2'!Q251*Титульный!$AY$1,Титульный!$AY$3)","v":22934},{"$f":"CEILING('прайс-лист2'!R251*Титульный!$AY$1,Титульный!$AY$3)","v":24754},"-"]
["Тумба TV (560) 2ящ 460х840",null,"840х560х460",{"$f":"CEILING('прайс-лист2'!E252*Титульный!$AY$1,Титульный!$AY$3)","v":15548},{"$f":"CEILING('прайс-лист2'!F252*Титульный!$AY$1,Титульный!$AY$3)","v":19068},{"$f":"CEILING('прайс-лист2'!G252*Титульный!$AY$1,Титульный!$AY$3)","v":16108},{"$f":"CEILING('прайс-лист2'!H252*Титульный!$AY$1,Титульный!$AY$3)","v":17448},"-",{"$f":"CEILING('прайс-лист2'!J252*Титульный!$AY$1,Титульный!$AY$3)","v":13808},{"$f":"CEILING('прайс-лист2'!K252*Титульный!$AY$1,Титульный!$AY$3)","v":14008},{"$f":"CEILING('прайс-лист2'!L252*Титульный!$AY$1,Титульный!$AY$3)","v":14448},{"$f":"CEILING('прайс-лист2'!M252*Титульный!$AY$1,Титульный!$AY$3)","v":14868},"-",{"$f":"CEILING('прайс-лист2'!O252*Титульный!$AY$1,Титульный!$AY$3)","v":18418},{"$f":"CEILING('прайс-лист2'!P252*Титульный!$AY$1,Титульный!$AY$3)","v":19898},{"$f":"CEILING('прайс-лист2'!Q252*Титульный!$AY$1,Титульный!$AY$3)","v":18408},{"$f":"CEILING('прайс-лист2'!R252*Титульный!$AY$1,Титульный!$AY$3)","v":19618},"-"]
["Тумба TV (560) 4ящ 460х1680",null,"1680х560х460",{"$f":"CEILING('прайс-лист2'!E253*Титульный!$AY$1,Титульный!$AY$3)","v":30092},{"$f":"CEILING('прайс-лист2'!F253*Титульный!$AY$1,Титульный!$AY$3)","v":37122},{"$f":"CEILING('прайс-лист2'!G253*Титульный!$AY$1,Титульный!$AY$3)","v":31212},{"$f":"CEILING('прайс-лист2'!H253*Титульный!$AY$1,Титульный!$AY$3)","v":33892},"-",{"$f":"CEILING('прайс-лист2'!J253*Титульный!$AY$1,Титульный!$AY$3)","v":26582},{"$f":"CEILING('прайс-лист2'!K253*Титульный!$AY$1,Титульный!$AY$3)","v":26952},{"$f":"CEILING('прайс-лист2'!L253*Титульный!$AY$1,Титульный!$AY$3)","v":27812},{"$f":"CEILING('прайс-лист2'!M253*Титульный!$AY$1,Титульный!$AY$3)","v":28622},"-",{"$f":"CEILING('прайс-лист2'!O253*Титульный!$AY$1,Титульный!$AY$3)","v":35612},{"$f":"CEILING('прайс-лист2'!P253*Титульный!$AY$1,Титульный!$AY$3)","v":38322},{"$f":"CEILING('прайс-лист2'!Q253*Титульный!$AY$1,Титульный!$AY$3)","v":35592},{"$f":"CEILING('прайс-лист2'!R253*Титульный!$AY$1,Титульный!$AY$3)","v":38002},"-"]
["Тумба TV (560) 4ящ 460х2520",null,"2520х560х460",{"$f":"CEILING('прайс-лист2'!E254*Титульный!$AY$1,Титульный!$AY$3)","v":37519},{"$f":"CEILING('прайс-лист2'!F254*Титульный!$AY$1,Титульный!$AY$3)","v":48059},{"$f":"CEILING('прайс-лист2'!G254*Титульный!$AY$1,Титульный!$AY$3)","v":39179},{"$f":"CEILING('прайс-лист2'!H254*Титульный!$AY$1,Титульный!$AY$3)","v":43189},"-",{"$f":"CEILING('прайс-лист2'!J254*Титульный!$AY$1,Титульный!$AY$3)","v":32219},{"$f":"CEILING('прайс-лист2'!K254*Титульный!$AY$1,Титульный!$AY$3)","v":32789},{"$f":"CEILING('прайс-лист2'!L254*Титульный!$AY$1,Титульный!$AY$3)","v":33969},{"$f":"CEILING('прайс-лист2'!M254*Титульный!$AY$1,Титульный!$AY$3)","v":35219},"-",{"$f":"CEILING('прайс-лист2'!O254*Титульный!$AY$1,Титульный!$AY$3)","v":45549},{"$f":"CEILING('прайс-лист2'!P254*Титульный!$AY$1,Титульный!$AY$3)","v":49299},{"$f":"CEILING('прайс-лист2'!Q254*Титульный!$AY$1,Титульный!$AY$3)","v":45479},{"$f":"CEILING('прайс-лист2'!R254*Титульный!$AY$1,Титульный!$AY$3)","v":49139},"-"]
["Тумба TV (560) Ниша 1 ящ 460х1260",null,"1260х560х460",{"$f":"CEILING('прайс-лист2'!E255*Титульный!$AY$1,Титульный!$AY$3)","v":16272},{"$f":"CEILING('прайс-лист2'!F255*Титульный!$AY$1,Титульный!$AY$3)","v":21542},{"$f":"CEILING('прайс-лист2'!G255*Титульный!$AY$1,Титульный!$AY$3)","v":17102},{"$f":"CEILING('прайс-лист2'!H255*Титульный!$AY$1,Титульный!$AY$3)","v":19112},"-","-","-","-","-","-","-","-","-","-","-"]
["Тумба TV (560) Ниша 1ящ 460х840",null,"840х560х460",{"$f":"CEILING('прайс-лист2'!E256*Титульный!$AY$1,Титульный!$AY$3)","v":11664},{"$f":"CEILING('прайс-лист2'!F256*Титульный!$AY$1,Титульный!$AY$3)","v":15184},{"$f":"CEILING('прайс-лист2'!G256*Титульный!$AY$1,Титульный!$AY$3)","v":12224},{"$f":"CEILING('прайс-лист2'!H256*Титульный!$AY$1,Титульный!$AY$3)","v":13564},"-","-","-","-","-","-","-","-","-","-","-"]
["Тумба TV (560) Ниша 3ящ 460х1680",null,"1680х560х460",{"$f":"CEILING('прайс-лист2'!E257*Титульный!$AY$1,Титульный!$AY$3)","v":26931},{"$f":"CEILING('прайс-лист2'!F257*Титульный!$AY$1,Титульный!$AY$3)","v":33961},{"$f":"CEILING('прайс-лист2'!G257*Титульный!$AY$1,Титульный!$AY$3)","v":28051},{"$f":"CEILING('прайс-лист2'!H257*Титульный!$AY$1,Титульный!$AY$3)","v":30731},"-","-","-","-","-","-","-","-","-","-","-"]
["Тумба TV (560) Ниша 3ящ 460х2520",null,"2520х560х460",{"$f":"CEILING('прайс-лист2'!E258*Титульный!$AY$1,Титульный!$AY$3)","v":34805},{"$f":"CEILING('прайс-лист2'!F258*Титульный!$AY$1,Титульный!$AY$3)","v":45345},{"$f":"CEILING('прайс-лист2'!G258*Титульный!$AY$1,Титульный!$AY$3)","v":36465},{"$f":"CEILING('прайс-лист2'!H258*Титульный!$AY$1,Титульный!$AY$3)","v":40475},"-","-","-","-","-","-","-","-","-","-","-"]
["Тумба (420) 1дв 2ящ 460х1260",null,"1260х440х460",{"$f":"CEILING('прайс-лист2'!E259*Титульный!$AY$1,Титульный!$AY$3)","v":11118},{"$f":"CEILING('прайс-лист2'!F259*Титульный!$AY$1,Титульный!$AY$3)","v":15648},{"$f":"CEILING('прайс-лист2'!G259*Титульный!$AY$1,Титульный!$AY$3)","v":11838},{"$f":"CEILING('прайс-лист2'!H259*Титульный!$AY$1,Титульный!$AY$3)","v":13558},"-",{"$f":"CEILING('прайс-лист2'!J259*Титульный!$AY$1,Титульный!$AY$3)","v":8918},{"$f":"CEILING('прайс-лист2'!K259*Титульный!$AY$1,Титульный!$AY$3)","v":9198},{"$f":"CEILING('прайс-лист2'!L259*Титульный!$AY$1,Титульный!$AY$3)","v":9818},{"$f":"CEILING('прайс-лист2'!M259*Титульный!$AY$1,Титульный!$AY$3)","v":10428},"-",{"$f":"CEILING('прайс-лист2'!O259*Титульный!$AY$1,Титульный!$AY$3)","v":14958},{"$f":"CEILING('прайс-лист2'!P259*Титульный!$AY$1,Титульный!$AY$3)","v":16908},{"$f":"CEILING('прайс-лист2'!Q259*Титульный!$AY$1,Титульный!$AY$3)","v":14948},{"$f":"CEILING('прайс-лист2'!R259*Титульный!$AY$1,Титульный!$AY$3)","v":16498},"-"]
["Тумба (420) 1дв 2ящ Шар 460х1260",null,"1260х440х460",{"$f":"CEILING('прайс-лист2'!E260*Титульный!$AY$1,Титульный!$AY$3)","v":11663},{"$f":"CEILING('прайс-лист2'!F260*Титульный!$AY$1,Титульный!$AY$3)","v":16193},{"$f":"CEILING('прайс-лист2'!G260*Титульный!$AY$1,Титульный!$AY$3)","v":12383},{"$f":"CEILING('прайс-лист2'!H260*Титульный!$AY$1,Титульный!$AY$3)","v":14103},"-",{"$f":"CEILING('прайс-лист2'!J260*Титульный!$AY$1,Титульный!$AY$3)","v":9463},{"$f":"CEILING('прайс-лист2'!K260*Титульный!$AY$1,Титульный!$AY$3)","v":9743},{"$f":"CEILING('прайс-лист2'!L260*Титульный!$AY$1,Титульный!$AY$3)","v":10363},{"$f":"CEILING('прайс-лист2'!M260*Титульный!$AY$1,Титульный!$AY$3)","v":10973},"-",{"$f":"CEILING('прайс-лист2'!O260*Титульный!$AY$1,Титульный!$AY$3)","v":15503},{"$f":"CEILING('прайс-лист2'!P260*Титульный!$AY$1,Титульный!$AY$3)","v":17453},{"$f":"CEILING('прайс-лист2'!Q260*Титульный!$AY$1,Титульный!$AY$3)","v":15493},{"$f":"CEILING('прайс-лист2'!R260*Титульный!$AY$1,Титульный!$AY$3)","v":17043},"-"]
["Тумба (420) 2дв 460х840",null,"840х440х460",{"$f":"CEILING('прайс-лист2'!E261*Титульный!$AY$1,Титульный!$AY$3)","v":7888},{"$f":"CEILING('прайс-лист2'!F261*Титульный!$AY$1,Титульный!$AY$3)","v":10918},{"$f":"CEILING('прайс-лист2'!G261*Титульный!$AY$1,Титульный!$AY$3)","v":8368},{"$f":"CEILING('прайс-лист2'!H261*Титульный!$AY$1,Титульный!$AY$3)","v":9508},"-",{"$f":"CEILING('прайс-лист2'!J261*Титульный!$AY$1,Титульный!$AY$3)","v":6418},{"$f":"CEILING('прайс-лист2'!K261*Титульный!$AY$1,Титульный!$AY$3)","v":6608},{"$f":"CEILING('прайс-лист2'!L261*Титульный!$AY$1,Титульный!$AY$3)","v":6998},{"$f":"CEILING('прайс-лист2'!M261*Титульный!$AY$1,Титульный!$AY$3)","v":7418},"-",{"$f":"CEILING('прайс-лист2'!O261*Титульный!$AY$1,Титульный!$AY$3)","v":10398},{"$f":"CEILING('прайс-лист2'!P261*Титульный!$AY$1,Титульный!$AY$3)","v":11648},{"$f":"CEILING('прайс-лист2'!Q261*Титульный!$AY$1,Титульный!$AY$3)","v":10388},{"$f":"CEILING('прайс-лист2'!R261*Титульный!$AY$1,Титульный!$AY$3)","v":11428},"-"]
["Тумба (420) 2ящ 460х420",null,"420х440х460",{"$f":"CEILING('прайс-лист2'!E262*Титульный!$AY$1,Титульный!$AY$3)","v":4888},{"$f":"CEILING('прайс-лист2'!F262*Титульный!$AY$1,Титульный!$AY$3)","v":6398},{"$f":"CEILING('прайс-лист2'!G262*Титульный!$AY$1,Титульный!$AY$3)","v":5118},{"$f":"CEILING('прайс-лист2'!H262*Титульный!$AY$1,Титульный!$AY$3)","v":5688},"-",{"$f":"CEILING('прайс-лист2'!J262*Титульный!$AY$1,Титульный!$AY$3)","v":4178},{"$f":"CEILING('прайс-лист2'!K262*Титульный!$AY$1,Титульный!$AY$3)","v":4288},{"$f":"CEILING('прайс-лист2'!L262*Титульный!$AY$1,Титульный!$AY$3)","v":4528},{"$f":"CEILING('прайс-лист2'!M262*Титульный!$AY$1,Титульный!$AY$3)","v":4758},"-",{"$f":"CEILING('прайс-лист2'!O262*Титульный!$AY$1,Титульный!$AY$3)","v":6388},{"$f":"CEILING('прайс-лист2'!P262*Титульный!$AY$1,Титульный!$AY$3)","v":7278},{"$f":"CEILING('прайс-лист2'!Q262*Титульный!$AY$1,Титульный!$AY$3)","v":6388},{"$f":"CEILING('прайс-лист2'!R262*Титульный!$AY$1,Титульный!$AY$3)","v":6898},"-"]
["Тумба (420) 2ящ Шар 460х420",null,"420х440х460",{"$f":"CEILING('прайс-лист2'!E263*Титульный!$AY$1,Титульный!$AY$3)","v":5358},{"$f":"CEILING('прайс-лист2'!F263*Титульный!$AY$1,Титульный!$AY$3)","v":6868},{"$f":"CEILING('прайс-лист2'!G263*Титульный!$AY$1,Титульный!$AY$3)","v":5588},{"$f":"CEILING('прайс-лист2'!H263*Титульный!$AY$1,Титульный!$AY$3)","v":6158},"-",{"$f":"CEILING('прайс-лист2'!J263*Титульный!$AY$1,Титульный!$AY$3)","v":4648},{"$f":"CEILING('прайс-лист2'!K263*Титульный!$AY$1,Титульный!$AY$3)","v":4758},{"$f":"CEILING('прайс-лист2'!L263*Титульный!$AY$1,Титульный!$AY$3)","v":4998},{"$f":"CEILING('прайс-лист2'!M263*Титульный!$AY$1,Титульный!$AY$3)","v":5228},"-",{"$f":"CEILING('прайс-лист2'!O263*Титульный!$AY$1,Титульный!$AY$3)","v":6858},{"$f":"CEILING('прайс-лист2'!P263*Титульный!$AY$1,Титульный!$AY$3)","v":7748},{"$f":"CEILING('прайс-лист2'!Q263*Титульный!$AY$1,Титульный!$AY$3)","v":6858},{"$f":"CEILING('прайс-лист2'!R263*Титульный!$AY$1,Титульный!$AY$3)","v":7368},"-"]
["Тумба (420) 2ящ 460х560",null,"560х440х460",{"$f":"CEILING('прайс-лист2'!E264*Титульный!$AY$1,Титульный!$AY$3)","v":5690},{"$f":"CEILING('прайс-лист2'!F264*Титульный!$AY$1,Титульный!$AY$3)","v":7710},{"$f":"CEILING('прайс-лист2'!G264*Титульный!$AY$1,Титульный!$AY$3)","v":6000},{"$f":"CEILING('прайс-лист2'!H264*Титульный!$AY$1,Титульный!$AY$3)","v":6780},"-",{"$f":"CEILING('прайс-лист2'!J264*Титульный!$AY$1,Титульный!$AY$3)","v":4730},{"$f":"CEILING('прайс-лист2'!K264*Титульный!$AY$1,Титульный!$AY$3)","v":4890},{"$f":"CEILING('прайс-лист2'!L264*Титульный!$AY$1,Титульный!$AY$3)","v":5190},{"$f":"CEILING('прайс-лист2'!M264*Титульный!$AY$1,Титульный!$AY$3)","v":5470},"-",{"$f":"CEILING('прайс-лист2'!O264*Титульный!$AY$1,Титульный!$AY$3)","v":7580},{"$f":"CEILING('прайс-лист2'!P264*Титульный!$AY$1,Титульный!$AY$3)","v":8650},{"$f":"CEILING('прайс-лист2'!Q264*Титульный!$AY$1,Титульный!$AY$3)","v":7580},{"$f":"CEILING('прайс-лист2'!R264*Титульный!$AY$1,Титульный!$AY$3)","v":8270},"-"]
["Тумба (420) 2ящ Шар 460х560",null,"560х440х460",{"$f":"CEILING('прайс-лист2'!E265*Титульный!$AY$1,Титульный!$AY$3)","v":6160},{"$f":"CEILING('прайс-лист2'!F265*Титульный!$AY$1,Титульный!$AY$3)","v":8180},{"$f":"CEILING('прайс-лист2'!G265*Титульный!$AY$1,Титульный!$AY$3)","v":6470},{"$f":"CEILING('прайс-лист2'!H265*Титульный!$AY$1,Титульный!$AY$3)","v":7250},"-",{"$f":"CEILING('прайс-лист2'!J265*Титульный!$AY$1,Титульный!$AY$3)","v":5200},{"$f":"CEILING('прайс-лист2'!K265*Титульный!$AY$1,Титульный!$AY$3)","v":5360},{"$f":"CEILING('прайс-лист2'!L265*Титульный!$AY$1,Титульный!$AY$3)","v":5660},{"$f":"CEILING('прайс-лист2'!M265*Титульный!$AY$1,Титульный!$AY$3)","v":5940},"-",{"$f":"CEILING('прайс-лист2'!O265*Титульный!$AY$1,Титульный!$AY$3)","v":8050},{"$f":"CEILING('прайс-лист2'!P265*Титульный!$AY$1,Титульный!$AY$3)","v":9120},{"$f":"CEILING('прайс-лист2'!Q265*Титульный!$AY$1,Титульный!$AY$3)","v":8050},{"$f":"CEILING('прайс-лист2'!R265*Титульный!$AY$1,Титульный!$AY$3)","v":8740},"-"]
["Тумба (420) 2ящ 460х840",null,"840х440х460",{"$f":"CEILING('прайс-лист2'!E266*Титульный!$AY$1,Титульный!$AY$3)","v":7272},{"$f":"CEILING('прайс-лист2'!F266*Титульный!$AY$1,Титульный!$AY$3)","v":10282},{"$f":"CEILING('прайс-лист2'!G266*Титульный!$AY$1,Титульный!$AY$3)","v":7752},{"$f":"CEILING('прайс-лист2'!H266*Титульный!$AY$1,Титульный!$AY$3)","v":8892},"-",{"$f":"CEILING('прайс-лист2'!J266*Титульный!$AY$1,Титульный!$AY$3)","v":5822},{"$f":"CEILING('прайс-лист2'!K266*Титульный!$AY$1,Титульный!$AY$3)","v":6012},{"$f":"CEILING('прайс-лист2'!L266*Титульный!$AY$1,Титульный!$AY$3)","v":6442},{"$f":"CEILING('прайс-лист2'!M266*Титульный!$AY$1,Титульный!$AY$3)","v":6862},"-",{"$f":"CEILING('прайс-лист2'!O266*Титульный!$AY$1,Титульный!$AY$3)","v":9942},{"$f":"CEILING('прайс-лист2'!P266*Титульный!$AY$1,Титульный!$AY$3)","v":11372},{"$f":"CEILING('прайс-лист2'!Q266*Титульный!$AY$1,Титульный!$AY$3)","v":9932},{"$f":"CEILING('прайс-лист2'!R266*Титульный!$AY$1,Титульный!$AY$3)","v":10972},"-"]
["Тумба (420) 3дв 460х1260",null,"1260х440х460",{"$f":"CEILING('прайс-лист2'!E267*Титульный!$AY$1,Титульный!$AY$3)","v":11615},{"$f":"CEILING('прайс-лист2'!F267*Титульный!$AY$1,Титульный!$AY$3)","v":16165},{"$f":"CEILING('прайс-лист2'!G267*Титульный!$AY$1,Титульный!$AY$3)","v":12335},{"$f":"CEILING('прайс-лист2'!H267*Титульный!$AY$1,Титульный!$AY$3)","v":14055},"-",{"$f":"CEILING('прайс-лист2'!J267*Титульный!$AY$1,Титульный!$AY$3)","v":9395},{"$f":"CEILING('прайс-лист2'!K267*Титульный!$AY$1,Титульный!$AY$3)","v":9675},{"$f":"CEILING('прайс-лист2'!L267*Титульный!$AY$1,Титульный!$AY$3)","v":10255},{"$f":"CEILING('прайс-лист2'!M267*Титульный!$AY$1,Титульный!$AY$3)","v":10865},"-",{"$f":"CEILING('прайс-лист2'!O267*Титульный!$AY$1,Титульный!$AY$3)","v":15295},{"$f":"CEILING('прайс-лист2'!P267*Титульный!$AY$1,Титульный!$AY$3)","v":17065},{"$f":"CEILING('прайс-лист2'!Q267*Титульный!$AY$1,Титульный!$AY$3)","v":15285},{"$f":"CEILING('прайс-лист2'!R267*Титульный!$AY$1,Титульный!$AY$3)","v":16835},"-"]
["Тумба (420) 3ящ 660х420",null,"420х440х660",{"$f":"CEILING('прайс-лист2'!E268*Титульный!$AY$1,Титульный!$AY$3)","v":6513},{"$f":"CEILING('прайс-лист2'!F268*Титульный!$AY$1,Титульный!$AY$3)","v":8373},{"$f":"CEILING('прайс-лист2'!G268*Титульный!$AY$1,Титульный!$AY$3)","v":6793},{"$f":"CEILING('прайс-лист2'!H268*Титульный!$AY$1,Титульный!$AY$3)","v":7493},"-",{"$f":"CEILING('прайс-лист2'!J268*Титульный!$AY$1,Титульный!$AY$3)","v":5673},{"$f":"CEILING('прайс-лист2'!K268*Титульный!$AY$1,Титульный!$AY$3)","v":5823},{"$f":"CEILING('прайс-лист2'!L268*Титульный!$AY$1,Титульный!$AY$3)","v":6153},{"$f":"CEILING('прайс-лист2'!M268*Титульный!$AY$1,Титульный!$AY$3)","v":6483},"-",{"$f":"CEILING('прайс-лист2'!O268*Титульный!$AY$1,Титульный!$AY$3)","v":8483},{"$f":"CEILING('прайс-лист2'!P268*Титульный!$AY$1,Титульный!$AY$3)","v":9633},{"$f":"CEILING('прайс-лист2'!Q268*Титульный!$AY$1,Титульный!$AY$3)","v":8483},{"$f":"CEILING('прайс-лист2'!R268*Титульный!$AY$1,Титульный!$AY$3)","v":9113},"-"]
["Тумба (420) 3ящ 660х560",null,"560х440х660",{"$f":"CEILING('прайс-лист2'!E269*Титульный!$AY$1,Титульный!$AY$3)","v":7517},{"$f":"CEILING('прайс-лист2'!F269*Титульный!$AY$1,Титульный!$AY$3)","v":10007},{"$f":"CEILING('прайс-лист2'!G269*Титульный!$AY$1,Титульный!$AY$3)","v":7897},{"$f":"CEILING('прайс-лист2'!H269*Титульный!$AY$1,Титульный!$AY$3)","v":8857},"-",{"$f":"CEILING('прайс-лист2'!J269*Титульный!$AY$1,Титульный!$AY$3)","v":6377},{"$f":"CEILING('прайс-лист2'!K269*Титульный!$AY$1,Титульный!$AY$3)","v":6597},{"$f":"CEILING('прайс-лист2'!L269*Титульный!$AY$1,Титульный!$AY$3)","v":7017},{"$f":"CEILING('прайс-лист2'!M269*Титульный!$AY$1,Титульный!$AY$3)","v":7417},"-",{"$f":"CEILING('прайс-лист2'!O269*Титульный!$AY$1,Титульный!$AY$3)","v":10007},{"$f":"CEILING('прайс-лист2'!P269*Титульный!$AY$1,Титульный!$AY$3)","v":11397},{"$f":"CEILING('прайс-лист2'!Q269*Титульный!$AY$1,Титульный!$AY$3)","v":10007},{"$f":"CEILING('прайс-лист2'!R269*Титульный!$AY$1,Титульный!$AY$3)","v":10857},"-"]
["Тумба (420) 3ящ 660х840",null,"840х440х660",{"$f":"CEILING('прайс-лист2'!E270*Титульный!$AY$1,Титульный!$AY$3)","v":9606},{"$f":"CEILING('прайс-лист2'!F270*Титульный!$AY$1,Титульный!$AY$3)","v":13316},{"$f":"CEILING('прайс-лист2'!G270*Титульный!$AY$1,Титульный!$AY$3)","v":10196},{"$f":"CEILING('прайс-лист2'!H270*Титульный!$AY$1,Титульный!$AY$3)","v":11596},"-",{"$f":"CEILING('прайс-лист2'!J270*Титульный!$AY$1,Титульный!$AY$3)","v":7886},{"$f":"CEILING('прайс-лист2'!K270*Титульный!$AY$1,Титульный!$AY$3)","v":8146},{"$f":"CEILING('прайс-лист2'!L270*Титульный!$AY$1,Титульный!$AY$3)","v":8756},{"$f":"CEILING('прайс-лист2'!M270*Титульный!$AY$1,Титульный!$AY$3)","v":9356},"-",{"$f":"CEILING('прайс-лист2'!O270*Титульный!$AY$1,Титульный!$AY$3)","v":13136},{"$f":"CEILING('прайс-лист2'!P270*Титульный!$AY$1,Титульный!$AY$3)","v":15006},{"$f":"CEILING('прайс-лист2'!Q270*Титульный!$AY$1,Титульный!$AY$3)","v":13126},{"$f":"CEILING('прайс-лист2'!R270*Титульный!$AY$1,Титульный!$AY$3)","v":14406},"-"]
["Тумба (420) 4ящ 860х420",null,"420х440х860",{"$f":"CEILING('прайс-лист2'!E271*Титульный!$AY$1,Титульный!$AY$3)","v":7889},{"$f":"CEILING('прайс-лист2'!F271*Титульный!$AY$1,Титульный!$AY$3)","v":10099},{"$f":"CEILING('прайс-лист2'!G271*Титульный!$AY$1,Титульный!$AY$3)","v":8219},{"$f":"CEILING('прайс-лист2'!H271*Титульный!$AY$1,Титульный!$AY$3)","v":9049},"-",{"$f":"CEILING('прайс-лист2'!J271*Титульный!$AY$1,Титульный!$AY$3)","v":6919},{"$f":"CEILING('прайс-лист2'!K271*Титульный!$AY$1,Титульный!$AY$3)","v":7109},{"$f":"CEILING('прайс-лист2'!L271*Титульный!$AY$1,Титульный!$AY$3)","v":7529},{"$f":"CEILING('прайс-лист2'!M271*Титульный!$AY$1,Титульный!$AY$3)","v":7959},"-",{"$f":"CEILING('прайс-лист2'!O271*Титульный!$AY$1,Титульный!$AY$3)","v":10329},{"$f":"CEILING('прайс-лист2'!P271*Титульный!$AY$1,Титульный!$AY$3)","v":11739},{"$f":"CEILING('прайс-лист2'!Q271*Титульный!$AY$1,Титульный!$AY$3)","v":10329},{"$f":"CEILING('прайс-лист2'!R271*Титульный!$AY$1,Титульный!$AY$3)","v":11079},"-"]
["Тумба (420) 4ящ Шар 860х420",null,"420х440х860",{"$f":"CEILING('прайс-лист2'!E272*Титульный!$AY$1,Титульный!$AY$3)","v":8847},{"$f":"CEILING('прайс-лист2'!F272*Титульный!$AY$1,Титульный!$AY$3)","v":11057},{"$f":"CEILING('прайс-лист2'!G272*Титульный!$AY$1,Титульный!$AY$3)","v":9177},{"$f":"CEILING('прайс-лист2'!H272*Титульный!$AY$1,Титульный!$AY$3)","v":10007},"-",{"$f":"CEILING('прайс-лист2'!J272*Титульный!$AY$1,Титульный!$AY$3)","v":7877},{"$f":"CEILING('прайс-лист2'!K272*Титульный!$AY$1,Титульный!$AY$3)","v":8067},{"$f":"CEILING('прайс-лист2'!L272*Титульный!$AY$1,Титульный!$AY$3)","v":8487},{"$f":"CEILING('прайс-лист2'!M272*Титульный!$AY$1,Титульный!$AY$3)","v":8917},"-",{"$f":"CEILING('прайс-лист2'!O272*Титульный!$AY$1,Титульный!$AY$3)","v":11287},{"$f":"CEILING('прайс-лист2'!P272*Титульный!$AY$1,Титульный!$AY$3)","v":12697},{"$f":"CEILING('прайс-лист2'!Q272*Титульный!$AY$1,Титульный!$AY$3)","v":11287},{"$f":"CEILING('прайс-лист2'!R272*Титульный!$AY$1,Титульный!$AY$3)","v":12037},"-"]
["Тумба (420) 4ящ 860х560",null,"560х440х860",{"$f":"CEILING('прайс-лист2'!E273*Титульный!$AY$1,Титульный!$AY$3)","v":9068},{"$f":"CEILING('прайс-лист2'!F273*Титульный!$AY$1,Титульный!$AY$3)","v":12028},{"$f":"CEILING('прайс-лист2'!G273*Титульный!$AY$1,Титульный!$AY$3)","v":9518},{"$f":"CEILING('прайс-лист2'!H273*Титульный!$AY$1,Титульный!$AY$3)","v":10658},"-",{"$f":"CEILING('прайс-лист2'!J273*Титульный!$AY$1,Титульный!$AY$3)","v":7748},{"$f":"CEILING('прайс-лист2'!K273*Титульный!$AY$1,Титульный!$AY$3)","v":8028},{"$f":"CEILING('прайс-лист2'!L273*Титульный!$AY$1,Титульный!$AY$3)","v":8568},{"$f":"CEILING('прайс-лист2'!M273*Титульный!$AY$1,Титульный!$AY$3)","v":9088},"-",{"$f":"CEILING('прайс-лист2'!O273*Титульный!$AY$1,Титульный!$AY$3)","v":12158},{"$f":"CEILING('прайс-лист2'!P273*Титульный!$AY$1,Титульный!$AY$3)","v":13868},{"$f":"CEILING('прайс-лист2'!Q273*Титульный!$AY$1,Титульный!$AY$3)","v":12158},{"$f":"CEILING('прайс-лист2'!R273*Титульный!$AY$1,Титульный!$AY$3)","v":13168},"-"]
["Тумба (420) 4ящ Шар 860х560",null,"560х440х860",{"$f":"CEILING('прайс-лист2'!E274*Титульный!$AY$1,Титульный!$AY$3)","v":10026},{"$f":"CEILING('прайс-лист2'!F274*Титульный!$AY$1,Титульный!$AY$3)","v":12986},{"$f":"CEILING('прайс-лист2'!G274*Титульный!$AY$1,Титульный!$AY$3)","v":10476},{"$f":"CEILING('прайс-лист2'!H274*Титульный!$AY$1,Титульный!$AY$3)","v":11616},"-",{"$f":"CEILING('прайс-лист2'!J274*Титульный!$AY$1,Титульный!$AY$3)","v":8706},{"$f":"CEILING('прайс-лист2'!K274*Титульный!$AY$1,Титульный!$AY$3)","v":8986},{"$f":"CEILING('прайс-лист2'!L274*Титульный!$AY$1,Титульный!$AY$3)","v":9526},{"$f":"CEILING('прайс-лист2'!M274*Титульный!$AY$1,Титульный!$AY$3)","v":10046},"-",{"$f":"CEILING('прайс-лист2'!O274*Титульный!$AY$1,Титульный!$AY$3)","v":13116},{"$f":"CEILING('прайс-лист2'!P274*Титульный!$AY$1,Титульный!$AY$3)","v":14826},{"$f":"CEILING('прайс-лист2'!Q274*Титульный!$AY$1,Титульный!$AY$3)","v":13116},{"$f":"CEILING('прайс-лист2'!R274*Титульный!$AY$1,Титульный!$AY$3)","v":14126},"-"]
["Тумба (420) 4ящ 860х840",null,"840х440х860",{"$f":"CEILING('прайс-лист2'!E275*Титульный!$AY$1,Титульный!$AY$3)","v":11507},{"$f":"CEILING('прайс-лист2'!F275*Титульный!$AY$1,Титульный!$AY$3)","v":15917},{"$f":"CEILING('прайс-лист2'!G275*Титульный!$AY$1,Титульный!$AY$3)","v":12207},{"$f":"CEILING('прайс-лист2'!H275*Титульный!$AY$1,Титульный!$AY$3)","v":13867},"-",{"$f":"CEILING('прайс-лист2'!J275*Титульный!$AY$1,Титульный!$AY$3)","v":9517},{"$f":"CEILING('прайс-лист2'!K275*Титульный!$AY$1,Титульный!$AY$3)","v":9847},{"$f":"CEILING('прайс-лист2'!L275*Титульный!$AY$1,Титульный!$AY$3)","v":10637},{"$f":"CEILING('прайс-лист2'!M275*Титульный!$AY$1,Титульный!$AY$3)","v":11417},"-",{"$f":"CEILING('прайс-лист2'!O275*Титульный!$AY$1,Титульный!$AY$3)","v":15897},{"$f":"CEILING('прайс-лист2'!P275*Титульный!$AY$1,Титульный!$AY$3)","v":18207},{"$f":"CEILING('прайс-лист2'!Q275*Титульный!$AY$1,Титульный!$AY$3)","v":15887},{"$f":"CEILING('прайс-лист2'!R275*Титульный!$AY$1,Титульный!$AY$3)","v":17407},"-"]
["Тумба (420) 4ящ Шар 860х840",null,"840х440х860",{"$f":"CEILING('прайс-лист2'!E276*Титульный!$AY$1,Титульный!$AY$3)","v":12465},{"$f":"CEILING('прайс-лист2'!F276*Титульный!$AY$1,Титульный!$AY$3)","v":16875},{"$f":"CEILING('прайс-лист2'!G276*Титульный!$AY$1,Титульный!$AY$3)","v":13165},{"$f":"CEILING('прайс-лист2'!H276*Титульный!$AY$1,Титульный!$AY$3)","v":14825},"-",{"$f":"CEILING('прайс-лист2'!J276*Титульный!$AY$1,Титульный!$AY$3)","v":10475},{"$f":"CEILING('прайс-лист2'!K276*Титульный!$AY$1,Титульный!$AY$3)","v":10805},{"$f":"CEILING('прайс-лист2'!L276*Титульный!$AY$1,Титульный!$AY$3)","v":11595},{"$f":"CEILING('прайс-лист2'!M276*Титульный!$AY$1,Титульный!$AY$3)","v":12375},"-",{"$f":"CEILING('прайс-лист2'!O276*Титульный!$AY$1,Титульный!$AY$3)","v":16855},{"$f":"CEILING('прайс-лист2'!P276*Титульный!$AY$1,Титульный!$AY$3)","v":19165},{"$f":"CEILING('прайс-лист2'!Q276*Титульный!$AY$1,Титульный!$AY$3)","v":16845},{"$f":"CEILING('прайс-лист2'!R276*Титульный!$AY$1,Титульный!$AY$3)","v":18365},"-"]
["Комод (420) 2дв 4ящ 860х1060",null,"1060х440х860",{"$f":"CEILING('прайс-лист2'!E277*Титульный!$AY$1,Титульный!$AY$3)","v":16287},{"$f":"CEILING('прайс-лист2'!F277*Титульный!$AY$1,Титульный!$AY$3)","v":21867},{"$f":"CEILING('прайс-лист2'!G277*Титульный!$AY$1,Титульный!$AY$3)","v":17137},{"$f":"CEILING('прайс-лист2'!H277*Титульный!$AY$1,Титульный!$AY$3)","v":19247},"-",{"$f":"CEILING('прайс-лист2'!J277*Титульный!$AY$1,Титульный!$AY$3)","v":13727},{"$f":"CEILING('прайс-лист2'!K277*Титульный!$AY$1,Титульный!$AY$3)","v":14147},{"$f":"CEILING('прайс-лист2'!L277*Титульный!$AY$1,Титульный!$AY$3)","v":15087},{"$f":"CEILING('прайс-лист2'!M277*Титульный!$AY$1,Титульный!$AY$3)","v":16087},"-",{"$f":"CEILING('прайс-лист2'!O277*Титульный!$AY$1,Титульный!$AY$3)","v":21607},{"$f":"CEILING('прайс-лист2'!P277*Титульный!$AY$1,Титульный!$AY$3)","v":24217},{"$f":"CEILING('прайс-лист2'!Q277*Титульный!$AY$1,Титульный!$AY$3)","v":21597},{"$f":"CEILING('прайс-лист2'!R277*Титульный!$AY$1,Титульный!$AY$3)","v":23517},"-"]
["Комод (420) 2дв 4ящ 860х1200",null,"1200х440х860",{"$f":"CEILING('прайс-лист2'!E278*Титульный!$AY$1,Титульный!$AY$3)","v":17465},{"$f":"CEILING('прайс-лист2'!F278*Титульный!$AY$1,Титульный!$AY$3)","v":23795},{"$f":"CEILING('прайс-лист2'!G278*Титульный!$AY$1,Титульный!$AY$3)","v":18435},{"$f":"CEILING('прайс-лист2'!H278*Титульный!$AY$1,Титульный!$AY$3)","v":20855},"-",{"$f":"CEILING('прайс-лист2'!J278*Титульный!$AY$1,Титульный!$AY$3)","v":14555},{"$f":"CEILING('прайс-лист2'!K278*Титульный!$AY$1,Титульный!$AY$3)","v":15065},{"$f":"CEILING('прайс-лист2'!L278*Титульный!$AY$1,Титульный!$AY$3)","v":16125},{"$f":"CEILING('прайс-лист2'!M278*Титульный!$AY$1,Титульный!$AY$3)","v":17205},"-",{"$f":"CEILING('прайс-лист2'!O278*Титульный!$AY$1,Титульный!$AY$3)","v":23435},{"$f":"CEILING('прайс-лист2'!P278*Титульный!$AY$1,Титульный!$AY$3)","v":26355},{"$f":"CEILING('прайс-лист2'!Q278*Титульный!$AY$1,Титульный!$AY$3)","v":23425},{"$f":"CEILING('прайс-лист2'!R278*Титульный!$AY$1,Титульный!$AY$3)","v":25595},"-"]
["Комод (420) 2дв 4ящ Шар 860х1060",null,"1060х440х860",{"$f":"CEILING('прайс-лист2'!E279*Титульный!$AY$1,Титульный!$AY$3)","v":17220},{"$f":"CEILING('прайс-лист2'!F279*Титульный!$AY$1,Титульный!$AY$3)","v":22800},{"$f":"CEILING('прайс-лист2'!G279*Титульный!$AY$1,Титульный!$AY$3)","v":18070},{"$f":"CEILING('прайс-лист2'!H279*Титульный!$AY$1,Титульный!$AY$3)","v":20180},"-",{"$f":"CEILING('прайс-лист2'!J279*Титульный!$AY$1,Титульный!$AY$3)","v":14660},{"$f":"CEILING('прайс-лист2'!K279*Титульный!$AY$1,Титульный!$AY$3)","v":15080},{"$f":"CEILING('прайс-лист2'!L279*Титульный!$AY$1,Титульный!$AY$3)","v":16020},{"$f":"CEILING('прайс-лист2'!M279*Титульный!$AY$1,Титульный!$AY$3)","v":17020},"-",{"$f":"CEILING('прайс-лист2'!O279*Титульный!$AY$1,Титульный!$AY$3)","v":22540},{"$f":"CEILING('прайс-лист2'!P279*Титульный!$AY$1,Титульный!$AY$3)","v":25150},{"$f":"CEILING('прайс-лист2'!Q279*Титульный!$AY$1,Титульный!$AY$3)","v":22530},{"$f":"CEILING('прайс-лист2'!R279*Титульный!$AY$1,Титульный!$AY$3)","v":24450},"-"]
["Комод (420) 2дв 4ящ Шар 860х1200",null,"1200х440х860",{"$f":"CEILING('прайс-лист2'!E280*Титульный!$AY$1,Титульный!$AY$3)","v":18546},{"$f":"CEILING('прайс-лист2'!F280*Титульный!$AY$1,Титульный!$AY$3)","v":24876},{"$f":"CEILING('прайс-лист2'!G280*Титульный!$AY$1,Титульный!$AY$3)","v":19516},{"$f":"CEILING('прайс-лист2'!H280*Титульный!$AY$1,Титульный!$AY$3)","v":21936},"-",{"$f":"CEILING('прайс-лист2'!J280*Титульный!$AY$1,Титульный!$AY$3)","v":15636},{"$f":"CEILING('прайс-лист2'!K280*Титульный!$AY$1,Титульный!$AY$3)","v":16146},{"$f":"CEILING('прайс-лист2'!L280*Титульный!$AY$1,Титульный!$AY$3)","v":17206},{"$f":"CEILING('прайс-лист2'!M280*Титульный!$AY$1,Титульный!$AY$3)","v":18286},"-",{"$f":"CEILING('прайс-лист2'!O280*Титульный!$AY$1,Титульный!$AY$3)","v":24516},{"$f":"CEILING('прайс-лист2'!P280*Титульный!$AY$1,Титульный!$AY$3)","v":27436},{"$f":"CEILING('прайс-лист2'!Q280*Титульный!$AY$1,Титульный!$AY$3)","v":24506},{"$f":"CEILING('прайс-лист2'!R280*Титульный!$AY$1,Титульный!$AY$3)","v":26676},"-"]
[" Стол туалетный (320) 2дв 1ящ 760х980 Без Зеркала",null,"980х340х760",{"$f":"CEILING('прайс-лист2'!E281*Титульный!$AY$1,Титульный!$AY$3)","v":10353},{"$f":"CEILING('прайс-лист2'!F281*Титульный!$AY$1,Титульный!$AY$3)","v":13613},{"$f":"CEILING('прайс-лист2'!G281*Титульный!$AY$1,Титульный!$AY$3)","v":10873},{"$f":"CEILING('прайс-лист2'!H281*Титульный!$AY$1,Титульный!$AY$3)","v":12103},"-",{"$f":"CEILING('прайс-лист2'!J281*Титульный!$AY$1,Титульный!$AY$3)","v":8813},{"$f":"CEILING('прайс-лист2'!K281*Титульный!$AY$1,Титульный!$AY$3)","v":9063},{"$f":"CEILING('прайс-лист2'!L281*Титульный!$AY$1,Титульный!$AY$3)","v":9543},{"$f":"CEILING('прайс-лист2'!M281*Титульный!$AY$1,Титульный!$AY$3)","v":10073},"-",{"$f":"CEILING('прайс-лист2'!O281*Титульный!$AY$1,Титульный!$AY$3)","v":13423},{"$f":"CEILING('прайс-лист2'!P281*Титульный!$AY$1,Титульный!$AY$3)","v":15043},{"$f":"CEILING('прайс-лист2'!Q281*Титульный!$AY$1,Титульный!$AY$3)","v":13393},{"$f":"CEILING('прайс-лист2'!R281*Титульный!$AY$1,Титульный!$AY$3)","v":14513},"-"]
["Зеркало стола туалетного",null,"700х20х820-мдф, 700х20х660-лдсп \"Марго\"",{"$f":"CEILING('прайс-лист2'!E282*Титульный!$AY$1,Титульный!$AY$3)","v":3579},{"$f":"CEILING('прайс-лист2'!F282*Титульный!$AY$1,Титульный!$AY$3)","v":6009},{"$f":"CEILING('прайс-лист2'!G282*Титульный!$AY$1,Титульный!$AY$3)","v":3949},{"$f":"CEILING('прайс-лист2'!H282*Титульный!$AY$1,Титульный!$AY$3)","v":4859},"-",{"$f":"CEILING('прайс-лист2'!J282*Титульный!$AY$1,Титульный!$AY$3)","v":2549},"-","-","-","-","-","-","-","-","-"]
["Зеркало стола туалетного прямое",null,"650х20х820-мдф",{"$f":"CEILING('прайс-лист2'!E283*Титульный!$AY$1,Титульный!$AY$3)","v":3329},{"$f":"CEILING('прайс-лист2'!F283*Титульный!$AY$1,Титульный!$AY$3)","v":5579},{"$f":"CEILING('прайс-лист2'!G283*Титульный!$AY$1,Титульный!$AY$3)","v":3669},{"$f":"CEILING('прайс-лист2'!H283*Титульный!$AY$1,Титульный!$AY$3)","v":4509},"-","-","-","-","-","-","-","-","-","-","-"]
["Тумба (420) 1ящ 2 обувницы 860х560",null,"860х560",{"$f":"CEILING('прайс-лист2'!E284*Титульный!$AY$1,Титульный!$AY$3)","v":13544},{"$f":"CEILING('прайс-лист2'!F284*Титульный!$AY$1,Титульный!$AY$3)","v":17904},{"$f":"CEILING('прайс-лист2'!G284*Титульный!$AY$1,Титульный!$AY$3)","v":14004},{"$f":"CEILING('прайс-лист2'!H284*Титульный!$AY$1,Титульный!$AY$3)","v":15104}]
["Зеркало настенное"]
["Наименование","Эскиз","Ширина, мм","Цена, руб\\шт."]
["Зеркало настенное (трапеция) Н-600",null,560,{"$f":"CEILING('прайс-лист2'!E287*Титульный!$AY$1,Титульный!$AY$3)","v":1450}]
[null,null,760,{"$f":"CEILING('прайс-лист2'!E288*Титульный!$AY$1,Титульный!$AY$3)","v":1837}]
[null,null,960,{"$f":"CEILING('прайс-лист2'!E289*Титульный!$AY$1,Титульный!$AY$3)","v":2336}]
["Зеркало настенное (прямое) Н-600",null,560,{"$f":"CEILING('прайс-лист2'!E290*Титульный!$AY$1,Титульный!$AY$3)","v":1450}]
[null,null,760,{"$f":"CEILING('прайс-лист2'!E291*Титульный!$AY$1,Титульный!$AY$3)","v":1963}]
[null,null,960,{"$f":"CEILING('прайс-лист2'!E292*Титульный!$AY$1,Титульный!$AY$3)","v":2380}]
["Панель вешалка МДФ"]
["Наименование","Эскиз","Ширина, мм","МДФ фасады"]
[null,null,null,"1 ЦК","2 ЦК","3 ЦК"]
["Панель вешалка МДФ 1180",null,420,{"$f":"CEILING('прайс-лист2'!E296*Титульный!$AY$1,Титульный!$AY$3)","v":3560},{"$f":"CEILING('прайс-лист2'!F296*Титульный!$AY$1,Титульный!$AY$3)","v":3880},{"$f":"CEILING('прайс-лист2'!G296*Титульный!$AY$1,Титульный!$AY$3)","v":4660}]
[null,null,560,{"$f":"CEILING('прайс-лист2'!E297*Титульный!$AY$1,Титульный!$AY$3)","v":4792},{"$f":"CEILING('прайс-лист2'!F297*Титульный!$AY$1,Титульный!$AY$3)","v":5212},{"$f":"CEILING('прайс-лист2'!G297*Титульный!$AY$1,Титульный!$AY$3)","v":6262}]
[null,null,840,{"$f":"CEILING('прайс-лист2'!E298*Титульный!$AY$1,Титульный!$AY$3)","v":6693},{"$f":"CEILING('прайс-лист2'!F298*Титульный!$AY$1,Титульный!$AY$3)","v":7333},{"$f":"CEILING('прайс-лист2'!G298*Титульный!$AY$1,Титульный!$AY$3)","v":8893}]
["Панель вешалка МДФ 1380",null,420,{"$f":"CEILING('прайс-лист2'!E299*Титульный!$AY$1,Титульный!$AY$3)","v":3910},{"$f":"CEILING('прайс-лист2'!F299*Титульный!$AY$1,Титульный!$AY$3)","v":4280},{"$f":"CEILING('прайс-лист2'!G299*Титульный!$AY$1,Титульный!$AY$3)","v":5190}]
[null,null,560,{"$f":"CEILING('прайс-лист2'!E300*Титульный!$AY$1,Титульный!$AY$3)","v":5252},{"$f":"CEILING('прайс-лист2'!F300*Титульный!$AY$1,Титульный!$AY$3)","v":5742},{"$f":"CEILING('прайс-лист2'!G300*Титульный!$AY$1,Титульный!$AY$3)","v":6962}]
[null,null,840,{"$f":"CEILING('прайс-лист2'!E301*Титульный!$AY$1,Титульный!$AY$3)","v":7383},{"$f":"CEILING('прайс-лист2'!F301*Титульный!$AY$1,Титульный!$AY$3)","v":8123},{"$f":"CEILING('прайс-лист2'!G301*Титульный!$AY$1,Титульный!$AY$3)","v":9963}]
["Панель вешалка МДФ 1580",null,420,{"$f":"CEILING('прайс-лист2'!E302*Титульный!$AY$1,Титульный!$AY$3)","v":4250},{"$f":"CEILING('прайс-лист2'!F302*Титульный!$AY$1,Титульный!$AY$3)","v":4680},{"$f":"CEILING('прайс-лист2'!G302*Титульный!$AY$1,Титульный!$AY$3)","v":5720}]
[null,null,560,{"$f":"CEILING('прайс-лист2'!E303*Титульный!$AY$1,Титульный!$AY$3)","v":5712},{"$f":"CEILING('прайс-лист2'!F303*Титульный!$AY$1,Титульный!$AY$3)","v":6272},{"$f":"CEILING('прайс-лист2'!G303*Титульный!$AY$1,Титульный!$AY$3)","v":7672}]
[null,null,840,{"$f":"CEILING('прайс-лист2'!E304*Титульный!$AY$1,Титульный!$AY$3)","v":8073},{"$f":"CEILING('прайс-лист2'!F304*Титульный!$AY$1,Титульный!$AY$3)","v":8923},{"$f":"CEILING('прайс-лист2'!G304*Титульный!$AY$1,Титульный!$AY$3)","v":11023}]
["Панель вешалка МДФ 1780",null,420,{"$f":"CEILING('прайс-лист2'!E305*Титульный!$AY$1,Титульный!$AY$3)","v":4600},{"$f":"CEILING('прайс-лист2'!F305*Титульный!$AY$1,Титульный!$AY$3)","v":5070},{"$f":"CEILING('прайс-лист2'!G305*Титульный!$AY$1,Титульный!$AY$3)","v":6250}]
[null,null,560,{"$f":"CEILING('прайс-лист2'!E306*Титульный!$AY$1,Титульный!$AY$3)","v":6172},{"$f":"CEILING('прайс-лист2'!F306*Титульный!$AY$1,Титульный!$AY$3)","v":6802},{"$f":"CEILING('прайс-лист2'!G306*Титульный!$AY$1,Титульный!$AY$3)","v":8382}]
[null,null,840,{"$f":"CEILING('прайс-лист2'!E307*Титульный!$AY$1,Титульный!$AY$3)","v":8763},{"$f":"CEILING('прайс-лист2'!F307*Титульный!$AY$1,Титульный!$AY$3)","v":9723},{"$f":"CEILING('прайс-лист2'!G307*Титульный!$AY$1,Титульный!$AY$3)","v":12083}]
[]
["Панель настенная ЛДСП"]
["Наименование","Эскиз","Высота","Цена, руб\\шт."]
[" Панель настенная 400_1154",null,1154,{"$f":"CEILING('прайс-лист2'!E311*Титульный!$AY$1,Титульный!$AY$3)","v":2244}]
["Панель настенная 400_1354",null,1354,{"$f":"CEILING('прайс-лист2'!E312*Титульный!$AY$1,Титульный!$AY$3)","v":2357}]
["Панель настенная 400_1554",null,1554,{"$f":"CEILING('прайс-лист2'!E313*Титульный!$AY$1,Титульный!$AY$3)","v":2470}]
["Панель настенная 400_1754",null,1754,{"$f":"CEILING('прайс-лист2'!E314*Титульный!$AY$1,Титульный!$AY$3)","v":2581}]
["Панель настенная ЛДСП"]
["Наименование","Эскиз","Высота","Цена, руб\\шт."]
["Панель настенная 540_1154",null,1154,{"$f":"CEILING('прайс-лист2'!E315*Титульный!$AY$1,Титульный!$AY$3)","v":3039}]
["Панель настенная 540_1354",null,1354,{"$f":"CEILING('прайс-лист2'!E316*Титульный!$AY$1,Титульный!$AY$3)","v":3191}]
["Панель настенная 540_1554",null,1554,{"$f":"CEILING('прайс-лист2'!E317*Титульный!$AY$1,Титульный!$AY$3)","v":3298}]
["Панель настенная 540_1754",null,1754,{"$f":"CEILING('прайс-лист2'!E318*Титульный!$AY$1,Титульный!$AY$3)","v":3497}]
[]
["Зеркало настенной панели"]
["Наименование","Эскиз","Ширина, мм","Цена, руб\\шт."]
["Зеркало высотой 1134 мм., для панели настенной",null,380,{"$f":"CEILING('прайс-лист2'!E322*Титульный!$AY$1,Титульный!$AY$3)","v":1758}]
[null,null,520,{"$f":"CEILING('прайс-лист2'!E323*Титульный!$AY$1,Титульный!$AY$3)","v":2042}]
[]
["Полка со штангами угловыми"]
["Наименование","Эскиз","Ширина, мм","Цена, руб\\шт."]
["Полка со штангами угловыми",null,400,{"$f":"CEILING('прайс-лист2'!E327*Титульный!$AY$1,Титульный!$AY$3)","v":1053}]
[null,null,540,{"$f":"CEILING('прайс-лист2'!E328*Титульный!$AY$1,Титульный!$AY$3)","v":1098}]
[null,null,820,{"$f":"CEILING('прайс-лист2'!E329*Титульный!$AY$1,Титульный!$AY$3)","v":1206}]
[null,null,1100,{"$f":"CEILING('прайс-лист2'!E330*Титульный!$AY$1,Титульный!$AY$3)","v":1321}]
[null,null,1240,{"$f":"CEILING('прайс-лист2'!E331*Титульный!$AY$1,Титульный!$AY$3)","v":1384}]
[]
["Полка ЛДСП (200)"]
["Наименование","Эскиз","Ширина, мм","Цена, руб\\шт."]
["Полка ЛДСП (200)",null,800,{"$f":"CEILING('прайс-лист2'!E364*Титульный!$AY$1,Титульный!$AY$3)","v":1302}]
[null,null,900,{"$f":"CEILING('прайс-лист2'!E365*Титульный!$AY$1,Титульный!$AY$3)","v":1335}]
[null,null,1400,{"$f":"CEILING('прайс-лист2'!E366*Титульный!$AY$1,Титульный!$AY$3)","v":1935}]
[null,null,1600,{"$f":"CEILING('прайс-лист2'!E367*Титульный!$AY$1,Титульный!$AY$3)","v":2025}]
[]
["Полка ЛДСП (300)"]
["Наименование","Эскиз","Ширина, мм","Цена, руб\\шт."]
["Полка ЛДСП (300)",null,1260,{"$f":"CEILING('прайс-лист2'!E371*Титульный!$AY$1,Титульный!$AY$3)","v":1773}]
["Панель настенная полка ЛДСП 22"]
["Панель настенная полка ЛДСП 22, 500х1680 глубина 216мм.",null,1680,"-"]
[]
["Козырек ЛДСП (420)"]
["Наименование","Эскиз","Ширина, мм","Цена, руб\\шт."]
["Козырек (420) ЛДСП",null,1260,{"$f":"CEILING('прайс-лист2'!E376*Титульный!$AY$1,Титульный!$AY$3)","v":826}]
[null,null,1680,{"$f":"CEILING('прайс-лист2'!E377*Титульный!$AY$1,Титульный!$AY$3)","v":1073}]
[null,null,840,{"$f":"CEILING('прайс-лист2'!E378*Титульный!$AY$1,Титульный!$AY$3)","v":579}]
[]
["Столы письменные"]
["Наименование","Эскиз","Ширина, мм","Цена руб."]
[null,null,null,"МДФ фасады",null,null,null,"Марго"]
[null,null,null,"1 ЦК","1 ЦК + патина","2 ЦК","3 ЦК","1 ц.к.","2 ц.к.","3 ц.к.","4 ц.к.","5 ц.к."]
["Стол ученика-трансформер Н1=656, Н2=720, Н3=784, Н4=848",null,"900х600",{"$f":"CEILING('прайс-лист2'!E336*Титульный!$AY$1,Титульный!$AY$3)","v":6847},{"$f":"CEILING('прайс-лист2'!F336*Титульный!$AY$1,Титульный!$AY$3)","v":9487},{"$f":"CEILING('прайс-лист2'!G336*Титульный!$AY$1,Титульный!$AY$3)","v":7247},{"$f":"CEILING('прайс-лист2'!H336*Титульный!$AY$1,Титульный!$AY$3)","v":8227},{"$f":"CEILING('прайс-лист2'!I336*Титульный!$AY$1,Титульный!$AY$3)","v":5667},{"$f":"CEILING('прайс-лист2'!J336*Титульный!$AY$1,Титульный!$AY$3)","v":5807},{"$f":"CEILING('прайс-лист2'!K336*Титульный!$AY$1,Титульный!$AY$3)","v":6207},{"$f":"CEILING('прайс-лист2'!L336*Титульный!$AY$1,Титульный!$AY$3)","v":6767},"-"]
["Столы письменные (420) 3 ящика (роликовые направляющие)",null,"1100х600***",{"$f":"CEILING('прайс-лист2'!E337*Титульный!$AY$1,Титульный!$AY$3)","v":9708},{"$f":"CEILING('прайс-лист2'!F337*Титульный!$AY$1,Титульный!$AY$3)","v":13548},{"$f":"CEILING('прайс-лист2'!G337*Титульный!$AY$1,Титульный!$AY$3)","v":10278},{"$f":"CEILING('прайс-лист2'!H337*Титульный!$AY$1,Титульный!$AY$3)","v":11708},{"$f":"CEILING('прайс-лист2'!I337*Титульный!$AY$1,Титульный!$AY$3)","v":8128},{"$f":"CEILING('прайс-лист2'!J337*Титульный!$AY$1,Титульный!$AY$3)","v":8458},{"$f":"CEILING('прайс-лист2'!K337*Титульный!$AY$1,Титульный!$AY$3)","v":9268},{"$f":"CEILING('прайс-лист2'!L337*Титульный!$AY$1,Титульный!$AY$3)","v":10218},"-"]
[null,null,"1200х600",{"$f":"CEILING('прайс-лист2'!E338*Титульный!$AY$1,Титульный!$AY$3)","v":9992},{"$f":"CEILING('прайс-лист2'!F338*Титульный!$AY$1,Титульный!$AY$3)","v":14092},{"$f":"CEILING('прайс-лист2'!G338*Титульный!$AY$1,Титульный!$AY$3)","v":10602},{"$f":"CEILING('прайс-лист2'!H338*Титульный!$AY$1,Титульный!$AY$3)","v":12132},{"$f":"CEILING('прайс-лист2'!I338*Титульный!$AY$1,Титульный!$AY$3)","v":8312},{"$f":"CEILING('прайс-лист2'!J338*Титульный!$AY$1,Титульный!$AY$3)","v":8662},{"$f":"CEILING('прайс-лист2'!K338*Титульный!$AY$1,Титульный!$AY$3)","v":9512},{"$f":"CEILING('прайс-лист2'!L338*Титульный!$AY$1,Титульный!$AY$3)","v":10522},"-"]
[null,null,"1300х600",{"$f":"CEILING('прайс-лист2'!E339*Титульный!$AY$1,Титульный!$AY$3)","v":10284},{"$f":"CEILING('прайс-лист2'!F339*Титульный!$AY$1,Титульный!$AY$3)","v":14634},{"$f":"CEILING('прайс-лист2'!G339*Титульный!$AY$1,Титульный!$AY$3)","v":10934},{"$f":"CEILING('прайс-лист2'!H339*Титульный!$AY$1,Титульный!$AY$3)","v":12554},{"$f":"CEILING('прайс-лист2'!I339*Титульный!$AY$1,Титульный!$AY$3)","v":8484},{"$f":"CEILING('прайс-лист2'!J339*Титульный!$AY$1,Титульный!$AY$3)","v":8854},{"$f":"CEILING('прайс-лист2'!K339*Титульный!$AY$1,Титульный!$AY$3)","v":9754},{"$f":"CEILING('прайс-лист2'!L339*Титульный!$AY$1,Титульный!$AY$3)","v":10814},"-"]
[null,null,"1400х600",{"$f":"CEILING('прайс-лист2'!E340*Титульный!$AY$1,Титульный!$AY$3)","v":10568},{"$f":"CEILING('прайс-лист2'!F340*Титульный!$AY$1,Титульный!$AY$3)","v":15178},{"$f":"CEILING('прайс-лист2'!G340*Титульный!$AY$1,Титульный!$AY$3)","v":11258},{"$f":"CEILING('прайс-лист2'!H340*Титульный!$AY$1,Титульный!$AY$3)","v":12978},{"$f":"CEILING('прайс-лист2'!I340*Титульный!$AY$1,Титульный!$AY$3)","v":8668},{"$f":"CEILING('прайс-лист2'!J340*Титульный!$AY$1,Титульный!$AY$3)","v":9048},{"$f":"CEILING('прайс-лист2'!K340*Титульный!$AY$1,Титульный!$AY$3)","v":9998},{"$f":"CEILING('прайс-лист2'!L340*Титульный!$AY$1,Титульный!$AY$3)","v":11118},"-"]
["Столы письменные (420) 3 ящика Шар (шариковые направляющие)",null,"1100х600***",{"$f":"CEILING('прайс-лист2'!E341*Титульный!$AY$1,Титульный!$AY$3)","v":10426},{"$f":"CEILING('прайс-лист2'!F341*Титульный!$AY$1,Титульный!$AY$3)","v":14266},{"$f":"CEILING('прайс-лист2'!G341*Титульный!$AY$1,Титульный!$AY$3)","v":10996},{"$f":"CEILING('прайс-лист2'!H341*Титульный!$AY$1,Титульный!$AY$3)","v":12426},{"$f":"CEILING('прайс-лист2'!I341*Титульный!$AY$1,Титульный!$AY$3)","v":8846},{"$f":"CEILING('прайс-лист2'!J341*Титульный!$AY$1,Титульный!$AY$3)","v":9176},{"$f":"CEILING('прайс-лист2'!K341*Титульный!$AY$1,Титульный!$AY$3)","v":9986},{"$f":"CEILING('прайс-лист2'!L341*Титульный!$AY$1,Титульный!$AY$3)","v":10936},"-"]
[null,null,"1200х600",{"$f":"CEILING('прайс-лист2'!E342*Титульный!$AY$1,Титульный!$AY$3)","v":10710},{"$f":"CEILING('прайс-лист2'!F342*Титульный!$AY$1,Титульный!$AY$3)","v":14810},{"$f":"CEILING('прайс-лист2'!G342*Титульный!$AY$1,Титульный!$AY$3)","v":11320},{"$f":"CEILING('прайс-лист2'!H342*Титульный!$AY$1,Титульный!$AY$3)","v":12850},{"$f":"CEILING('прайс-лист2'!I342*Титульный!$AY$1,Титульный!$AY$3)","v":9030},{"$f":"CEILING('прайс-лист2'!J342*Титульный!$AY$1,Титульный!$AY$3)","v":9380},{"$f":"CEILING('прайс-лист2'!K342*Титульный!$AY$1,Титульный!$AY$3)","v":10230},{"$f":"CEILING('прайс-лист2'!L342*Титульный!$AY$1,Титульный!$AY$3)","v":11240},"-"]
[null,null,"1300х600",{"$f":"CEILING('прайс-лист2'!E343*Титульный!$AY$1,Титульный!$AY$3)","v":11024},{"$f":"CEILING('прайс-лист2'!F343*Титульный!$AY$1,Титульный!$AY$3)","v":15374},{"$f":"CEILING('прайс-лист2'!G343*Титульный!$AY$1,Титульный!$AY$3)","v":11674},{"$f":"CEILING('прайс-лист2'!H343*Титульный!$AY$1,Титульный!$AY$3)","v":13294},{"$f":"CEILING('прайс-лист2'!I343*Титульный!$AY$1,Титульный!$AY$3)","v":9224},{"$f":"CEILING('прайс-лист2'!J343*Титульный!$AY$1,Титульный!$AY$3)","v":9594},{"$f":"CEILING('прайс-лист2'!K343*Титульный!$AY$1,Титульный!$AY$3)","v":10494},{"$f":"CEILING('прайс-лист2'!L343*Титульный!$AY$1,Титульный!$AY$3)","v":11554},"-"]
[null,null,"1400х600",{"$f":"CEILING('прайс-лист2'!E344*Титульный!$AY$1,Титульный!$AY$3)","v":11287},{"$f":"CEILING('прайс-лист2'!F344*Титульный!$AY$1,Титульный!$AY$3)","v":15897},{"$f":"CEILING('прайс-лист2'!G344*Титульный!$AY$1,Титульный!$AY$3)","v":11977},{"$f":"CEILING('прайс-лист2'!H344*Титульный!$AY$1,Титульный!$AY$3)","v":13697},{"$f":"CEILING('прайс-лист2'!I344*Титульный!$AY$1,Титульный!$AY$3)","v":9387},{"$f":"CEILING('прайс-лист2'!J344*Титульный!$AY$1,Титульный!$AY$3)","v":9767},{"$f":"CEILING('прайс-лист2'!K344*Титульный!$AY$1,Титульный!$AY$3)","v":10717},{"$f":"CEILING('прайс-лист2'!L344*Титульный!$AY$1,Титульный!$AY$3)","v":11837},"-"]
["Столы письменные (420) без тумбы",null,"900х600***",{"$f":"CEILING('прайс-лист2'!E345*Титульный!$AY$1,Титульный!$AY$3)","v":4576},{"$f":"CEILING('прайс-лист2'!F345*Титульный!$AY$1,Титульный!$AY$3)","v":6866},{"$f":"CEILING('прайс-лист2'!G345*Титульный!$AY$1,Титульный!$AY$3)","v":4926},{"$f":"CEILING('прайс-лист2'!H345*Титульный!$AY$1,Титульный!$AY$3)","v":5776},{"$f":"CEILING('прайс-лист2'!I345*Титульный!$AY$1,Титульный!$AY$3)","v":3616},{"$f":"CEILING('прайс-лист2'!J345*Титульный!$AY$1,Титульный!$AY$3)","v":3796},{"$f":"CEILING('прайс-лист2'!K345*Титульный!$AY$1,Титульный!$AY$3)","v":4236},{"$f":"CEILING('прайс-лист2'!L345*Титульный!$AY$1,Титульный!$AY$3)","v":4776},"-"]
[null,null,"1200х600",{"$f":"CEILING('прайс-лист2'!E346*Титульный!$AY$1,Титульный!$AY$3)","v":5478},{"$f":"CEILING('прайс-лист2'!F346*Титульный!$AY$1,Титульный!$AY$3)","v":8528},{"$f":"CEILING('прайс-лист2'!G346*Титульный!$AY$1,Титульный!$AY$3)","v":5938},{"$f":"CEILING('прайс-лист2'!H346*Титульный!$AY$1,Титульный!$AY$3)","v":7078},{"$f":"CEILING('прайс-лист2'!I346*Титульный!$AY$1,Титульный!$AY$3)","v":4188},{"$f":"CEILING('прайс-лист2'!J346*Титульный!$AY$1,Титульный!$AY$3)","v":4418},{"$f":"CEILING('прайс-лист2'!K346*Титульный!$AY$1,Титульный!$AY$3)","v":4998},{"$f":"CEILING('прайс-лист2'!L346*Титульный!$AY$1,Титульный!$AY$3)","v":5708},"-"]
[null,null,"1400х600",{"$f":"CEILING('прайс-лист2'!E347*Титульный!$AY$1,Титульный!$AY$3)","v":6093},{"$f":"CEILING('прайс-лист2'!F347*Титульный!$AY$1,Титульный!$AY$3)","v":9653},{"$f":"CEILING('прайс-лист2'!G347*Титульный!$AY$1,Титульный!$AY$3)","v":6633},{"$f":"CEILING('прайс-лист2'!H347*Титульный!$AY$1,Титульный!$AY$3)","v":7963},{"$f":"CEILING('прайс-лист2'!I347*Титульный!$AY$1,Титульный!$AY$3)","v":4583},{"$f":"CEILING('прайс-лист2'!J347*Титульный!$AY$1,Титульный!$AY$3)","v":4843},{"$f":"CEILING('прайс-лист2'!K347*Титульный!$AY$1,Титульный!$AY$3)","v":5523},{"$f":"CEILING('прайс-лист2'!L347*Титульный!$AY$1,Титульный!$AY$3)","v":6343},"-"]
[null,null,"1600х600",{"$f":"CEILING('прайс-лист2'!E348*Титульный!$AY$1,Титульный!$AY$3)","v":6718},{"$f":"CEILING('прайс-лист2'!F348*Титульный!$AY$1,Титульный!$AY$3)","v":10778},{"$f":"CEILING('прайс-лист2'!G348*Титульный!$AY$1,Титульный!$AY$3)","v":7328},{"$f":"CEILING('прайс-лист2'!H348*Титульный!$AY$1,Титульный!$AY$3)","v":8848},{"$f":"CEILING('прайс-лист2'!I348*Титульный!$AY$1,Титульный!$AY$3)","v":4978},{"$f":"CEILING('прайс-лист2'!J348*Титульный!$AY$1,Титульный!$AY$3)","v":5278},{"$f":"CEILING('прайс-лист2'!K348*Титульный!$AY$1,Титульный!$AY$3)","v":6038},{"$f":"CEILING('прайс-лист2'!L348*Титульный!$AY$1,Титульный!$AY$3)","v":6978},"-"]
["Столы письменные (560) без тумбы",null,"1100х700***",{"$f":"CEILING('прайс-лист2'!E349*Титульный!$AY$1,Титульный!$AY$3)","v":5833},{"$f":"CEILING('прайс-лист2'!F349*Титульный!$AY$1,Титульный!$AY$3)","v":9083},{"$f":"CEILING('прайс-лист2'!G349*Титульный!$AY$1,Титульный!$AY$3)","v":6323},{"$f":"CEILING('прайс-лист2'!H349*Титульный!$AY$1,Титульный!$AY$3)","v":7543},{"$f":"CEILING('прайс-лист2'!I349*Титульный!$AY$1,Титульный!$AY$3)","v":4443},{"$f":"CEILING('прайс-лист2'!J349*Титульный!$AY$1,Титульный!$AY$3)","v":4683},{"$f":"CEILING('прайс-лист2'!K349*Титульный!$AY$1,Титульный!$AY$3)","v":5293},{"$f":"CEILING('прайс-лист2'!L349*Титульный!$AY$1,Титульный!$AY$3)","v":6043},"-"]
[null,null,"1200х700",{"$f":"CEILING('прайс-лист2'!E350*Титульный!$AY$1,Титульный!$AY$3)","v":6173},{"$f":"CEILING('прайс-лист2'!F350*Титульный!$AY$1,Титульный!$AY$3)","v":9733},{"$f":"CEILING('прайс-лист2'!G350*Титульный!$AY$1,Титульный!$AY$3)","v":6713},{"$f":"CEILING('прайс-лист2'!H350*Титульный!$AY$1,Титульный!$AY$3)","v":8043},{"$f":"CEILING('прайс-лист2'!I350*Титульный!$AY$1,Титульный!$AY$3)","v":4653},{"$f":"CEILING('прайс-лист2'!J350*Титульный!$AY$1,Титульный!$AY$3)","v":4913},{"$f":"CEILING('прайс-лист2'!K350*Титульный!$AY$1,Титульный!$AY$3)","v":5583},{"$f":"CEILING('прайс-лист2'!L350*Титульный!$AY$1,Титульный!$AY$3)","v":6403},"-"]
[null,null,"1400х700",{"$f":"CEILING('прайс-лист2'!E351*Титульный!$AY$1,Титульный!$AY$3)","v":6885},{"$f":"CEILING('прайс-лист2'!F351*Титульный!$AY$1,Титульный!$AY$3)","v":11025},{"$f":"CEILING('прайс-лист2'!G351*Титульный!$AY$1,Титульный!$AY$3)","v":7515},{"$f":"CEILING('прайс-лист2'!H351*Титульный!$AY$1,Титульный!$AY$3)","v":9055},{"$f":"CEILING('прайс-лист2'!I351*Титульный!$AY$1,Титульный!$AY$3)","v":5105},{"$f":"CEILING('прайс-лист2'!J351*Титульный!$AY$1,Титульный!$AY$3)","v":5405},{"$f":"CEILING('прайс-лист2'!K351*Титульный!$AY$1,Титульный!$AY$3)","v":6175},{"$f":"CEILING('прайс-лист2'!L351*Титульный!$AY$1,Титульный!$AY$3)","v":7125},"-"]
[null,null,"1600х700",{"$f":"CEILING('прайс-лист2'!E352*Титульный!$AY$1,Титульный!$AY$3)","v":7563},{"$f":"CEILING('прайс-лист2'!F352*Титульный!$AY$1,Титульный!$AY$3)","v":12303},{"$f":"CEILING('прайс-лист2'!G352*Титульный!$AY$1,Титульный!$AY$3)","v":8283},{"$f":"CEILING('прайс-лист2'!H352*Титульный!$AY$1,Титульный!$AY$3)","v":10053},{"$f":"CEILING('прайс-лист2'!I352*Титульный!$AY$1,Титульный!$AY$3)","v":5533},{"$f":"CEILING('прайс-лист2'!J352*Титульный!$AY$1,Титульный!$AY$3)","v":5863},{"$f":"CEILING('прайс-лист2'!K352*Титульный!$AY$1,Титульный!$AY$3)","v":6743},{"$f":"CEILING('прайс-лист2'!L352*Титульный!$AY$1,Титульный!$AY$3)","v":7823},"-"]
["Тумба стола письменного 420х670х440",null,420,{"$f":"CEILING('прайс-лист2'!E353*Титульный!$AY$1,Титульный!$AY$3)","v":5529},{"$f":"CEILING('прайс-лист2'!F353*Титульный!$AY$1,Титульный!$AY$3)","v":6579},{"$f":"CEILING('прайс-лист2'!G353*Титульный!$AY$1,Титульный!$AY$3)","v":5679},{"$f":"CEILING('прайс-лист2'!H353*Титульный!$AY$1,Титульный!$AY$3)","v":6069},{"$f":"CEILING('прайс-лист2'!I353*Титульный!$AY$1,Титульный!$AY$3)","v":5139},{"$f":"CEILING('прайс-лист2'!J353*Титульный!$AY$1,Титульный!$AY$3)","v":5259},{"$f":"CEILING('прайс-лист2'!K353*Титульный!$AY$1,Титульный!$AY$3)","v":5529},{"$f":"CEILING('прайс-лист2'!L353*Титульный!$AY$1,Титульный!$AY$3)","v":5829},"-"]
["Тумба стола письменного Шар 420х670х440",null,420,{"$f":"CEILING('прайс-лист2'!E354*Титульный!$AY$1,Титульный!$AY$3)","v":6236},{"$f":"CEILING('прайс-лист2'!F354*Титульный!$AY$1,Титульный!$AY$3)","v":7286},{"$f":"CEILING('прайс-лист2'!G354*Титульный!$AY$1,Титульный!$AY$3)","v":6386},{"$f":"CEILING('прайс-лист2'!H354*Титульный!$AY$1,Титульный!$AY$3)","v":6776},{"$f":"CEILING('прайс-лист2'!I354*Титульный!$AY$1,Титульный!$AY$3)","v":5846},{"$f":"CEILING('прайс-лист2'!J354*Титульный!$AY$1,Титульный!$AY$3)","v":5966},{"$f":"CEILING('прайс-лист2'!K354*Титульный!$AY$1,Титульный!$AY$3)","v":6236},{"$f":"CEILING('прайс-лист2'!L354*Титульный!$AY$1,Титульный!$AY$3)","v":6536},"-"]
["Тумба стола письменного Шар 560х670х440",null,560,{"$f":"CEILING('прайс-лист2'!E355*Титульный!$AY$1,Титульный!$AY$3)","v":6936},{"$f":"CEILING('прайс-лист2'!F355*Титульный!$AY$1,Титульный!$AY$3)","v":8346},{"$f":"CEILING('прайс-лист2'!G355*Титульный!$AY$1,Титульный!$AY$3)","v":7146},{"$f":"CEILING('прайс-лист2'!H355*Титульный!$AY$1,Титульный!$AY$3)","v":7686},{"$f":"CEILING('прайс-лист2'!I355*Титульный!$AY$1,Титульный!$AY$3)","v":6396},{"$f":"CEILING('прайс-лист2'!J355*Титульный!$AY$1,Титульный!$AY$3)","v":6576},{"$f":"CEILING('прайс-лист2'!K355*Титульный!$AY$1,Титульный!$AY$3)","v":6936},{"$f":"CEILING('прайс-лист2'!L355*Титульный!$AY$1,Титульный!$AY$3)","v":7296},"-"]
["Панель клавиатуры 600",null,600,{"$f":"CEILING('прайс-лист2'!D356*Титульный!$AY$1,Титульный!$AY$3)","v":733}]
["Тумба под СБ (280х620х520)",null,280,{"$f":"CEILING('прайс-лист2'!D357*Титульный!$AY$1,Титульный!$AY$3)","v":2085}]
[]
["Столы руководителя"]
["Наименование","Эскиз","Ширина, мм","Цена руб."]
[null,null,null,"МДФ фасады"]
[null,null,null,"1 ЦК","1 ЦК + патина","2 ЦК","3 ЦК"]
["Стол руководителя (560) 1900х795х770*",null,1900,{"$f":"CEILING('прайс-лист2'!E358*Титульный!$AY$1,Титульный!$AY$3)","v":23732},{"$f":"CEILING('прайс-лист2'!F358*Титульный!$AY$1,Титульный!$AY$3)","v":35272},{"$f":"CEILING('прайс-лист2'!G358*Титульный!$AY$1,Титульный!$AY$3)","v":25532},{"$f":"CEILING('прайс-лист2'!H358*Титульный!$AY$1,Титульный!$AY$3)","v":29922}]
["Стол руководителя (560) Шар 1900х795х770*",null,1900,{"$f":"CEILING('прайс-лист2'!E359*Титульный!$AY$1,Титульный!$AY$3)","v":25978},{"$f":"CEILING('прайс-лист2'!F359*Титульный!$AY$1,Титульный!$AY$3)","v":37518},{"$f":"CEILING('прайс-лист2'!G359*Титульный!$AY$1,Титульный!$AY$3)","v":27778},{"$f":"CEILING('прайс-лист2'!H359*Титульный!$AY$1,Титульный!$AY$3)","v":32168}]
["Стол приставка 1600х690х760",null,1600,{"$f":"CEILING('прайс-лист2'!E360*Титульный!$AY$1,Титульный!$AY$3)","v":7371},{"$f":"CEILING('прайс-лист2'!F360*Титульный!$AY$1,Титульный!$AY$3)","v":12111},{"$f":"CEILING('прайс-лист2'!G360*Титульный!$AY$1,Титульный!$AY$3)","v":8091},{"$f":"CEILING('прайс-лист2'!H360*Титульный!$AY$1,Титульный!$AY$3)","v":9861}]
["Стол приставка 850х690х760",null,850,{"$f":"CEILING('прайс-лист2'!E361*Титульный!$AY$1,Титульный!$AY$3)","v":4092},{"$f":"CEILING('прайс-лист2'!F361*Титульный!$AY$1,Титульный!$AY$3)","v":6612},{"$f":"CEILING('прайс-лист2'!G361*Титульный!$AY$1,Титульный!$AY$3)","v":4472},{"$f":"CEILING('прайс-лист2'!H361*Титульный!$AY$1,Титульный!$AY$3)","v":5412}]
["* Данное изделие не изготавливается со столешницей ЛДСП (МАРГО)."]
["** Столы письменные не комплектуются панелью для клавиатуры. (доп. комплектация)"]
["*** Панель для клавиатуры в стол письменный 1100 мм. установить нельзя"]
[]
["Столы компьютерные"]
["Наименование","Эскиз","Ширина, мм","ЛДСП"]
[null,null,null,"1 ц.к.","2 ц.к.","3 ц.к.","4 ц.к."]
["Стол компьютерный \"Пифагор-Н\"* 1320х600х1615",null,1320,{"$f":"CEILING('прайс-лист2'!E384*Титульный!$AY$1,Титульный!$AY$3)","v":13876},{"$f":"CEILING('прайс-лист2'!F384*Титульный!$AY$1,Титульный!$AY$3)","v":14286},{"$f":"CEILING('прайс-лист2'!G384*Титульный!$AY$1,Титульный!$AY$3)","v":15196},{"$f":"CEILING('прайс-лист2'!H384*Титульный!$AY$1,Титульный!$AY$3)","v":16296}]
["*Данное изделие изготавливается с фасадом ЛДСП во всех цветах, кроме серого. "]
[]
["Столы компьютерные"]
["Наименование","Эскиз","Ширина, мм","ЛДСП"]
[null,null,null,"1 ц.к.","2 ц.к.","3 ц.к.","4 ц.к."]
["Стол письменный (500) 1дв. 2ящ.",null,1500,{"$f":"CEILING('прайс-лист2'!E389*Титульный!$AY$1,Титульный!$AY$3)","v":5762},{"$f":"CEILING('прайс-лист2'!F389*Титульный!$AY$1,Титульный!$AY$3)","v":5922},{"$f":"CEILING('прайс-лист2'!G389*Титульный!$AY$1,Титульный!$AY$3)","v":6442},{"$f":"CEILING('прайс-лист2'!H389*Титульный!$AY$1,Титульный!$AY$3)","v":7162}]
["Надстройка для стола письменного (500) 1дв. 2ящ.",null,1500,{"$f":"CEILING('прайс-лист2'!E390*Титульный!$AY$1,Титульный!$AY$3)","v":1328}]
["*Данное изделие изготавливается с фасадом ЛДСП во всех цветах."]

{"sheet":"прайс-лист2","index":3,"n_rows":390,"n_cols":25,"rows_kept":390,"cut":false,"hidden":true,"merged":[[385,1,385,8],[386,1,387,1],[386,2,387,2],[386,3,387,3],[386,4,386,8],[40,2,41,2],[62,2,63,2],[64,2,65,2],[380,1,380,8],[381,1,382,1],[381,2,382,2],[381,3,382,3],[174,2,179,2],[244,1,244,18],[245,3,245,18],[240,1,240,18],[241,3,241,18],[235,1,235,18],[236,3,236,18],[188,1,193,1],[188,2,193,2],[194,1,199,1],[180,2,181,2],[182,2,183,2],[348,1,351,1],[348,2,351,2],[120,2,121,2],[185,1,185,7],[124,2,125,2],[0,1,0,19],[3,2,4,2],[38,2,39,2],[32,2,33,2],[5,2,6,2],[11,2,13,2],[36,2,37,2],[14,2,15,2],[1,4,1,7],[1,13,1,14],[22,2,23,2],[24,2,25,2],[26,2,27,2],[1,15,1,16],[1,17,2,17],[1,8,1,12],[1,1,2,1],[1,2,2,2],[1,3,2,3],[34,2,35,2],[112,2,113,2],[115,1,115,19],[116,1,117,1],[116,2,117,2],[116,3,117,3],[116,4,116,19],[172,19,173,19],[118,2,119,2],[170,18,171,18],[170,19,171,19],[166,2,169,2],[172,2,173,2],[172,3,173,3],[172,18,173,18],[164,2,165,2],[122,2,123,2],[170,2,171,2],[170,3,171,3],[42,2,43,2],[44,2,45,2],[163,22,163,25],[126,1,126,19],[88,2,89,2],[90,2,91,2],[148,1,148,19],[163,1,163,19],[66,2,67,2],[186,14,186,15],[186,9,186,13],[186,18,187,18],[68,2,70,2],[74,2,75,2],[77,1,77,19],[86,2,87,2],[249,1,249,7],[186,1,187,1],[186,2,187,2],[225,19,226,19],[186,4,186,7],[186,16,186,17],[236,1,237,1],[236,2,237,2],[210,2,211,2],[218,1,223,1],[200,2,201,2],[210,1,211,1],[231,1,234,1],[231,2,234,2],[227,2,230,2],[225,5,225,8],[225,10,225,14],[225,15,225,16],[225,17,225,18],[225,2,226,2],[224,1,224,8],[225,1,226,1],[304,1,306,1],[304,2,306,2],[292,1,292,6],[241,1,242,1],[241,2,242,2],[186,3,187,3],[194,2,199,2],[202,2,203,2],[209,1,209,7],[295,1,297,1],[295,2,297,2],[298,1,300,1],[298,2,300,2],[261,2,265,2],[245,1,246,1],[245,2,246,2],[247,2,248,2],[212,1,217,1],[212,2,217,2],[218,2,223,2],[225,3,226,3],[225,4,226,4],[210,3,211,3],[210,4,210,7],[276,2,277,2],[284,1,284,7],[267,2,269,2],[286,1,288,1],[286,2,288,2],[289,1,291,1],[289,2,291,2],[285,4,285,7],[293,1,294,1],[293,2,294,2],[293,3,294,3],[293,4,293,6],[270,2,274,2],[340,2,343,2],[340,1,343,1],[322,4,322,7],[308,1,308,7],[310,2,313,2],[309,4,309,7],[314,2,317,2],[319,1,319,7],[321,1,322,1],[333,2,334,2],[333,3,334,3],[324,1,324,7],[326,1,330,1],[326,2,330,2],[325,4,325,7],[333,4,333,7],[321,2,322,2],[320,4,320,7],[321,4,321,7],[381,4,381,8],[371,4,371,7],[227,1,230,1],[373,1,373,7],[375,1,377,1],[375,2,377,2],[368,1,368,7],[336,1,339,1],[369,4,369,7],[370,4,370,7],[361,1,361,7],[362,4,362,7],[363,1,366,1],[363,2,366,2],[374,4,374,7],[355,3,355,8],[356,3,356,8],[332,1,332,7],[333,1,334,1],[301,1,303,1],[301,2,303,2],[336,2,339,2],[344,1,347,1],[344,2,347,2]]}
[null,"Шкафы глубиной 420мм"]
[null,"Наименование","Эскиз","Ширина, мм","МДФ фасады",null,null,null,"Марго",null,null,null,null,"UV-лак",null,"ТСС",null,"ТСС сборный"]
[null,null,null,null,"1 ЦК","1 ЦК + патина","2 ЦК","3 ЦК","Марго 1 ц.к.","Марго 2 ц.к.","Марго 3 ц.к.","Марго 4 ц.к.","Марго 5 ц.к.","кромка АВС","кромка 3D","1 ЦК","2 ЦК",null,"Зеркало в рамке**","Зеркало накладное*"]
[null,"Шкаф (420) 1дв 2040х420",null,420,10595,14135,11135,12455,9105,9385,10085,10915,null,13885,14895,13865,15075,16750.800000000003,{"$f":"X16","v":1344},{"$f":"X29","v":2490},null,null,"Зеркало 1030х410 F10",1628]
[null,"Шкаф (420) 1дв 2040х560",null,560,12519,17239,13229,14999,10499,10849,11739,12829,null,16649,17719,16629,18239,19962.800000000003,{"$f":"X17","v":1932},{"$f":"X30","v":3314},null,null,"Зеркало 1032х412 F10",1628,1563]
[null,"Шкаф (420) 1дв 2240х420",null,420,11487,15367,12067,13527,9847,10147,10917,11827,null,15077,16177,15057,16387,18210.5,{"$f":"X23","v":1523},{"$f":"X32","v":2730},null,null,"Зеркало 1100х400 (арка) 3 мм. Р.О.",712,647]
[null,"Шкаф (420) 1дв 2240х560 ",null,560,13588,18778,14368,16308,11368,11748,12718,13908,null,18108,19258,18078,19858,21738.2,{"$f":"X24","v":2190},{"$f":"X33","v":3632},null,null,"Зеркало 1120х300",596,541]
[null,"Шкаф (420) 1дв 1240х420",null,"420х420х1240",7177,9297,7497,8287,6297,6467,6897,7397,null,9207,9887,9197,9927,11040.7,{"$error":"#VALUE!"},{"$error":"#VALUE!"},null,null,"Зеркало 1134х380 F10",1758,1598]
[null,"Шкаф (420) 1дв 1240х560",null,"560х420х1240",8251,11081,8681,9731,7051,7271,7811,8471,null,10811,11551,10801,11771,12967.900000000001,{"$error":"#VALUE!"},{"$error":"#VALUE!"},null,null,"Зеркало 1134х520 F10",2042,1856]
[null,"Шкаф (420) 1дв витрина 1240х420",null,420,8338,10458,8658,9448,6951,7061,7401,7861,null,10241,11151,10231,10981,9986.9000000000015,{"$error":"#VALUE!"},{"$error":"#VALUE!"},null,null,"Зеркало 1165х402 3 мм.",752,683]
[null,"Шкаф (420) 1дв витрина 1240х560",null,560,9839,12669,10269,11319,7919,8079,8539,9149,null,12159,13199,12149,13159,11180.400000000001,{"$error":"#VALUE!"},{"$error":"#VALUE!"},null,null,"Зеркало 1230х410 F10",1896,1723]
[null,"Шкаф (420) 1дв витрина 2040х420",null,420,11584,15124,12124,13444,9228,9428,10018,10798,null,14598,15878,14578,15868,13736.800000000001,{"$error":"#VALUE!"},{"$error":"#VALUE!"},null,null,"Зеркало 1232х412 F10",2086,1896]
[null,"Шкаф (420) 1дв витрина 2040х560",null,560,13224,17944,13934,15704,9979,10239,11029,12069,null,16879,18289,16849,18569,14595.900000000001,{"$error":"#VALUE!"},{"$error":"#VALUE!"},null,null,"Зеркало 1280х318",784,712]
[null,"Шкаф (420) 1дв витрина 2240х420",null,420,12658,16538,13238,14698,9955,10165,10815,11675,null,15835,17205,15815,17245,14854.400000000001,{"$error":"#VALUE!"},{"$error":"#VALUE!"},null,null,"Зеркало 1399х384 3мм.",866,787]
[null,"Шкаф (420) 1дв 2ящ 2040х420",null,420,11717,15237,12247,13557,10267,10577,11317,12187,null,15317,16677,15297,16507,18562.5,{"$f":"X16","v":1344},{"$f":"X20","v":2010},null,null,"Зеркало 1498х364 шлиф",669,608]
[null,"Шкаф (420) 1дв 2ящ 2240х420",null,420,12599,16479,13179,14629,10999,11339,12149,13099,null,16509,17959,16499,17829,20021.100000000002,{"$f":"X23","v":1523},{"$f":"X25","v":2250},null,null,"Зеркало 1500х320",1344,{"$f":"X16*2","v":2688}]
[null,"Шкаф (420) 1дв 2ящ 2040х560",null,560,13685,18395,14395,16165,11715,12115,13075,14185,null,18225,19765,18205,19815,22061.600000000002,{"$f":"X17","v":1932},{"$f":"X22","v":2677},null,null,"Зеркало 1500х460",1932,1109]
[null,"Шкаф (420) 1дв 2ящ 2240х560",null,560,14733,19923,15523,17463,12563,13003,14043,15263,null,19673,21303,19653,21423,23823.800000000003,{"$f":"X24","v":2190},{"$f":"X27","v":2995},null,null,"Зеркало 1570х386 шлиф",1241,1128]
[null,"Шкаф (420) 1дв 2ящ Шар 2040х420",null,420,12359,15879,12889,14199,10909,11219,11959,12829,null,15959,17319,15939,17149,19155.400000000001,{"$f":"S15","v":1344},{"$f":"T15","v":2010},null,null,"Зеркало 1570х526 шлиф",1697,1469]
[null,"Шкаф (420) 1дв 2ящ Шар 2240х420",null,420,13229,17109,13809,15259,11629,11969,12779,13729,null,17139,18589,17129,18459,20603,{"$f":"S16","v":1523},2250,null,null,"Зеркало 1592х318 F10",2010,1900]
[null,"Шкаф (420) 1дв 2ящ Шар 2040х560",null,560,14256,18966,14966,16736,12286,12686,13646,14756,null,18796,20336,18776,20386,22579.7,{"$f":"S17","v":1932},2677,null,null,"Зеркало 1592х318 еврокр",1418,791]
[null,"Шкаф (420) 1дв 2ящ Шар 2240х560",null,560,15258,20448,16048,17988,13088,13528,14568,15788,null,20198,21828,20178,21948,24275.9,{"$f":"S18","v":2190},2995,null,null,"Зеркало 1592х458 F10",2677]
[null,"Шкаф (420) 1дв 2ящ витрина 2040х420",null,420,12572,16092,13102,14412,10360,10600,11240,12060,null,15890,17500,15880,17140,16208.500000000002,{"$error":"#VALUE!"},{"$error":"#VALUE!"},null,null,"Зеркало 1700х320",1523,{"$f":"X23*2","v":3046}]
[null,"Шкаф (420) 1дв 2ящ витрина 2240х420",null,420,13953,17833,14533,15983,11080,11340,12040,12950,null,17130,18840,17110,18510,17329.400000000001,{"$error":"#VALUE!"},{"$error":"#VALUE!"},null,null,"Зеркало 1700х460",2190]
[null,"Шкаф (420) 2дв 1ящ 2040х420",null,420,11106,14636,11636,12946,9656,9956,10706,11566,null,14696,16056,14676,15896,18205,{"$error":"#VALUE!"},{"$error":"#VALUE!"},null,null,"Зеркало 1792х318 F10",2250]
[null,"Шкаф (420) 2дв 1ящ 2240х420",null,420,11962,15842,12552,13992,10362,10692,11512,12452,null,15872,17312,15852,17182,19650.400000000001,{"$error":"#VALUE!"},{"$error":"#VALUE!"},null,null,"Зеркало 1792х318 еврокр",1596]
[null,"Шкаф (420) 2дв 1ящ витрина 2040х420",null,420,11956,15486,12486,13796,9760,9980,10570,11350,null,15400,17200,15380,16620,15808.100000000002,{"$error":"#VALUE!"},{"$error":"#VALUE!"},null,null,"Зеркало 1792х458 F10",2995]
[null,"Шкаф (420) 2дв 1ящ витрина 2240х420",null,420,13015,16895,13605,15045,10578,10818,11468,12328,null,16738,18628,16718,18088,17003.800000000003,{"$error":"#VALUE!"},{"$error":"#VALUE!"},null,null,"Зеркало 1920х300",1613]
[null,"Шкаф (420) 2дв 1ящ шар 2040х420",null,420,11356,14886,11886,13196,9906,10206,10956,11816,null,14946,16306,14926,16146,18418.400000000001,0,0,null,null,"Зеркало 1992х318 F10",2490,{"$f":"X29*2","v":4980}]
[null,"Шкаф (420) 2дв 1ящ шар 2240х420",null,420,12201,16081,12791,14231,10601,10931,11751,12691,null,16111,17551,16091,17421,19856.100000000002,0,0,null,null,"Зеркало 1992х458 F10",3314]
[null,"Шкаф (420) 2дв 1ящ шар витрина 2040х420",null,420,12332,15862,12862,14172,10136,10356,10946,11726,null,15776,17576,15756,16996,16162.300000000001,0,0,null,null,"Зеркало 2028х384 F10",2984]
[null,"Шкаф (420) 2дв 1ящ шар витрина 2240х420",null,420,13248,17128,13838,15278,10811,11051,11701,12561,null,16971,18861,16951,18321,17205.100000000002,0,0,null,null,"Зеркало 2192х318 F10",2730,{"$f":"X32*2","v":5460}]
[null,"Шкаф (420) 2дв 2040х840",null,840,17798,24878,18878,21518,14818,15378,16778,18438,null,24378,26398,24338,26758,30195.000000000004,{"$f":"Y16","v":2688},{"$f":"Y29","v":4980},null,null,"Зеркало 2192х458 F10",3632]
[null,"Шкаф (420) 2дв 2240х840 ",null,840,19305,27065,20465,23385,16025,16625,18165,19985,null,26485,28685,26445,29105,32844.9,{"$f":"Y23","v":3046},{"$f":"Y32","v":5460},null,null,"Зеркало 520х690 еврокр",1015]
[null,"Шкаф (420) комб 2дв 2040х840",null,840,19323,26403,20403,23043,16343,16903,18303,19963,null,25903,27923,25863,28283,31658.000000000004,{"$f":"S33","v":2688},{"$f":"T33","v":4980},null,null,"Зеркало 568х688 3 мм. фиг.",1071]
[null,"Шкаф (420) комб 2дв 2240х840 ",null,840,20685,28445,21845,24765,17405,18005,19545,21365,null,27865,30065,27825,30485,34170.400000000001,{"$f":"S34","v":3046},{"$f":"T34","v":5460},null,null,"Зеркало 600х560 (прямое) F10",1441]
[null,"Шкаф (420) 2дв витрина 2040х840",null,840,21870,28950,22950,25590,15058,15458,16638,18198,null,25798,28358,25758,28338,24163.7,{"$error":"#VALUE!"},{"$error":"#VALUE!"},null,null,"Зеркало 600х560 (трапеция) F10",1441]
[null,"Шкаф (420) 2дв витрина 2240х840",null,840,23777,31537,24937,27857,16261,16681,17981,19701,null,28021,30761,27981,30841,26141.500000000004,{"$error":"#VALUE!"},{"$error":"#VALUE!"},null,null,"Зеркало 600х760 (прямое) F10",1711]
[null,"Шкаф (420) 2дв 2ящ 2040х840",null,840,19010,26050,20090,22710,16090,16690,18170,19870,null,26050,28610,26010,28430,32301.500000000004,{"$f":"S33","v":2688},{"$f":"T33","v":4980},null,null,"Зеркало 600х760 (трапеция) F10",1711]
[null,"Шкаф (420) 2дв 2ящ 2240х840",null,840,20525,28285,21705,24605,17305,17965,19585,21445,null,28185,30925,28165,30825,34982.200000000004,{"$f":"S34","v":3046},{"$f":"T34","v":5460},null,null,"Зеркало 600х960 (прямое) F10",1974]
[null,"Шкаф (420) 2дв 2ящ витрина 2040х840",null,840,22224,29264,23304,25924,16276,16736,18016,19616,null,27196,30256,27176,29696,27596.800000000003,{"$error":"#VALUE!"},{"$error":"#VALUE!"},null,null,"Зеркало 600х960 (трапеция) F10",1974]
[null,"Шкаф (420) 2дв 2ящ витрина 2240х840",null,840,23872,31632,25052,27952,17222,17722,19122,20902,null,29182,32442,29142,31942,29315.000000000004,{"$error":"#VALUE!"},{"$error":"#VALUE!"},null,null,"Зеркало 700х600",744]
[null,"Шкаф (420) 2дв 2ящ шар 2040х840",null,840,19235,26275,20315,22935,16315,16915,18395,20095,null,26275,28835,26235,28655,32439.000000000004,{"$error":"#VALUE!"},{"$error":"#VALUE!"},null,null,"Зеркало 800х580",823]
[null,"Шкаф (420) 2дв 2ящ шар 2240х840",null,840,20723,28483,21903,24803,17503,18163,19783,21643,null,28383,31123,28363,31023,35090,{"$error":"#VALUE!"},{"$error":"#VALUE!"},null,null,"Зеркало 700х600",520]
[null,"Шкаф (420) 2дв 2ящ шар витрина 2040х840",null,840,22442,29482,23522,26142,16494,16954,18234,19834,null,27414,30474,27394,29914,27728.800000000003,{"$error":"#VALUE!"},{"$error":"#VALUE!"},null,null,"Зеркало 800х580",575]
[null,"Шкаф (420) 2дв 2ящ шар витрина 2240х840",null,840,24598,32358,25778,28678,17948,18448,19848,21628,null,29908,33168,29868,32668,30004.7,{"$error":"#VALUE!"},{"$error":"#VALUE!"}]
[null,"Шкаф (420) 1дв полувитрина 2040х420",null,"420х440х2040",11633,15173,12173,13493,9401,9601,10191,10971,null,14771,16051,14751,16041,13886.400000000001,{"$error":"#VALUE!"},{"$error":"#VALUE!"}]
[null,"Шкаф (420) 1дв полувитрина 2040х560",null,"560х440х2040",13732,18452,14442,16212,10667,10927,11717,12757,null,17567,18977,17537,19257,15275.7,{"$error":"#VALUE!"},{"$error":"#VALUE!"}]
[null,"Шкаф (420) 1дв полувитрина 2240х420",null,"420х440х2240",13046,16926,13626,15086,10153,10363,11013,11873,null,16033,17403,16013,17443,15016.1,{"$error":"#VALUE!"},{"$error":"#VALUE!"}]
[null,"Шкаф (420) 1дв полувитрина 2240х560",null,"560х440х2240",14952,20142,15732,17672,11539,11829,12699,13849,null,19099,20599,19069,20969,16536.300000000003,{"$error":"#VALUE!"},{"$error":"#VALUE!"}]
[null,"Шкаф (420) 2дв полувитрина 2040х840",null,"840х440х2040",21177,28257,22257,24897,15209,15609,16789,18349,null,25949,28509,25909,28489,24289.100000000002,{"$error":"#VALUE!"},{"$error":"#VALUE!"}]
[null,"Шкаф (420) 2дв полувитрина 2240х840",null,"840х440х2240",23106,30866,24266,27186,16436,16856,18156,19876,null,28196,30936,28156,31016,26279.000000000004,{"$error":"#VALUE!"},{"$error":"#VALUE!"}]
[null,"Шкаф (420) 1дв витрина 1дв глух 2040х420",null,"420х440х2040",12263,15793,12803,14113,10031,10261,10881,11681,null,15421,16861,15411,16671,15750.900000000001,{"$error":"#VALUE!"},{"$error":"#VALUE!"}]
[null,"Шкаф (420) 1дв витрина 1дв глух 2040х560",null,"560х440х2040",14366,19076,15076,16836,11291,11581,12411,13471,null,18231,19851,18211,19891,17662.7,{"$error":"#VALUE!"},{"$error":"#VALUE!"}]
[null,"Шкаф (420) 1дв витрина 1дв глух 2240х420",null,"420х440х2240",13667,17557,14257,15707,10774,11024,11704,12594,null,16684,18224,16664,18064,16882.800000000003,{"$error":"#VALUE!"},{"$error":"#VALUE!"}]
[null,"Шкаф (420) 1дв витрина 1дв глух 2240х560",null,"560х440х2240",15579,20769,16369,18299,12166,12486,13396,14566,null,19766,21486,19746,21606,18916.7,{"$error":"#VALUE!"},{"$error":"#VALUE!"}]
[null,"Шкаф (420) 1дв витрина зеркало 1дв глух 2040х420",null,"420х440х2040",15508,19038,16048,17358,13276,13506,14126,14926,2226,18666,20106,18656,19916,18713.2,0,0]
[null,"Шкаф (420) 1дв витрина зеркало 1дв глух 2040х560",null,"560х440х2040",18423,23133,19133,20893,15348,15638,16468,17528,2051,22288,23908,22268,23948,21205.800000000003,0,0]
[null,"Шкаф (420) 2дв витрина 2дв глух 2040х840",null,"840х440х2040",22333,29393,23413,26033,16365,16825,18065,19665,null,27145,30025,27125,29645,27926.800000000003,0,0]
[null,"Шкаф (420) 2дв витрина 2дв глух 2240х840",null,"840х440х2240",24246,32026,25426,28326,17576,18076,19436,21216,null,29396,32476,29356,32156,29921.100000000002,0,0]
[null,"Шкаф (420) ДО 1дв 2040х560",null,"560х440х2040",11980,16700,12690,14460,9960,10310,11200,12290,null,16110,17180,16090,17700,19408.400000000001,{"$f":"X17","v":1932},{"$f":"X30","v":3314}]
[null,"Шкаф (420) ДО 1дв 2240х560 ",null,"560х440х2240",12712,17902,13492,15432,10492,10872,11842,13032,null,17232,18382,17202,18982,20836.2,{"$f":"X24","v":2190},{"$f":"X33","v":3632}]
[null,"Шкаф (420) ДО 2дв 2040х840",null,840,16926,24006,18006,20646,13946,14506,15906,17566,null,23506,25526,23466,25886,29291.9,{"$f":"S39","v":2688},4980]
[null,"Шкаф (420) ДО 2дв 2240х840",null,840,17951,25711,19111,22031,14671,15271,16811,18631,null,25131,27331,25091,27751,31442.400000000001,{"$f":"S40","v":3046},5460]
[null,"Шкаф (420) ДО 2дв 2ящ 2040х840",null,840,18209,25249,19289,21909,15289,15889,17369,19069,null,25249,27809,25209,27629,31450.100000000002,{"$f":"S63","v":2688},4020]
[null,"Шкаф (420) ДО 2дв 2ящ 2240х840",null,840,19214,26974,20394,23294,15994,16654,18274,20134,null,26874,29614,26854,29514,33601.700000000004,{"$f":"S64","v":3046},4500]
[null,"Шкаф (420) ДО 2дв 2ящ шар 2040х840",null,840,19040,26080,20120,22740,16120,16720,18200,19900,null,26080,28640,26040,28460,32243.200000000004,2688,{"$f":"T65","v":4020}]
[null,"Шкаф (420) ДО 2дв 2ящ шар 2240х840",null,840,20055,27815,21235,24135,16835,17495,19115,20975,null,27715,30455,27695,30355,34404.700000000004,3046,{"$f":"T66","v":4500}]
[null,"Шкаф (420) Ниша 2дв 2040х420",null,420,10166,12986,10586,11646,8986,9226,9826,10506,null,12966,13986,12966,13926,15825.7,{"$error":"#VALUE!"},{"$error":"#VALUE!"}]
[null,"Шкаф (420) Ниша 2дв 2040х560",null,560,12896,16656,13456,14856,11296,11616,12356,13256,null,16436,17576,16416,17716,19911.100000000002,0,0]
[null,"Шкаф (420) Ниша 2дв 2240х420",null,420,11045,14215,11525,12715,9715,9985,10645,11415,null,14165,15265,14155,15245,17289.800000000003,{"$error":"#VALUE!"},{"$error":"#VALUE!"}]
[null,"Шкаф (420) Ниша 2дв 2240х560",null,560,14160,18400,14800,16380,12370,12710,13540,14550,null,18100,19320,18080,19540,21901,0,0]
[null,"Шкаф (420) Ниша 4дв 2040х840",null,840,16982,22622,17822,19942,14622,15102,16302,17662,null,22582,24622,22582,24502,28373.4,{"$error":"#VALUE!"},{"$error":"#VALUE!"}]
[null,"Шкаф (420) Ниша 4дв 2240х840",null,840,20503,26843,21463,23843,17843,18383,19703,21243,null,26743,28943,26723,28903,33266.200000000004,{"$error":"#VALUE!"},{"$error":"#VALUE!"}]
[null,"Шкаф (420) Торцевой 2040х420 ЛЕВ\\ПР",null,420,13306,18906,14156,16246,10986,11456,12616,13956,null,18826,20776,18796,20716,22976.800000000003,{"$error":"#VALUE!"},{"$error":"#VALUE!"}]
[null,"Шкаф (420) Торцевой 2240х420 ЛЕВ\\ПР",null,420,14355,20525,15285,17595,11795,12315,13585,15065,null,20405,22525,20375,22485,24911.7,{"$error":"#VALUE!"},{"$error":"#VALUE!"}]
[null,"Шкаф (420) 4 двери, 1160х1120",null,"1120х440х1160",16223,21463,17023,18983,14023,14463,15583,16823,null,21423,23303,21423,23223,26703.600000000002,{"$error":"#VALUE!"},{"$error":"#VALUE!"}]
[null,"Шкафы глубиной 560мм"]
[null,"Шкаф (560) 1дв 2040х420",null,420,11792,15332,12332,13652,10302,10582,11282,12112,null,15082,16092,15062,16272,18014.7,{"$f":"S4","v":1344},{"$f":"T4","v":2490}]
[null,"Шкаф (560) 1дв 2040х560",null,560,13873,18593,14583,16353,11853,12203,13093,14183,null,18003,19073,17983,19593,21396.100000000002,{"$f":"S5","v":1932},3314]
[null,"Шкаф (560) 1дв 2240х420",null,420,12962,16842,13542,15002,11322,11622,12392,13302,null,16552,17652,16532,17862,19731.800000000003,{"$f":"S6","v":1523},2730]
[null,"Шкаф (560) 1дв 2240х560",null,560,15077,20267,15857,17797,12857,13237,14207,15397,null,19597,20747,19567,21347,23311.200000000001,{"$f":"S7","v":2190},3632]
[null,"Шкаф (560) 1дв 2ящ 2040х420",null,"420х580х2040",13488,17008,14018,15328,12038,12348,13088,13958,null,17088,18448,17068,18278,20425.900000000001,{"$f":"S15","v":1344},{"$f":"T15","v":2010}]
[null,"Шкаф (560) 1дв 2ящ 2040х560",null,560,15308,20018,16018,17788,13338,13738,14698,15808,null,19848,21388,19828,21438,23741.300000000003,{"$f":"S17","v":1932},{"$f":"T17","v":2677}]
[null,"Шкаф (560) 1дв 2ящ 2240х420",null,"420х580х2240",14284,18164,14864,16314,12684,13024,13834,14784,null,18194,19644,18184,19514,21789.9,{"$f":"S16","v":1523},{"$f":"T16","v":2250}]
[null,"Шкаф (560) 1дв 2ящ 2240х560",null,560,16528,21718,17318,19258,14358,14798,15838,17058,null,21468,23098,21448,23218,25687.200000000001,{"$f":"S18","v":2190},{"$f":"T18","v":2995}]
[null,"Шкаф (560) 2дв 1ящ 2040х560",null,560,14272,18982,15002,16762,12312,12712,13672,14792,null,18832,20372,18812,20412,23016.400000000001,{"$error":"#VALUE!"},{"$error":"#VALUE!"}]
[null,"Шкаф (560) 2дв 1ящ 2240х560",null,560,15510,20690,16300,18240,13340,13780,14820,16040,null,20460,22080,20430,22200,24970.000000000004,{"$error":"#VALUE!"},{"$error":"#VALUE!"}]
[null,"Шкаф (560) 2дв 2040х840 ",null,840,19641,26721,20721,23361,16661,17221,18621,20281,null,26221,28241,26181,28601,32102.400000000001,{"$f":"S33","v":2688},{"$f":"T33","v":4980}]
[null,"Шкаф (560) 2дв 2240х840",null,840,21374,29134,22534,25454,18094,18694,20234,22054,null,28554,30754,28514,31174,34991,{"$f":"S34","v":3046},{"$f":"T34","v":5460}]
[null,"Шкаф (560) 2дв 2ящ 2040х840",null,840,20840,27880,21920,24540,17920,18520,20000,21700,null,27880,30440,27840,30260,34219.9,{"$f":"S39","v":2688},{"$f":"T39","v":4980}]
[null,"Шкаф (560) 2дв 2ящ 2240х840",null,840,22553,30313,23733,26633,19333,19993,21613,23473,null,30213,32953,30193,32853,37108.5,{"$f":"S40","v":3046},{"$f":"T40","v":5460}]
[null,"Шкаф (560) ДО 1дв 2040х420",null,420,11148,14688,11688,13008,9658,9938,10638,11468,null,14438,15448,14418,15628,17341.5,{"$f":"S4","v":1344},{"$f":"T4","v":2490}]
[null,"Шкаф (560) ДО 1дв 2040х560",null,560,12801,17521,13511,15281,10781,11131,12021,13111,null,16931,18001,16911,18521,20326.900000000001,{"$f":"S5","v":1932},3314]
[null,"Шкаф (560) ДО 1дв 2240х420",null,420,11855,15735,12435,13895,10215,10515,11285,12195,null,15445,16545,15425,16755,18615.300000000003,1523,2730]
[null,"Шкаф (560) ДО 1дв 2240х560",null,560,13589,18779,14369,16309,11369,11749,12719,13909,null,18109,19259,18079,19859,21814.100000000002,2190,3632]
[null,"Шкаф (560) ДО 2дв 2040х840",null,840,18131,25211,19211,21851,15151,15711,17111,18771,null,24711,26731,24671,27091,30569.000000000004,{"$f":"S33","v":2688},5984.6600000000008]
[null," Шкаф (560) ДО 2дв 2040х1120",null,1120,21576,31016,22996,26536,17536,18236,20016,22196,null,29836,31976,29796,33016,36626.700000000004,3864,7463.2800000000007]
[null,"Шкаф (560) ДО 2дв 2240х840",null,840,19225,26985,20385,23305,15945,16545,18085,19905,null,26405,28605,26365,29025,32794.300000000003,{"$f":"S64","v":3046},{"$f":"T64","v":5460}]
[null,"Шкаф (560) ДО 2дв 2240х1120",null,1120,22889,33269,24449,28329,18449,19209,21149,23529,null,31929,34229,31869,35429,39326.100000000006,{"$f":"X24*2","v":4380},{"$f":"X33*2","v":7264}]
[null,"Шкаф (560) ДО 2дв 2ящ 2040х840",null,840,20361,27401,21441,24061,17441,18041,19521,21221,null,27401,29961,27361,29781,33660,{"$f":"S91","v":2688},{"$f":"T91","v":4980}]
[null,"Шкаф (560) ДО 2дв 2ящ 2240х840",null,840,21436,29196,22616,25516,18216,18876,20496,22356,null,29096,31836,29076,31736,35885.300000000003,{"$f":"S92","v":3046},{"$f":"T92","v":5460}]
[null," Шкаф (560) Комб 2дв 2040х840",null,840,21063,28143,22143,24783,18083,18643,20043,21703,null,27643,29663,27603,30023,33490.600000000006,{"$f":"S89","v":2688},{"$f":"T89","v":4980}]
[null,"Шкаф (560) Комб 2дв 2240х840",null,840,22606,30366,23766,26686,19326,19926,21466,23286,null,29786,31986,29746,32406,36186.700000000004,{"$f":"S90","v":3046},{"$f":"T90","v":5460}]
[null," Шкаф (560) Комб 2дв 2040х1120",null,1120,24294,33734,25714,29254,20254,20954,22734,24914,null,32554,34694,32514,35734,39365.700000000004,{"$f":"S98","v":3864},{"$f":"T98","v":7463.2800000000007}]
[null,"Шкаф (560) Комб 2дв 2240х1120",null,1120,25968,36348,27528,31408,21528,22288,24228,26608,null,35008,37308,34948,38508,42483.100000000006,{"$f":"S100","v":4380},{"$f":"T100","v":7264}]
[null,"Шкаф (560) Комб 3дв 2040х1260",null,1260,27737,38357,29357,33317,23267,24107,26207,28697,null,37607,40637,37547,41177,46391.4,{"$f":"X16","v":1344},{"$f":"X29","v":2490}]
[null,"Шкаф (560) Комб 3дв 2040х1400",null,1400,29391,41191,31181,35591,24391,25301,27591,30341,null,40101,43191,40041,44071,49359.200000000004,{"$f":"X17","v":1932},{"$f":"X30","v":3314}]
[null,"Шкаф (560) Комб 3дв 2040х1680",null,1680,32869,47029,34999,40309,26809,27859,30529,33799,null,45259,48469,45199,50029,55499.4,{"$f":"S108","v":1932},{"$f":"T108","v":3314}]
[null,"Шкаф (560) Комб 3дв 2240х1260",null,1260,29703,41343,31443,35823,24783,25683,27993,30723,null,40473,43773,40413,44403,50069.8,{"$f":"X23","v":1523},{"$f":"X32","v":2730}]
[null,"Шкаф (560) Комб 3дв 2240х1400",null,1400,31445,44395,33385,38245,25945,26925,29435,32445,null,43145,46495,43075,47515,53258.700000000004,{"$f":"X24","v":2190},{"$f":"X33","v":3632}]
[null,"Шкаф (560) Комб 3дв 2240х1680",null,1680,35463,51033,37803,43623,28803,29943,32853,36423,null,49023,52473,48933,54273,60146.9,{"$f":"S111","v":2190},{"$f":"T111","v":3632}]
[null,"Шкаф (560) Комб 3дв 2ящ 2040х1400",null,1400,33122,44912,34912,39322,28172,29132,31492,34262,null,44242,47802,44182,48212,53945.100000000006,{"$f":"S108","v":1932},{"$f":"T108","v":3314}]
[null,"Шкаф (560) Комб 3дв 2ящ 2040х1680",null,1680,36369,50519,38499,43809,30359,31459,34199,37489,null,49169,52849,49109,53939,59843.3,{"$f":"S109","v":1932},{"$f":"T109","v":3314}]
[]
[null,"Шкафы глубиной 560мм"]
[null,"Наименование","Эскиз","Ширина, мм","Цена руб."]
[null,null,null,null,"1 ЦК","1 ЦК + патина","2 ЦК","3 ЦК","Марго 1 ц.к.","Марго 3 ц.к.",null,null,null,null,null,null,null,null,"Зеркало в рамке*","Зеркало накладное*"]
[null,"Шкаф (560) Комб 3дв 2ящ 2240х1400",null,1400,35400,48350,37350,42210,29950,30990,33570,36610,null,47520,51350,47460,51890,58089.9,{"$f":"S111","v":2190},{"$f":"T111","v":3632}]
[null,"Шкаф (560) Комб 3дв 2ящ 2240х1680",null,1680,38888,54458,41238,47058,32278,33478,36458,40058,null,52868,56798,52788,58118,64472.100000000006,{"$f":"S112","v":2190},{"$f":"T112","v":3632}]
[null,"Шкаф (560) Комб 4дв 2040х1960",null,1960,41137,57657,43637,49817,34117,35377,38557,42397,null,55977,60137,55897,61537,68671.900000000009,{"$f":"S97","v":2688},{"$f":"T97","v":5984.6600000000008}]
[null,"Шкаф (560) Комб 4дв 2240х1960",null,1960,44414,62554,47134,53934,36694,38054,41534,45734,null,60634,65134,60534,66754,74494.200000000012,{"$f":"S104","v":3046},{"$f":"T104","v":5460}]
[null,"Шкаф (560) Комб 4дв 2ящ 2040х1960",null,1960,42189,58669,44689,50849,35229,36529,39789,43669,null,57489,62189,57409,63049,70539.700000000012,{"$f":"S121","v":2688},{"$f":"T121","v":5984.6600000000008}]
[null,"Шкаф (560) Комб 4дв 2ящ 2240х1960",null,1960,45161,63301,47901,54681,37501,38921,42481,46721,null,61861,66901,61781,68001,76076,{"$f":"S122","v":3046},{"$f":"T122","v":5460}]
[null,"Шкаф (560) Торцевой 2040х420 лев./пр",null,420,15798,22578,16818,19358,12948,13488,14838,16428,null,22158,24168,22118,24448,27788.2,{"$error":"#VALUE!"},{"$error":"#VALUE!"}]
[null,"Шкаф (560) Торцевой 2240х420 лев./пр",null,420,17066,24526,18186,20986,13926,14516,15986,17756,null,24026,26216,23996,26546,30133.4,{"$error":"#VALUE!"},{"$error":"#VALUE!"}]
[null,"Шкафы антресольные и стеллажи"]
[null,"Шкаф (340) антр 1 дв. 400х1200",null,"1200х360х400",6071,8091,6381,7131,5231,5401,5811,6301,null,8031,8701,8021,8711,9869.2000000000007]
[null,"Шкаф (340) антр 1 дв. 400х1260",null,"1260х360х400",6183,8303,6503,7293,5303,5473,5903,6413,null,8233,8923,8223,8953,10143.1,"-","-"]
[null,"Шкаф (340) антр 1 дв. 400х840",null,"840х360х400",5017,6427,5227,5757,4427,4557,4847,5187,null,6427,6947,6417,6907,7788.0000000000009,"-","-"]
[null,"Шкаф (340) антр 1 дв. стекло 400х1260",null,"1260х360х400",7377,9497,7697,8487,5389,5509,5859,6319,null,8699,9619,8689,9449,8518.4000000000015,"-","-"]
[null,"Шкаф (340) антр 1 дв. стекло 400х840",null,"840х360х400",5788,7198,5998,6528,4495,4565,4795,5095,null,6755,7485,6755,7245,6793.6,"-","-"]
[null,"Шкаф (340) антр 2 дв. ниша 400х1400",null,"1400х360х400",7486,9366,7766,8466,6726,6886,7306,7766,null,9466,10266,9466,10106,11463.1,"-","-"]
[null,"Шкаф (340) антр 2 дв. ниша 400х1640",null,"1640х360х400",7998,9878,8278,8978,7238,7398,7818,8278,null,9978,10778,9978,10618,11960.300000000001,"-","-"]
[null,"Шкаф (340) антр 2 дв. ниша 400х2040",null,"2040х360х400",9405,11685,9745,10605,8465,8665,9145,9705,null,11745,12645,11725,12505,14019.500000000002,"-","-"]
[null,"Стеллаж (340) навесной 300х300",null,"300х340х300",1030,1030,1030,1030,1030,1030,1030,1030,null,1030,1030,1030,1030,979.00000000000011,"-","-"]
[null,"Стеллаж (340) навесной 300х1260",null,"1260х340х300",2792,2792,2792,2792,2792,2792,2792,2792,null,2792,2792,2792,2792,2775.3,"-","-"]
[null,"Стеллаж (340) 2040х300",null,"300х340х2040",4257,4257,4257,4257,4257,4257,4257,4257,null,4257,4257,4257,4257,4246,"-","-"]
[null,"Стеллаж (340) 2240х300",null,"300х340х2240",4625,4625,4625,4625,4625,4625,4625,4625,null,4625,4625,4625,4625,4622.2000000000007,"-","-"]
[null,"Стеллаж (420) 2040х420",null,"420х420х2040",5405,5405,5405,5405,5405,5405,5405,5405,null,5405,5405,5405,5405,5395.5]
[null,"Стеллаж (420) 2040х560",null,"560х420х2040",6025,6025,6025,6025,6025,6025,6025,6025,null,6025,6025,6025,6025,6034.6]
[null,"Стеллаж (420) 2040х840",null,"840х420х2040",7212,7212,7212,7212,7212,7212,7212,7212,null,7212,7212,7212,7212,7268.8]
[null,"Стеллаж (420) 2240х420",null,"420х420х2240",6016,6016,6016,6016,6016,6016,6016,6016,null,6016,6016,6016,6016,6015.9000000000005]
[null,"Стеллаж (420) 2240х560",null,"560х420х2240",6734,6734,6734,6734,6734,6734,6734,6734,null,6734,6734,6734,6734,6755.1]
[null,"Стеллаж (420) 2240х840",null,"840х420х2240",8107,8107,8107,8107,8107,8107,8107,8107,null,8107,8107,8107,8107,8185.1]
[null,"Стеллаж (420) 2 дв 2240х840",null,"840х420х2240",11761,13181,11981,12501,11201,11341,11661,12021,null,13321,14021,13321,13801,15159.1]
[null,"Стеллаж (420) 2 ящика 2240х560",null,"560х420х2240",10562,11502,10702,11062,10202,10322,10562,10802,null,11762,12402,11762,12082,12767.7]
[null,"Стеллаж навесной (420) Н=600х1260",null,"1260х600х420",5495,5495,5495,5495,5495,5495,5495,5495,null,5495,5495,5495,5495,5310.8]
[null,"Антресоли"]
[null,"Антресоль (420) 1дв 400х420 лев\\пр",null,"420х440х400",3534,4244,3644,3904,3254,3324,3484,3664,null,4314,4664,4314,4554,5150.2000000000007]
[null,"Антресоль (420) 1дв 400х560 лев\\пр",null,"560х440х400",4120,5060,4260,4610,3740,3820,4030,4260,null,5110,5510,5110,5430,6085.2000000000007]
[null,"Антресоль (420) 2дв 400х840",null,"840х440х400",5899,7319,6119,6639,5339,5479,5799,6159,null,7459,8159,7459,7939,9199.3000000000011]
[null,"Антресоль (420) 3дв 400х1260",null,"1260х440х400",8475,10605,8805,9585,7635,7845,8325,8865,null,10815,11865,10815,11535,13433.2]
[null,"Антресоль угл. (420) трап. 400х732х732",null,"732х732",6012,6722,6122,6382,5732,5802,5962,6142,null,6792,7142,6792,7032,7569.1]
[null,"Антресоль (340) 2 дв. 400х840",null,"840х360х400",5665,7085,5885,6405,5105,5245,5565,5925,null,7225,7925,7225,7705,8925.4000000000015]
[null,"Антресоль (340) 2 дв расп. ниша 400х1260",null,"1260х360х400",7032,8452,7252,7772,6472,6612,6932,7292,null,8592,9292,8592,9072,10182.700000000001]
[null,"Антресоль торц (420) 400х420 лев\\пр",null,"420х440х400",4824,5944,4994,5414,4384,4504,4764,5054,null,6124,6734,6114,6504,7648.3]
[null,"Антресоль (560) 1дв 400х420 лев\\пр",null,"420х580х400",4049,4759,4159,4419,3769,3839,3999,4179,null,4829,5179,4829,5069,5640.8]
[null,"Антресоль (560) 1дв 400х560 лев\\пр",null,"560х580х400",4516,5456,4656,5006,4136,4216,4426,4656,null,5506,5906,5506,5826,6506.5000000000009]
[null,"Антресоль (560) 2дв 400х840",null,"840х580х400",6432,7852,6652,7172,5872,6012,6332,6692,null,7992,8692,7992,8472,9736.1]
[null,"Антресоль (560) 2дв 400х1120",null,"1120х580х400",7380,9260,7660,8360,6620,6780,7200,7660,null,9360,10160,9360,10000,11481.800000000001]
[null,"Антресоль (560) 3дв 400х1260",null,"1260х580х400",9231,11361,9561,10341,8391,8601,9081,9621,null,11571,12621,11571,12291,14208.7]
[null,"Антресоль угл. (560) трап. 400х975х975",null,"975х975",7514,8454,7654,8004,7134,7214,7424,7654,null,8504,8904,8504,8824,9661.3000000000011]
[null,"Шкафы угловые и стеллажи торцевые"]
[null," Шкаф Угл (420х420) Трап 2040х732х732",null,"732х732",17446,20986,17986,19306,15956,16236,16936,17766,null,20736,21746,20716,21926,23966.800000000003,{"$f":"S4","v":1344},{"$f":"T4","v":2490}]
[null,"Шкаф Угл (420х420) Трап 2240х732х732",null,"732х732",18324,22204,18904,20364,16684,16984,17754,18664,null,21914,23014,21894,23224,25623.4,{"$f":"S6","v":1523},{"$f":"T6","v":2730}]
[null,"Шкаф Угл (560х420) Прямой 2040х1000 лев/пр.**",null,1000,20762,29182,22032,25182,17172,17812,19432,21382,null,28292,30382,28252,31132,34630.200000000004,{"$f":"S5","v":1932},{"$f":"T5","v":3314}]
[null,"Шкаф Угл (560х420) Прямой 2240х1000 лев/пр**",null,1000,21999,31259,23389,26849,18049,18749,20509,22659,null,30239,32499,30189,33369,37149.200000000004,{"$f":"S7","v":2190},{"$f":"T7","v":3632}]
[null,"Шкаф Угл (560х420) Прямой 2040х1000 ФП ЛДСП лев/пр**",null,1000,18299,23019,19009,20779,16279,16629,17519,18609,null,22429,23499,22409,24019,25714.7,853,2156]
[null,"Шкаф Угл (560х420) Прямой 2240х1000 ФП ЛДСП лев/пр**",null,1000,19337,24527,20117,22057,17117,17497,18467,19657,null,23857,25007,23827,25607,27462.600000000002,{"$f":"S112","v":2190},1808]
[null,"Шкаф Угл (560х420) Трап 2040х830х970 лев **",null,"830х970",20739,25459,21449,23219,18719,19069,19959,21049,null,24869,25939,24849,26459,27966.400000000001,{"$f":"S167","v":1932},{"$f":"T167","v":3314}]
[null,"Шкаф Угл (560х420) Трап 2040х830х970 пр **",null,null,20739,25459,21449,23219,18719,19069,19959,21049,null,24869,25939,24849,26459,27966.400000000001]
[null,"Шкаф Угл (560х420) Трап 2240х830х970 лев**",null,"830х970",21802,26992,22582,24522,19582,19962,20932,22122,null,26322,27472,26292,28072,29741.800000000003,{"$f":"S170","v":2190},{"$f":"T170","v":1808}]
[null,"Шкаф Угл (560х420) Трап 2240х830х970 пр**",null,null,21802,26992,22582,24522,19582,19962,20932,22122,null,26322,27472,26292,28072,29741.800000000003]
[null,"Шкаф Угл (420х420) Комб. Трап 2040х732х732",null,"732х732",18110,21650,18650,19970,16620,16900,17600,18430,null,21400,22410,21380,22590,23966.800000000003,{"$f":"S4","v":1344},2490]
[null,"Шкаф Угл (420х420) Комб. Трап 2240х732х732",null,"732х732",19196,23076,19776,21236,17556,17856,18626,19536,null,22786,23886,22766,24096,25623.4,1932,3314]
[null,"Шкаф Угл (560х560) Трап 2040х970х970",null,"970х970",21737,26457,22447,24217,19717,20067,20957,22047,null,25867,26937,25847,27457,29014.7,1523,2730]
[null,"Шкаф Угл (560х560) Трап 2240х970х970",null,"970х970",22843,28033,23623,25563,20623,21003,21973,23163,null,27363,28513,27333,29113,30836.300000000003,2190,3632]
[null,"Шкаф Угл (560х560) Комб. Трап 2040х975х975",null,"975х975",22782,27502,23492,25262,20762,21112,22002,23092,null,26912,27982,26892,28502,30113.600000000002,{"$f":"S176","v":1932},{"$f":"T176","v":3314}]
[null,"Шкаф Угл (560х560) Комб. Трап 2240х975х975",null,"975х975",23579,28769,24359,26299,21359,21739,22709,23899,null,28099,29249,28069,29849,31625.000000000004,{"$f":"S178","v":2190},{"$f":"T178","v":3632}]
[null,"Стеллаж (420) Торцевой 2040х300 Радиусный",null,300,4487,4487,4487,4487,4487,4487,4487,4487,null,4487,4487,4487,4487,4078.8,"-","-"]
[null,"Стеллаж (420) Торцевой 2240х300  Радиусный",null,300,5013,5013,5013,5013,5013,5013,5013,5013,null,5013,5013,5013,5013,4547.4000000000005,"-","-"]
[null,"Стеллаж (560) Торцевой 2040х300 Радиусный",null,300,5100,5100,5100,5100,5100,5100,5100,5100,null,5100,5100,5100,5100,4743.2000000000007,"-","-"]
[null,"Стеллаж (560) Торцевой 2240х300 Радиусный",null,300,5733,5733,5733,5733,5733,5733,5733,5733,null,5733,5733,5733,5733,5318.5,"-","-"]
[]
[null,"Кровати"]
[null,"Наименование","Эскиз","Ширина, мм","МДФ фасады",null,null,null,"Марго","Марго16",null,null,null,null,"UV-лак",null,"ТСС",null,"ТСС сборный"]
[null,null,null,null,"1 ЦК","1 ЦК + патина","2 ЦК","3 ЦК","1 ц.к.","1 ц.к.","2 ц.к.","3 ц.к.","4 ц.к.","5 ц.к.","UV-лак кромка ABC/AL кромка","кромка 3D","1 ЦК","2 ЦК"]
[null,"Кровать L-2050 мм., без основания и без матраца",null,800,8215,12895,8965,10785,null,5535,5655,5835,5955,null,10695,11955,10675,12275,"-"]
[null,null,null,900,8925,14145,9765,11785,null,5935,6075,6265,6385,null,11635,12985,11615,13405,"-"]
[null,null,null,1200,11051,17851,12151,14781,null,7151,7311,7541,7681,null,14441,16051,14411,16741,"-"]
[null,null,null,1400,12481,20351,13751,16801,null,7961,8141,8391,8551,null,16331,18111,16291,18991,"-"]
[null,null,null,1600,13968,22888,15398,18858,null,8838,9018,9288,9478,null,18258,20198,18218,21278,"-"]
[null,null,null,1800,15635,25605,17235,21095,null,9885,10085,10385,10585,null,20385,22485,20335,23765,"-"]
[null,"Кровать L-2150 мм., без основания и без матраца с наборным изголовьем",null,800,8861,13231,9561,11281,null,6471,6721,7051,7271,null,12241,14631,12231,13741,"-"]
[null,null,null,900,7681,12531,8401,10231,null,5741,6241,7341,8601,null,13251,15821,13211,14891,"-"]
[null,null,null,1200,9091,15411,10031,12411,null,6561,7191,8621,10241,null,16221,19421,16201,18371,"-"]
[null,null,null,1400,12861,20171,14031,16861,null,8851,9161,9691,10051,null,18231,21841,18171,20691,"-"]
[null,null,null,1600,14171,22481,15501,18731,null,9611,9991,10591,10961,null,20201,24251,20171,23001,"-"]
[null,null,null,1800,15501,24801,16981,20591,null,10381,10841,11461,11881,null,22171,26661,22151,25321,"-"]
[null,"Кровать 2 ящика 800х1600",null,800,12706,14286,12946,13526,null,12086,12246,12626,13026,null,14546,15426,14546,15086,"-"]
[null,"Кровать 2 ящика 800х2000",null,800,14307,16267,14607,15347,null,13527,13727,14187,14687,null,16567,17607,16547,17227,"-"]
[null,"Кровать 2 ящика 900х1600",null,900,13418,14998,13658,14238,null,12798,12958,13338,13738,null,15258,16138,15258,15798,"-"]
[null,"Кровать 2 ящика 900х2000",null,900,15117,17077,15417,16157,null,14337,14537,14997,15497,null,17377,18417,17357,18037,"-"]
[null,"Кровать 1 ящик 800х1600",null,800,12619,14379,12879,13539,null,11899,12069,12459,12899,null,14519,15319,14509,15119,"-"]
[null,"Кровать 1 ящик 800х1800",null,800,13784,15754,14084,14824,null,12984,13174,13604,14104,null,15904,16794,15894,16574,"-"]
[null,"Кровать 1 ящик 800х2000",null,800,14625,16805,14955,15765,null,13735,13935,14415,14965,null,16965,17935,16945,17695,"-"]
[null,"Кровать 1 ящик 900х2000",null,900,15601,17781,15931,16741,null,14711,14911,15391,15941,null,17941,18911,17921,18671,"-"]
[null,"Передний бортик для кроватей с 1 и 2 ящ (только ЛДСП)",null,"300х1100",2297,2297,2507,3037,null,1727,1857,2157,2507,null,3237,3237,3227,3707,"-"]
[null,"Кровати с царгами МДФ"]
[null,"Наименование","Эскиз","Ширина, мм","Цена руб."]
[null,null,null,null,"1 ЦК","1 ЦК + патина","2 ЦК","3 ЦК"]
[null,"Кровать L-2050 мм., без основания и без матраца",null,800,10483,19103,11833,15113,null,6203,6723,7783,8903,null,17303,20463,17283,20223,21674.400000000001]
[null,null,null,900,11193,20353,12633,16113,null,6603,7143,8213,9333,null,18243,21493,18223,21353,22752.400000000001]
[null,null,null,1200,13396,24136,15096,19186,null,7896,8456,9566,10706,null,21126,24636,21096,24766,26048.000000000004]
[null,null,null,1400,14826,26636,16696,21206,null,8706,9286,10416,11576,null,23016,26696,22976,27016,28204.000000000004]
[null,null,null,1600,16313,29173,18343,23263,null,9583,10163,11313,12503,null,24943,28783,24903,29303,30406.2]
[null,null,null,1800,17743,31653,19943,25263,null,10393,10993,12173,13373,null,26833,30833,26783,31553,32540.200000000004]
[null,"Кровать L-2150 мм., без основания и без матраца с наборным изголовьем",null,800,11213,19523,12513,15693,null,7223,7873,9083,10303,null,18933,23223,18923,21773,24073.500000000004]
[null,null,null,900,11883,20683,13263,16623,null,7643,8263,9523,10773,null,19943,24413,19903,22923,25272.500000000004]
[null,null,null,1200,13883,24143,15503,19413,null,8793,9503,10853,12163,null,22913,28013,22893,26403,28836.500000000004]
[null,null,null,1400,15213,26463,16983,21273,null,9603,10313,11723,13083,null,24923,30433,24863,28723,31256.500000000004]
[null,null,null,1600,16523,28773,18453,23143,null,10363,11143,12623,13993,null,26893,32843,26863,31033,33654.5]
[null,null,null,1800,17853,31093,19933,25003,null,11133,11993,13493,14913,null,28863,35253,28843,33353,36052.5]
[null,"Кровати с бельевым ящиком"]
[null,"Наименование","Эскиз","Кровать","Габариты мм.","МДФ фасады",null,null,null,"Марго","Марго16",null,null,null,null,"UV-лак",null,"ТСС",null,"ТСС сборный"]
[null,null,null,null,null,"1 ЦК","1 ЦК + патина","2 ЦК","3 ЦК","1 ц.к.","1 ц.к.",null,null,"2 ц.к.","3 ц.к.","UV-лак кромка ABC/AL кромка","кромка 3D","1 ЦК","2 ЦК"]
[null,"Кровать с бельевым ящиком",null,1200,"1300х2075",22566,29366,23666,26296,null,18666,18826,19056,19196,null,25956,27566,25926,28256,30822.000000000004]
[null,null,null,1400,"1500х2075",24726,32596,25996,29046,null,20206,20386,20636,20796,null,28576,30356,28536,31236,34079.100000000006]
[null,null,null,1600,"1700х2075",26857,35777,28287,31747,null,21727,21907,22177,22367,null,31147,33087,31107,34167,37304.300000000003]
[null,null,null,1800,"1900х2075",29008,38978,30608,34468,null,23258,23458,23758,23958,null,33758,35858,33708,37138,40550.400000000001]
[null,"Кровать с бельевым ящиком с царгами в цвет спинок",null,1200,"1300х2075",24855,36515,26695,31125,null,18955,19555,20805,22145,null,33245,36795,33195,37205,36523.300000000003]
[null,null,null,1400,"1500х2075",27034,39764,29044,33894,null,20514,21134,22404,23764,null,35884,39604,35824,40204,39117.100000000006]
[null,null,null,1600,"1700х2075",29213,42993,31383,36643,null,22083,22703,23993,25383,null,38503,42383,38443,43183,41694.400000000001]
[null,null,null,1800,"1900х2075",31359,46189,33699,39359,null,23609,24249,25569,26969,null,41109,45149,41039,46149,44247.5]
[null,"Ортопедическое основание"]
[null,"Наименование","Эскиз","Ширина, мм"]
[null,null,null,800,900,1200,1400,1600,1800]
[null,"Ортопедическое основание",null,2900,3100,4560,4770,5810,5200]
[null,"Ортопедическое основание с подъемным механизмом",null,null,null,5500,5700,6000,6220]
[null,"Ортопедическое основание для кровати \"Лаура\""]
[null,"Наименование","Эскиз","Ширина, мм"]
[null,null,null,800,900,1200,1400,1600,1800]
[null,"Ортопедическое основание с круглыми опорами для кровати наборным изголовьем",null,3250,3300,5000,5230,6260,5640]
[null,"Матрацы"]
[null,"Наименование","Эскиз","Ширина, мм"]
[null,null,null,800,900,1200,1400,1600,1800,2000]
[null,"Матрац Жаккард, L-2000",null,5980,6370,8060,8970,9750,10660]
[null,"Матрац Жаккард, L-1600",null,5460,{"$error":"#VALUE!"},{"$error":"#VALUE!"},{"$error":"#VALUE!"},{"$error":"#VALUE!"},{"$error":"#VALUE!"}]
[null,"Тумбы"]
[null,"Тумба TV (560) 2ящ 460х1260",null,null,18834,24104,19664,21674,null,16194,16494,17104,17734,null,22964,24964,22934,24754,24286.9]
[null,"Тумба TV (560) 2ящ 460х840",null,null,15548,19068,16108,17448,null,13808,14008,14448,14868,null,18418,19898,18408,19618,18585.600000000002]
[null,"Тумба TV (560) 4ящ 460х1680",null,null,30092,37122,31212,33892,null,26582,26952,27812,28622,null,35612,38322,35592,38002,35355.100000000006]
[null,"Тумба TV (560) 4ящ 460х2520",null,null,37519,48059,39179,43189,null,32219,32789,33969,35219,null,45549,49299,45479,49139,47721.3]
[null,"Тумба TV (560) Ниша 1 ящ 460х1260",null,null,16272,21542,17102,19112,null,13632,13872,14402,14982,null,20622,22752,20602,22422,23185.800000000003]
[null,"Тумба TV (560) Ниша 1ящ 460х840",null,null,11664,15184,12224,13564,null,9914,10084,10454,10844,null,14684,16264,14674,15884,16299.800000000001]
[null,"Тумба TV (560) Ниша 3ящ 460х1680",null,null,26931,33961,28051,30731,null,23411,23751,24541,25321,null,32601,35411,32581,34991,33871.200000000004]
[null,"Тумба TV (560) Ниша 3ящ 460х2520",null,null,34805,45345,36465,40475,null,29505,30015,31115,32315,null,43055,46935,42995,46655,46451.9]
[null,"Тумба (420) 1дв 2ящ 460х1260",null,1260,11118,15648,11838,13558,null,8918,9198,9818,10428,null,14958,16908,14948,16498,19312.7]
[null,"Тумба (420) 1дв 2ящ Шар 460х1261",null,1260,11663,16193,12383,14103,null,9463,9743,10363,10973,null,15503,17453,15493,17043,19801.100000000002]
[null,"Тумба (420) 2дв 460х840",null,840,7888,10918,8368,9508,null,6418,6608,6998,7418,null,10398,11648,10388,11428,13764.300000000001]
[null,"Тумба (420) 2ящ 460х420",null,420,4888,6398,5118,5688,null,4178,4288,4528,4758,null,6388,7278,6388,6898,8219.2000000000007]
[null,"Тумба (420) 2ящ Шар 460х420",null,420,5358,6868,5588,6158,null,4648,4758,4998,5228,null,6858,7748,6858,7368,8624]
[null,"Тумба (420) 2ящ 460х560",null,560,5690,7710,6000,6780,null,4730,4890,5190,5470,null,7580,8650,7580,8270,9763.6]
[null,"Тумба (420) 2ящ Шар 460х560",null,560,6160,8180,6470,7250,null,5200,5360,5660,5940,null,8050,9120,8050,8740,10168.400000000001]
[null,"Тумба (420) 2ящ 460х840",null,840,7272,10282,7752,8892,null,5822,6012,6442,6862,null,9942,11372,9932,10972,12842.500000000002]
[null,"Тумба (420) 3дв 460х1260",null,1260,11615,16165,12335,14055,null,9395,9675,10255,10865,null,15295,17065,15285,16835,20116.800000000003]
[null,"Тумба (420) 3ящ 660х420",null,420,6513,8373,6793,7493,null,5673,5823,6153,6483,null,8483,9633,8483,9113,10725]
[null,"Тумба (420) 3ящ 660х560",null,560,7517,10007,7897,8857,null,6377,6597,7017,7417,null,10007,11397,10007,10857,12685.2]
[null,"Тумба (420) 3ящ 660х840",null,840,9606,13316,10196,11596,null,7886,8146,8756,9356,null,13136,15006,13126,14406,16715.600000000002]
[null,"Тумба (420) 4ящ 860х420",null,420,7889,10099,8219,9049,null,6919,7109,7529,7959,null,10329,11739,10329,11079,13005.300000000001]
[null,"Тумба (420) 4ящ Шар 860х420",null,420,8847,11057,9177,10007,null,7877,8067,8487,8917,null,11287,12697,11287,12037,13828.1]
[null,"Тумба (420) 4ящ 860х560",null,560,9068,12028,9518,10658,null,7748,8028,8568,9088,null,12158,13868,12158,13168,15349.400000000001]
[null,"Тумба (420) 4ящ Шар 860х560",null,560,10026,12986,10476,11616,null,8706,8986,9526,10046,null,13116,14826,13116,14126,16173.300000000001]
[null,"Тумба (420) 4ящ 860х840",null,840,11507,15917,12207,13867,null,9517,9847,10637,11417,null,15897,18207,15887,17407,20163]
[null,"Тумба (420) 4ящ Шар 860х840",null,840,12465,16875,13165,14825,null,10475,10805,11595,12375,null,16855,19165,16845,18365,20986.9]
[null,"Комод (420) 2дв 4ящ 860х1060",null,1060,16287,21867,17137,19247,null,13727,14147,15087,16087,null,21607,24217,21597,23517,27690.300000000003]
[null,"Комод (420) 2дв 4ящ 860х1200",null,1200,17465,23795,18435,20855,null,14555,15065,16125,17205,null,23435,26355,23425,25595,30023.4]
[null,"Комод (420) 2дв 4ящ Шар 860х1060",null,1060,17220,22800,18070,20180,null,14660,15080,16020,17020,null,22540,25150,22530,24450,28493.300000000003]
[null,"Комод (420) 2дв 4ящ Шар 860х1200",null,1200,18546,24876,19516,21936,null,15636,16146,17206,18286,null,24516,27436,24506,26676,30989.200000000001]
[null," Стол туалетный (320) 2дв 1ящ 760х980 Без Зеркала",null,980,10353,13613,10873,12103,null,8813,9063,9543,10073,null,13423,15043,13393,14513,16592.400000000001]
[null,"Зеркало стола туалетного",null,"700х20х820-мдф, 700х20х660-лдсп \"Марго\"",3579,6009,3949,4859,null,2549,2739,3209,3779,null,5209,5209,5199,6029,16823.400000000001]
[null,"Зеркало стола туалетного",null,null,3329,5579,3669,4509,null,2369,2549,2989,3519,null,4829,4829,4819,5599,7453.6,222,null,{"$f":"H283+#REF!","v":{"$error":"#REF!"}}]
[null,"Тумба (420) 1ящ 2 обувницы ",null,"860х560",13544,17904,14004,15104,null,12214,12434,12934,13464,null,18414,19864,18394,19894,19787.900000000001,{"$f":"E284-$T$283","v":13322},{"$f":"F284-$T$283","v":17682}]
[null,"Зеркало настенное"]
[null,"Наименование","Эскиз","Ширина, мм","Цена, руб\\шт."]
[null,"Зеркало настенное (трапеция)",null,560,1450,1450,1450,1450,null,1450,1450,1450,1450,null,1450,1450,1450,1450]
[null,null,null,760,1837,1837,1837,1837,null,1837,1837,1837,1837,null,1837,1837,1837,1837]
[null,null,null,960,2336,2336,2336,2336,null,2336,2336,2336,2336,null,2336,2336,2336,2336]
[null,"Зеркало настенное (прямое)",null,560,1450,1450,1450,1450,null,1450,1450,1450,1450,null,1450,1450,1450,1450]
[null,null,null,760,1963,1963,1963,1963,null,1963,1963,1963,1963,null,1963,1963,1963,1963]
[null,null,null,960,2380,2380,2380,2380,null,2380,2380,2380,2380,null,2380,2380,2380,2380]
[null,"Панель вешалка МДФ"]
[null,"Наименование","Эскиз","Ширина, мм","МДФ фасады"]
[null,null,null,null,"1 ЦК","2 ЦК","3 ЦК"]
[null,"Панель вешалка МДФ 1180",null,420,3560,3880,4660]
[null,null,null,560,4792,5212,6262]
[null,null,null,840,6693,7333,8893]
[null,"Панель вешалка МДФ 1380",null,420,3910,4280,5190]
[null,null,null,560,5252,5742,6962]
[null,null,null,840,7383,8123,9963]
[null,"Панель вешалка МДФ 1580",null,420,4250,4680,5720]
[null,null,null,560,5712,6272,7672]
[null,null,null,840,8073,8923,11023]
[null,"Панель вешалка МДФ 1780",null,420,4600,5070,6250]
[null,null,null,560,6172,6802,8382]
[null,null,null,840,8763,9723,12083]
[]
[null,"Панель настенная ЛДСП"]
[null,"Наименование","Эскиз","Высота","Цена, руб\\шт."]
[null," Панель настенная 400_1154",null,1154,2244,1709.4,1709.4,1709.4]
[null,"Панель настенная 400_1354",null,1354,2357,1815.0000000000002,1815.0000000000002,1815.0000000000002]
[null,"Панель настенная 400_1554",null,1554,2470,1920.6000000000001,1920.6000000000001,1920.6000000000001]
[null,"Панель настенная 400_1754",null,1754,2581,2025.1000000000001,2025.1000000000001,2025.1000000000001]
[null,"Панель настенная 540_1154",null,1154,3039,2280.3000000000002,2280.3000000000002,2280.3000000000002]
[null,"Панель настенная 540_1354",null,1354,3191,2425.5,2425.5,2425.5]
[null,"Панель настенная 540_1554",null,1554,3298,2523.4,2523.4,2523.4]
[null,"Панель настенная 540_1754",null,1754,3497,2715.9,2715.9,2715.9]
[]
[null,"Зеркало настенной панели"]
[null,"Наименование","Эскиз","Ширина, мм","Цена, руб\\шт."]
[null,"Зеркало высотой 1134 мм., для панели настенной",null,398,1758]
[null,null,null,538,2042]
[]
[null,"Полка со штангами угловыми"]
[null,"Наименование","Эскиз","Ширина, мм","Цена, руб\\шт."]
[null,"Полка со штангами угловыми",null,400,1053,709,709,709]
[null,null,null,540,1098,745,745,745]
[null,null,null,820,1206,829,829,829]
[null,null,null,1100,1321,924,924,924]
[null,null,null,1240,1384,973,973,973]
[]
[null,"Столы письменные"]
[null,"Наименование","Эскиз","Ширина, мм","Цена руб."]
[null,null,null,null,"1 ЦК","1 ЦК + патина","2 ЦК","3 ЦК","Марго 1 ц.к.","Марго 3 ц.к."]
[null,"Стол ученика-трансформер",null,"ш-900 г-600",6847,9487,7247,8227,5667,5807,6207,6767,5300.9000000000005]
[null,"Столы письменные (420) 3 ящика (ролик)",null,"1100х600***",9708,13548,10278,11708,8128,8458,9268,10218,7870.5000000000009]
[null,null,null,"1200х600",9992,14092,10602,12132,8312,8662,9512,10522,8082.8000000000011]
[null,null,null,"1300х600",10284,14634,10934,12554,8484,8854,9754,10814,8281.9000000000015]
[null,null,null,"1400х600",10568,15178,11258,12978,8668,9048,9998,11118,8492]
[null,"Столы письменные (420) 3 ящика (шариковые направ)",null,"1100х600***",10426,14266,10996,12426,8846,9176,9986,10936,8441.4000000000015]
[null,null,null,"1200х600",10710,14810,11320,12850,9030,9380,10230,11240,8653.7000000000007]
[null,null,null,"1300х600",11024,15374,11674,13294,9224,9594,10494,11554,8880.3000000000011]
[null,null,null,"1400х600",11287,15897,11977,13697,9387,9767,10717,11837,9065.1]
[null,"Столы письменные (420) без тумбы",null,"900х600***",4576,6866,4926,5776,3616,3796,4236,4776,3346.2000000000003]
[null,null,null,"1200х600",5478,8528,5938,7078,4188,4418,4998,5708,3957.8]
[null,null,null,"1400х600",6093,9653,6633,7963,4583,4843,5523,6343,4381.3]
[null,null,null,"1600х600",6718,10778,7328,8848,4978,5278,6038,6978,4818]
[null,"Столы письменные (560) без тумбы",null,"1100х700***",5833,9083,6323,7543,4443,4683,5293,6043,4527.6000000000004]
[null,null,null,"1200х700",6173,9733,6713,8043,4653,4913,5583,6403,4772.9000000000005]
[null,null,null,"1400х700",6885,11025,7515,9055,5105,5405,6175,7125,5299.8,null,null,null,null,null,{"$f":"G351+$N$350","v":7515},9055,5105]
[null,null,null,"1600х700",7563,12303,8283,10053,5533,5863,6743,7823,5790.4000000000005]
[null,"Тумба стола письменного",null,420,5529,6579,5679,6069,5139,5259,5529,5829,4658.5]
[null,"Тумба стола письменного Шар",null,420,6236,7286,6386,6776,5846,5966,6236,6536,5229.4000000000005]
[null,"Тумба стола письменного Шар",null,560,6936,8346,7146,7686,6396,6576,6936,7296,5790.4000000000005]
[null,"панель для клавиатуры",null,733]
[null,"Тумба под СБ",null,2085]
[null,"Стол руководителя",null,null,23732,35272,25532,29922,17952,18552,19852,21282,17267.800000000003]
[null,"Стол руководителя Шар",null,null,25978,37518,27778,32168,20198,20798,22098,23528,19209.300000000003]
[null,"Стол приставка 1600",null,null,7371,12111,8091,9861,5241,5491,6231,7221,5599]
[null,"Стол приставка 850",null,null,4092,6612,4472,5412,2962,3092,3482,4012,3116.3]
[null,"Полка ЛДСП (200)"]
[null,"Наименование","Эскиз","Ширина, мм","Цена, руб\\шт."]
[null,"Полка ЛДСП (200)",null,800,1302]
[null,null,null,900,1335]
[null,null,null,1400,1935]
[null,null,null,1600,2025]
[]
[null,"Полка ЛДСП (300)"]
[null,"Наименование","Эскиз","Ширина, мм","Цена, руб\\шт."]
[null,"Полка ЛДСП (300)",null,1260,1773]
[null,"Панель настенная полка ЛДСП 22, 500х1680 глубина 216мм.",null,1680]
[]
[null,"Козырек ЛДСП (420)"]
[null,"Наименование","Эскиз","Ширина, мм","Цена, руб\\шт."]
[null,"Козырек (420) ЛДСП",null,1260,826,772.2,772.2,772.2]
[null,null,null,1680,1073,1004.3000000000001,1004.3000000000001,1004.3000000000001]
[null,null,null,840,579,540.1,540.1,540.1]
[]
[]
[null,"Столы компьютерные"]
[null,"Наименование","Эскиз","Ширина, мм","ЛДСП"]
[null,null,null,null,"1 ц.к.","2 ц.к.","3 ц.к.","4 ц.к.","5 ц.к."]
[null,"Стол компьютерный \"Пифагор-Н\"",null,1320,13876,14286,15196,16296,12887.6]
[]
[null,"Столы компьютерные"]
[null,"Наименование","Эскиз","Ширина, мм","ЛДСП"]
[null,null,null,null,"1 ц.к.","2 ц.к.","3 ц.к.","4 ц.к."]
[null,"Стол письменный (500) 1дв. 2ящ.",null,1500,5762,5922,6442,7162]
[null,"Надстройка для стола письменного (500) 1дв. 2ящ.",null,null,1328]

{"sheet":"Альфа_Бета_пр","index":4,"n_rows":52,"n_cols":14,"rows_kept":52,"cut":false,"hidden":false,"merged":[[50,0,50,6],[34,0,34,6],[0,0,0,6],[1,0,2,0],[1,1,2,1],[1,2,2,2],[1,3,1,6],[3,0,3,6],[10,1,11,1],[12,1,13,1],[14,1,15,1],[16,1,17,1],[18,1,19,1],[20,1,21,1],[24,1,25,1],[26,1,27,1]]}
["МЕБЕЛЬ ДЛЯ ГОСТИННОЙ"]
["Наименование","Эскиз","Габариты,  ШхГхВ мм.","МДФ фасады"]
[null,null,null,"1 ЦК","1 ЦК + патина","2 ЦК","3 ЦК"]
["«Бета»"]
["Тумба ТВ 1160",null,"1160х550х460",{"$f":"CEILING('Альфа_Бета_пр (2)'!D5*Титульный!$AY$1,Титульный!$AY$3)","v":13079},{"$f":"CEILING('Альфа_Бета_пр (2)'!E5*Титульный!$AY$1,Титульный!$AY$3)","v":17729},{"$f":"CEILING('Альфа_Бета_пр (2)'!F5*Титульный!$AY$1,Титульный!$AY$3)","v":13819},{"$f":"CEILING('Альфа_Бета_пр (2)'!G5*Титульный!$AY$1,Титульный!$AY$3)","v":15589},null,null,null,null,null,"-","-"]
["Тумба ТВ 1160 ниша",null,"1160х550х460",{"$f":"CEILING('Альфа_Бета_пр (2)'!D6*Титульный!$AY$1,Титульный!$AY$3)","v":11245},{"$f":"CEILING('Альфа_Бета_пр (2)'!E6*Титульный!$AY$1,Титульный!$AY$3)","v":15895},{"$f":"CEILING('Альфа_Бета_пр (2)'!F6*Титульный!$AY$1,Титульный!$AY$3)","v":11985},{"$f":"CEILING('Альфа_Бета_пр (2)'!G6*Титульный!$AY$1,Титульный!$AY$3)","v":13755},null,null,null,null,null,"-","-"]
["Тумба ТВ 1680",null,"1680х550х460",{"$f":"CEILING('Альфа_Бета_пр (2)'!D7*Титульный!$AY$1,Титульный!$AY$3)","v":21126},{"$f":"CEILING('Альфа_Бета_пр (2)'!E7*Титульный!$AY$1,Титульный!$AY$3)","v":27856},{"$f":"CEILING('Альфа_Бета_пр (2)'!F7*Титульный!$AY$1,Титульный!$AY$3)","v":22196},{"$f":"CEILING('Альфа_Бета_пр (2)'!G7*Титульный!$AY$1,Титульный!$AY$3)","v":24756},null,null,null,null,null,"-","-"]
["Тумба ТВ 1680 ниша",null,"1680х550х460",{"$f":"CEILING('Альфа_Бета_пр (2)'!D8*Титульный!$AY$1,Титульный!$AY$3)","v":19205},{"$f":"CEILING('Альфа_Бета_пр (2)'!E8*Титульный!$AY$1,Титульный!$AY$3)","v":25935},{"$f":"CEILING('Альфа_Бета_пр (2)'!F8*Титульный!$AY$1,Титульный!$AY$3)","v":20275},{"$f":"CEILING('Альфа_Бета_пр (2)'!G8*Титульный!$AY$1,Титульный!$AY$3)","v":22835},null,null,null,null,null,"-","-"]
["Тумба ТВ 2320",null,"2320х550х460",{"$f":"CEILING('Альфа_Бета_пр (2)'!D9*Титульный!$AY$1,Титульный!$AY$3)","v":26055},{"$f":"CEILING('Альфа_Бета_пр (2)'!E9*Титульный!$AY$1,Титульный!$AY$3)","v":35355},{"$f":"CEILING('Альфа_Бета_пр (2)'!F9*Титульный!$AY$1,Титульный!$AY$3)","v":27525},{"$f":"CEILING('Альфа_Бета_пр (2)'!G9*Титульный!$AY$1,Титульный!$AY$3)","v":31075},null,null,null,null,null,"-","-"]
["Тумба ТВ 2320 ниша",null,"2320х550х460",{"$f":"CEILING('Альфа_Бета_пр (2)'!D10*Титульный!$AY$1,Титульный!$AY$3)","v":24224},{"$f":"CEILING('Альфа_Бета_пр (2)'!E10*Титульный!$AY$1,Титульный!$AY$3)","v":33524},{"$f":"CEILING('Альфа_Бета_пр (2)'!F10*Титульный!$AY$1,Титульный!$AY$3)","v":25694},{"$f":"CEILING('Альфа_Бета_пр (2)'!G10*Титульный!$AY$1,Титульный!$AY$3)","v":29244},null,null,null,null,null,"-","-"]
["Шкаф 1260х1630 ящики",null,"1260х340х1630",{"$f":"CEILING('Альфа_Бета_пр (2)'!D11*Титульный!$AY$1,Титульный!$AY$3)","v":25304},{"$f":"CEILING('Альфа_Бета_пр (2)'!E11*Титульный!$AY$1,Титульный!$AY$3)","v":33754},{"$f":"CEILING('Альфа_Бета_пр (2)'!F11*Титульный!$AY$1,Титульный!$AY$3)","v":26584},{"$f":"CEILING('Альфа_Бета_пр (2)'!G11*Титульный!$AY$1,Титульный!$AY$3)","v":29734},null,null,null,null,null,"-","-"]
["Шкаф 1260х1630 ящ. стекло",null,"1260х340х1630",{"$f":"CEILING('Альфа_Бета_пр (2)'!D12*Титульный!$AY$1,Титульный!$AY$3)","v":30744},{"$f":"CEILING('Альфа_Бета_пр (2)'!E12*Титульный!$AY$1,Титульный!$AY$3)","v":39194},{"$f":"CEILING('Альфа_Бета_пр (2)'!F12*Титульный!$AY$1,Титульный!$AY$3)","v":32024},{"$f":"CEILING('Альфа_Бета_пр (2)'!G12*Титульный!$AY$1,Титульный!$AY$3)","v":35174},null,null,null,null,null,"-","-"]
["Шкаф 420х1630 Л/П* ",null,"420х340х1630",{"$f":"CEILING('Альфа_Бета_пр (2)'!D13*Титульный!$AY$1,Титульный!$AY$3)","v":8688},{"$f":"CEILING('Альфа_Бета_пр (2)'!E13*Титульный!$AY$1,Титульный!$AY$3)","v":11508},{"$f":"CEILING('Альфа_Бета_пр (2)'!F13*Титульный!$AY$1,Титульный!$AY$3)","v":9118},{"$f":"CEILING('Альфа_Бета_пр (2)'!G13*Титульный!$AY$1,Титульный!$AY$3)","v":10168},null,null,null,null,null,"-","-"]
["Шкаф 420х1630 Л/П* стекло",null,"420х340х1630",{"$f":"CEILING('Альфа_Бета_пр (2)'!D14*Титульный!$AY$1,Титульный!$AY$3)","v":11484},{"$f":"CEILING('Альфа_Бета_пр (2)'!E14*Титульный!$AY$1,Титульный!$AY$3)","v":14304},{"$f":"CEILING('Альфа_Бета_пр (2)'!F14*Титульный!$AY$1,Титульный!$AY$3)","v":11914},{"$f":"CEILING('Альфа_Бета_пр (2)'!G14*Титульный!$AY$1,Титульный!$AY$3)","v":12964},null,null,null,null,null,"-","-"]
["Шкаф 420х2030 1 дв стекло",null,"420х340х2030",{"$f":"CEILING('Альфа_Бета_пр (2)'!D15*Титульный!$AY$1,Титульный!$AY$3)","v":14136},{"$f":"CEILING('Альфа_Бета_пр (2)'!E15*Титульный!$AY$1,Титульный!$AY$3)","v":17676},{"$f":"CEILING('Альфа_Бета_пр (2)'!F15*Титульный!$AY$1,Титульный!$AY$3)","v":14676},{"$f":"CEILING('Альфа_Бета_пр (2)'!G15*Титульный!$AY$1,Титульный!$AY$3)","v":15996},null,null,null,null,null,"-","-"]
["Шкаф 420х2030 2 дв",null,"420х340х2030",{"$f":"CEILING('Альфа_Бета_пр (2)'!D16*Титульный!$AY$1,Титульный!$AY$3)","v":10958},{"$f":"CEILING('Альфа_Бета_пр (2)'!E16*Титульный!$AY$1,Титульный!$AY$3)","v":14478},{"$f":"CEILING('Альфа_Бета_пр (2)'!F16*Титульный!$AY$1,Титульный!$AY$3)","v":11498},{"$f":"CEILING('Альфа_Бета_пр (2)'!G16*Титульный!$AY$1,Титульный!$AY$3)","v":12818},null,null,null,null,null,"-","-"]
["Шкаф 840х1630 2 дв",null,"840х340х1630",{"$f":"CEILING('Альфа_Бета_пр (2)'!D17*Титульный!$AY$1,Титульный!$AY$3)","v":14844},{"$f":"CEILING('Альфа_Бета_пр (2)'!E17*Титульный!$AY$1,Титульный!$AY$3)","v":20484},{"$f":"CEILING('Альфа_Бета_пр (2)'!F17*Титульный!$AY$1,Титульный!$AY$3)","v":15704},{"$f":"CEILING('Альфа_Бета_пр (2)'!G17*Титульный!$AY$1,Титульный!$AY$3)","v":17804},null,null,null,null,null,"-","-"]
["Шкаф 840х1630 2 дв стекло",null,"840х340х1630",{"$f":"CEILING('Альфа_Бета_пр (2)'!D18*Титульный!$AY$1,Титульный!$AY$3)","v":20352},{"$f":"CEILING('Альфа_Бета_пр (2)'!E18*Титульный!$AY$1,Титульный!$AY$3)","v":25992},{"$f":"CEILING('Альфа_Бета_пр (2)'!F18*Титульный!$AY$1,Титульный!$AY$3)","v":21212},{"$f":"CEILING('Альфа_Бета_пр (2)'!G18*Титульный!$AY$1,Титульный!$AY$3)","v":23312},null,null,null,null,null,"-","-"]
["Шкаф 840х2030 2 дв стекло",null,"840х340х2030",{"$f":"CEILING('Альфа_Бета_пр (2)'!D19*Титульный!$AY$1,Титульный!$AY$3)","v":25424},{"$f":"CEILING('Альфа_Бета_пр (2)'!E19*Титульный!$AY$1,Титульный!$AY$3)","v":32504},{"$f":"CEILING('Альфа_Бета_пр (2)'!F19*Титульный!$AY$1,Титульный!$AY$3)","v":26504},{"$f":"CEILING('Альфа_Бета_пр (2)'!G19*Титульный!$AY$1,Титульный!$AY$3)","v":29144},null,null,null,null,null,"-","-"]
["Шкаф 840х2030 4 дв",null,"840х340х2030",{"$f":"CEILING('Альфа_Бета_пр (2)'!D20*Титульный!$AY$1,Титульный!$AY$3)","v":18833},{"$f":"CEILING('Альфа_Бета_пр (2)'!E20*Титульный!$AY$1,Титульный!$AY$3)","v":25873},{"$f":"CEILING('Альфа_Бета_пр (2)'!F20*Титульный!$AY$1,Титульный!$AY$3)","v":19913},{"$f":"CEILING('Альфа_Бета_пр (2)'!G20*Титульный!$AY$1,Титульный!$AY$3)","v":22553},null,null,null,null,null,"-","-"]
["Шкаф антр.навесной 840х420",null,"840х340х420",{"$f":"CEILING('Альфа_Бета_пр (2)'!D21*Титульный!$AY$1,Титульный!$AY$3)","v":5011},{"$f":"CEILING('Альфа_Бета_пр (2)'!E21*Титульный!$AY$1,Титульный!$AY$3)","v":6491},{"$f":"CEILING('Альфа_Бета_пр (2)'!F21*Титульный!$AY$1,Титульный!$AY$3)","v":5231},{"$f":"CEILING('Альфа_Бета_пр (2)'!G21*Титульный!$AY$1,Титульный!$AY$3)","v":5781},null,null,null,null,null,"-","-"]
["Шкаф антр.навесной 840х420 стекло",null,"840х340х420",{"$f":"CEILING('Альфа_Бета_пр (2)'!D22*Титульный!$AY$1,Титульный!$AY$3)","v":5751},{"$f":"CEILING('Альфа_Бета_пр (2)'!E22*Титульный!$AY$1,Титульный!$AY$3)","v":7231},{"$f":"CEILING('Альфа_Бета_пр (2)'!F22*Титульный!$AY$1,Титульный!$AY$3)","v":5971},{"$f":"CEILING('Альфа_Бета_пр (2)'!G22*Титульный!$AY$1,Титульный!$AY$3)","v":6521},null,null,null,null,null,"-","-"]
["Шкаф антр.навесной 1160х420",null,"1160х340х420",{"$f":"CEILING('Альфа_Бета_пр (2)'!D23*Титульный!$AY$1,Титульный!$AY$3)","v":5909},{"$f":"CEILING('Альфа_Бета_пр (2)'!E23*Титульный!$AY$1,Титульный!$AY$3)","v":7959},{"$f":"CEILING('Альфа_Бета_пр (2)'!F23*Титульный!$AY$1,Титульный!$AY$3)","v":6219},{"$f":"CEILING('Альфа_Бета_пр (2)'!G23*Титульный!$AY$1,Титульный!$AY$3)","v":6989},null,null,null,null,null,"-","-"]
["Шкаф антр.навесной 1160х420 стекло",null,"1160х340х420",{"$f":"CEILING('Альфа_Бета_пр (2)'!D24*Титульный!$AY$1,Титульный!$AY$3)","v":7096},{"$f":"CEILING('Альфа_Бета_пр (2)'!E24*Титульный!$AY$1,Титульный!$AY$3)","v":9146},{"$f":"CEILING('Альфа_Бета_пр (2)'!F24*Титульный!$AY$1,Титульный!$AY$3)","v":7406},{"$f":"CEILING('Альфа_Бета_пр (2)'!G24*Титульный!$AY$1,Титульный!$AY$3)","v":8176},null,null,null,null,null,"-","-"]
["Шкаф навесной 420х1200",null,"420х340х1200",{"$f":"CEILING('Альфа_Бета_пр (2)'!D25*Титульный!$AY$1,Титульный!$AY$3)","v":6237},{"$f":"CEILING('Альфа_Бета_пр (2)'!E25*Титульный!$AY$1,Титульный!$AY$3)","v":8357},{"$f":"CEILING('Альфа_Бета_пр (2)'!F25*Титульный!$AY$1,Титульный!$AY$3)","v":6557},{"$f":"CEILING('Альфа_Бета_пр (2)'!G25*Титульный!$AY$1,Титульный!$AY$3)","v":7347},null,null,null,null,null,"-","-"]
["Шкаф навесной 420х1200 стекло",null,"420х340х1200",{"$f":"CEILING('Альфа_Бета_пр (2)'!D26*Титульный!$AY$1,Титульный!$AY$3)","v":8110},{"$f":"CEILING('Альфа_Бета_пр (2)'!E26*Титульный!$AY$1,Титульный!$AY$3)","v":10230},{"$f":"CEILING('Альфа_Бета_пр (2)'!F26*Титульный!$AY$1,Титульный!$AY$3)","v":8430},{"$f":"CEILING('Альфа_Бета_пр (2)'!G26*Титульный!$AY$1,Титульный!$AY$3)","v":9220},null,null,null,null,null,"-","-"]
["Шкаф навесной 420х1400",null,"420х340х1400",{"$f":"CEILING('Альфа_Бета_пр (2)'!D27*Титульный!$AY$1,Титульный!$AY$3)","v":7094},{"$f":"CEILING('Альфа_Бета_пр (2)'!E27*Титульный!$AY$1,Титульный!$AY$3)","v":9564},{"$f":"CEILING('Альфа_Бета_пр (2)'!F27*Титульный!$AY$1,Титульный!$AY$3)","v":7464},{"$f":"CEILING('Альфа_Бета_пр (2)'!G27*Титульный!$AY$1,Титульный!$AY$3)","v":8384},null,null,null,null,null,"-","-"]
["Шкаф навесной 420х1400 стекло",null,"420х340х1400",{"$f":"CEILING('Альфа_Бета_пр (2)'!D28*Титульный!$AY$1,Титульный!$AY$3)","v":9553},{"$f":"CEILING('Альфа_Бета_пр (2)'!E28*Титульный!$AY$1,Титульный!$AY$3)","v":12023},{"$f":"CEILING('Альфа_Бета_пр (2)'!F28*Титульный!$AY$1,Титульный!$AY$3)","v":9923},{"$f":"CEILING('Альфа_Бета_пр (2)'!G28*Титульный!$AY$1,Титульный!$AY$3)","v":10843},null,null,null,null,null,"-","-"]
["Панель 840х400",null,"840х16х398",{"$f":"CEILING('Альфа_Бета_пр (2)'!D29*Титульный!$AY$1,Титульный!$AY$3)","v":1736},{"$f":"CEILING('Альфа_Бета_пр (2)'!E29*Титульный!$AY$1,Титульный!$AY$3)","v":3146},{"$f":"CEILING('Альфа_Бета_пр (2)'!F29*Титульный!$AY$1,Титульный!$AY$3)","v":1946},{"$f":"CEILING('Альфа_Бета_пр (2)'!G29*Титульный!$AY$1,Титульный!$AY$3)","v":2476},null,null,null,null,null,"-","-"]
["Панель 840х400 полка",null,"840х220х398",{"$f":"CEILING('Альфа_Бета_пр (2)'!D30*Титульный!$AY$1,Титульный!$AY$3)","v":3493},{"$f":"CEILING('Альфа_Бета_пр (2)'!E30*Титульный!$AY$1,Титульный!$AY$3)","v":4903},{"$f":"CEILING('Альфа_Бета_пр (2)'!F30*Титульный!$AY$1,Титульный!$AY$3)","v":3703},{"$f":"CEILING('Альфа_Бета_пр (2)'!G30*Титульный!$AY$1,Титульный!$AY$3)","v":4233},null,null,null,null,null,"-","-"]
["Панель 1160х400",null,"1160х16х398",{"$f":"CEILING('Альфа_Бета_пр (2)'!D31*Титульный!$AY$1,Титульный!$AY$3)","v":2256},{"$f":"CEILING('Альфа_Бета_пр (2)'!E31*Титульный!$AY$1,Титульный!$AY$3)","v":4216},{"$f":"CEILING('Альфа_Бета_пр (2)'!F31*Титульный!$AY$1,Титульный!$AY$3)","v":2556},{"$f":"CEILING('Альфа_Бета_пр (2)'!G31*Титульный!$AY$1,Титульный!$AY$3)","v":3286},null,null,null,null,null,"-","-"]
["Панель 1160х400 полка",null,"1160х220х398",{"$f":"CEILING('Альфа_Бета_пр (2)'!D32*Титульный!$AY$1,Титульный!$AY$3)","v":4325},{"$f":"CEILING('Альфа_Бета_пр (2)'!E32*Титульный!$AY$1,Титульный!$AY$3)","v":6285},{"$f":"CEILING('Альфа_Бета_пр (2)'!F32*Титульный!$AY$1,Титульный!$AY$3)","v":4625},{"$f":"CEILING('Альфа_Бета_пр (2)'!G32*Титульный!$AY$1,Титульный!$AY$3)","v":5355},null,null,null,null,null,"-","-"]
["Панель 1360х400",null,"1360х16х398",{"$f":"CEILING('Альфа_Бета_пр (2)'!D33*Титульный!$AY$1,Титульный!$AY$3)","v":2586},{"$f":"CEILING('Альфа_Бета_пр (2)'!E33*Титульный!$AY$1,Титульный!$AY$3)","v":4876},{"$f":"CEILING('Альфа_Бета_пр (2)'!F33*Титульный!$AY$1,Титульный!$AY$3)","v":2936},{"$f":"CEILING('Альфа_Бета_пр (2)'!G33*Титульный!$AY$1,Титульный!$AY$3)","v":3786},null,null,null,null,null,"-","-"]
["Панель 1360х400 полка",null,"1360х220х398",{"$f":"CEILING('Альфа_Бета_пр (2)'!D34*Титульный!$AY$1,Титульный!$AY$3)","v":4849},{"$f":"CEILING('Альфа_Бета_пр (2)'!E34*Титульный!$AY$1,Титульный!$AY$3)","v":7139},{"$f":"CEILING('Альфа_Бета_пр (2)'!F34*Титульный!$AY$1,Титульный!$AY$3)","v":5199},{"$f":"CEILING('Альфа_Бета_пр (2)'!G34*Титульный!$AY$1,Титульный!$AY$3)","v":6049},null,null,null,null,null,"-","-"]
["«Альфа»",null,null,null,null,null,null,null,null,null,null,null,"-","-"]
["Шкаф МЦ",null,"840х580х2100",{"$f":"CEILING('Альфа_Бета_пр (2)'!D36*Титульный!$AY$1,Титульный!$AY$3)","v":36403},{"$f":"CEILING('Альфа_Бета_пр (2)'!E36*Титульный!$AY$1,Титульный!$AY$3)","v":44793},{"$f":"CEILING('Альфа_Бета_пр (2)'!F36*Титульный!$AY$1,Титульный!$AY$3)","v":37703},{"$f":"CEILING('Альфа_Бета_пр (2)'!G36*Титульный!$AY$1,Титульный!$AY$3)","v":40843},null,null,null,null,null,"-","-"]
["Шкаф книжный",null,"840х580х2040",{"$f":"CEILING('Альфа_Бета_пр (2)'!D37*Титульный!$AY$1,Титульный!$AY$3)","v":27193},{"$f":"CEILING('Альфа_Бета_пр (2)'!E37*Титульный!$AY$1,Титульный!$AY$3)","v":35193},{"$f":"CEILING('Альфа_Бета_пр (2)'!F37*Титульный!$AY$1,Титульный!$AY$3)","v":28423},{"$f":"CEILING('Альфа_Бета_пр (2)'!G37*Титульный!$AY$1,Титульный!$AY$3)","v":31423},null,null,null,null,null,"-","-"]
["Шкаф комб.низкий",null,"840х580х1540",{"$f":"CEILING('Альфа_Бета_пр (2)'!D38*Титульный!$AY$1,Титульный!$AY$3)","v":19725},{"$f":"CEILING('Альфа_Бета_пр (2)'!E38*Титульный!$AY$1,Титульный!$AY$3)","v":25965},{"$f":"CEILING('Альфа_Бета_пр (2)'!F38*Титульный!$AY$1,Титульный!$AY$3)","v":20695},{"$f":"CEILING('Альфа_Бета_пр (2)'!G38*Титульный!$AY$1,Титульный!$AY$3)","v":23035},null,null,null,null,null,"-","-"]
["Шк комб. с баром",null,"840х580х2040",{"$f":"CEILING('Альфа_Бета_пр (2)'!D39*Титульный!$AY$1,Титульный!$AY$3)","v":22560},{"$f":"CEILING('Альфа_Бета_пр (2)'!E39*Титульный!$AY$1,Титульный!$AY$3)","v":29500},{"$f":"CEILING('Альфа_Бета_пр (2)'!F39*Титульный!$AY$1,Титульный!$AY$3)","v":23630},{"$f":"CEILING('Альфа_Бета_пр (2)'!G39*Титульный!$AY$1,Титульный!$AY$3)","v":26220},null,null,null,null,null,"-","-"]
["Шкаф ТВ высокий",null,"840х580х2040",{"$f":"CEILING('Альфа_Бета_пр (2)'!D40*Титульный!$AY$1,Титульный!$AY$3)","v":19783},{"$f":"CEILING('Альфа_Бета_пр (2)'!E40*Титульный!$AY$1,Титульный!$AY$3)","v":26023},{"$f":"CEILING('Альфа_Бета_пр (2)'!F40*Титульный!$AY$1,Титульный!$AY$3)","v":20753},{"$f":"CEILING('Альфа_Бета_пр (2)'!G40*Титульный!$AY$1,Титульный!$AY$3)","v":23093},null,null,null,null,null,"-","-"]
["Шкаф ТВ низкий",null,"840х580х1540",{"$f":"CEILING('Альфа_Бета_пр (2)'!D41*Титульный!$AY$1,Титульный!$AY$3)","v":15903},{"$f":"CEILING('Альфа_Бета_пр (2)'!E41*Титульный!$AY$1,Титульный!$AY$3)","v":20823},{"$f":"CEILING('Альфа_Бета_пр (2)'!F41*Титульный!$AY$1,Титульный!$AY$3)","v":16663},{"$f":"CEILING('Альфа_Бета_пр (2)'!G41*Титульный!$AY$1,Титульный!$AY$3)","v":18523},null,null,null,null,null,"-","-"]
["Шк комб.с ящ. Л/П*",null,"840х580х2040",{"$f":"CEILING('Альфа_Бета_пр (2)'!D42*Титульный!$AY$1,Титульный!$AY$3)","v":26786},{"$f":"CEILING('Альфа_Бета_пр (2)'!E42*Титульный!$AY$1,Титульный!$AY$3)","v":34116},{"$f":"CEILING('Альфа_Бета_пр (2)'!F42*Титульный!$AY$1,Титульный!$AY$3)","v":27926},{"$f":"CEILING('Альфа_Бета_пр (2)'!G42*Титульный!$AY$1,Титульный!$AY$3)","v":30666},null,null,null,null,null,"-","-"]
["Шкаф ДО",null,"840х580х2040",{"$f":"CEILING('Альфа_Бета_пр (2)'!D43*Титульный!$AY$1,Титульный!$AY$3)","v":18354},{"$f":"CEILING('Альфа_Бета_пр (2)'!E43*Титульный!$AY$1,Титульный!$AY$3)","v":25434},{"$f":"CEILING('Альфа_Бета_пр (2)'!F43*Титульный!$AY$1,Титульный!$AY$3)","v":19434},{"$f":"CEILING('Альфа_Бета_пр (2)'!G43*Титульный!$AY$1,Титульный!$AY$3)","v":22074},null,null,null,null,null,"-","-"]
["Шкаф торц. низ. Л/П*",null,"580х580х1540",{"$f":"CEILING('Альфа_Бета_пр (2)'!D44*Титульный!$AY$1,Титульный!$AY$3)","v":17138},{"$f":"CEILING('Альфа_Бета_пр (2)'!E44*Титульный!$AY$1,Титульный!$AY$3)","v":23328},{"$f":"CEILING('Альфа_Бета_пр (2)'!F44*Титульный!$AY$1,Титульный!$AY$3)","v":18098},{"$f":"CEILING('Альфа_Бета_пр (2)'!G44*Титульный!$AY$1,Титульный!$AY$3)","v":20408},null,null,null,null,null,"-","-"]
["Шкаф торц. Л/П*",null,"580х580х2040",{"$f":"CEILING('Альфа_Бета_пр (2)'!D45*Титульный!$AY$1,Титульный!$AY$3)","v":20884},{"$f":"CEILING('Альфа_Бета_пр (2)'!E45*Титульный!$AY$1,Титульный!$AY$3)","v":28494},{"$f":"CEILING('Альфа_Бета_пр (2)'!F45*Титульный!$AY$1,Титульный!$AY$3)","v":22044},{"$f":"CEILING('Альфа_Бета_пр (2)'!G45*Титульный!$AY$1,Титульный!$AY$3)","v":24904},null,null,null,null,null,"-","-"]
["Тумба ТВ",null,"840х580х700",{"$f":"CEILING('Альфа_Бета_пр (2)'!D46*Титульный!$AY$1,Титульный!$AY$3)","v":10576},{"$f":"CEILING('Альфа_Бета_пр (2)'!E46*Титульный!$AY$1,Титульный!$AY$3)","v":14356},{"$f":"CEILING('Альфа_Бета_пр (2)'!F46*Титульный!$AY$1,Титульный!$AY$3)","v":11166},{"$f":"CEILING('Альфа_Бета_пр (2)'!G46*Титульный!$AY$1,Титульный!$AY$3)","v":12606},null,null,null,null,null,"-","-"]
["Тумба ТВ 1 ящ.",null,"840х580х550",{"$f":"CEILING('Альфа_Бета_пр (2)'!D47*Титульный!$AY$1,Титульный!$AY$3)","v":8882},{"$f":"CEILING('Альфа_Бета_пр (2)'!E47*Титульный!$AY$1,Титульный!$AY$3)","v":12662},{"$f":"CEILING('Альфа_Бета_пр (2)'!F47*Титульный!$AY$1,Титульный!$AY$3)","v":9472},{"$f":"CEILING('Альфа_Бета_пр (2)'!G47*Титульный!$AY$1,Титульный!$AY$3)","v":10912},null,null,null,null,null,"-","-"]
["Тумба угл. Л/П*",null,"580х580х1540",{"$f":"CEILING('Альфа_Бета_пр (2)'!D48*Титульный!$AY$1,Титульный!$AY$3)","v":10925},{"$f":"CEILING('Альфа_Бета_пр (2)'!E48*Титульный!$AY$1,Титульный!$AY$3)","v":15375},{"$f":"CEILING('Альфа_Бета_пр (2)'!F48*Титульный!$AY$1,Титульный!$AY$3)","v":11605},{"$f":"CEILING('Альфа_Бета_пр (2)'!G48*Титульный!$AY$1,Титульный!$AY$3)","v":13295},null,null,null,null,null,"-","-"]
["Полка угл. Л/П*",null,"420х420х420",{"$f":"CEILING('Альфа_Бета_пр (2)'!D49*Титульный!$AY$1,Титульный!$AY$3)","v":1722},{"$f":"CEILING('Альфа_Бета_пр (2)'!E49*Титульный!$AY$1,Титульный!$AY$3)","v":2142},{"$f":"CEILING('Альфа_Бета_пр (2)'!F49*Титульный!$AY$1,Титульный!$AY$3)","v":1782},{"$f":"CEILING('Альфа_Бета_пр (2)'!G49*Титульный!$AY$1,Титульный!$AY$3)","v":1942},null,null,null,null,null,"-","-"]
["Пенал ДБ",null,"420х580х2040",{"$f":"CEILING('Альфа_Бета_пр (2)'!D50*Титульный!$AY$1,Титульный!$AY$3)","v":11715},{"$f":"CEILING('Альфа_Бета_пр (2)'!E50*Титульный!$AY$1,Титульный!$AY$3)","v":15255},{"$f":"CEILING('Альфа_Бета_пр (2)'!F50*Титульный!$AY$1,Титульный!$AY$3)","v":12255},{"$f":"CEILING('Альфа_Бета_пр (2)'!G50*Титульный!$AY$1,Титульный!$AY$3)","v":13575},null,null,null,null,null,"-","-"]
["Сириус"]
["Сириус",null,null,{"$f":"CEILING('Альфа_Бета_пр (2)'!D52*Титульный!$AY$1,Титульный!$AY$3)","v":67665},{"$f":"CEILING('Альфа_Бета_пр (2)'!E52*Титульный!$AY$1,Титульный!$AY$3)","v":93245},{"$f":"CEILING('Альфа_Бета_пр (2)'!F52*Титульный!$AY$1,Титульный!$AY$3)","v":71605},{"$f":"CEILING('Альфа_Бета_пр (2)'!G52*Титульный!$AY$1,Титульный!$AY$3)","v":81245}]

{"sheet":"Альфа_Бета_пр (2)","index":5,"n_rows":52,"n_cols":12,"rows_kept":52,"cut":false,"hidden":true,"merged":[[50,0,50,6],[34,0,34,6],[3,0,3,6],[0,0,0,6],[1,0,2,0],[1,1,2,1],[1,2,2,2],[1,3,1,6]]}
["МЕБЕЛЬ ДЛЯ ГОСТИННОЙ"]
["Наименование","Эскиз","Габариты,  ШхГхВ мм.","МДФ фасады"]
[null,null,null,"1 ЦК","1 ЦК + патина","2 ЦК","3 ЦК",1.1000000000000001]
["«Бета»"]
["Тумба ТВ 1160",null,null,13079,17729,13819,15589,null,{"$f":"D5*$H$3","v":14386.900000000001},{"$f":"E5*$H$3","v":19501.900000000001},15200.900000000001,17147.900000000001]
["Тумба ТВ 1160 ниша",null,null,11245,15895,11985,13755,null,{"$f":"D6*$H$3","v":12369.500000000002},{"$f":"E6*$H$3","v":17484.5},{"$f":"F6*$H$3","v":13183.500000000002},{"$f":"G6*$H$3","v":15130.500000000002}]
["Тумба ТВ 1680",null,null,21126,27856,22196,24756,null,23238.600000000002,30641.600000000002,24415.600000000002,27231.600000000002]
["Тумба ТВ 1680 ниша",null,null,19205,25935,20275,22835,null,21125.5,28528.500000000004,22302.5,25118.500000000004]
["Тумба ТВ 2320",null,null,26055,35355,27525,31075,null,28660.500000000004,38890.5,30277.500000000004,34182.5]
["Тумба ТВ 2320 ниша",null,null,24224,33524,25694,29244,null,26646.400000000001,36876.400000000001,28263.4,32168.400000000001]
["Шкаф 1260х1630 ящики",null,null,25304,33754,26584,29734,null,27834.400000000001,37129.4,29242.400000000001,32707.4]
["Шкаф 1260х1630 ящ. стекло",null,null,30744,39194,32024,35174,null,33818.400000000001,43113.4,35226.400000000001,38691.4]
["Шкаф 420х1630 Л/П* ",null,null,8688,11508,9118,10168,null,9556.8000000000011,12658.800000000001,10029.800000000001,11184.800000000001]
["Шкаф 420х1630 Л/П* стекло",null,null,11484,14304,11914,12964,null,12632.400000000001,15734.400000000001,13105.400000000001,14260.400000000001]
["Шкаф 420х2030 1 дв стекло",null,null,14136,17676,14676,15996,null,15549.6,19443.600000000002,16143.600000000002,17595.600000000002]
["Шкаф 420х2030 2 дв",null,null,10958,14478,11498,12818,null,12053.800000000001,15925.800000000001,12647.800000000001,14099.800000000001]
["Шкаф 840х1630 2 дв",null,null,14844,20484,15704,17804,null,16328.400000000001,22532.400000000001,17274.400000000001,19584.400000000001]
["Шкаф 840х1630 2 дв стекло",null,null,20352,25992,21212,23312,null,22387.200000000001,28591.200000000001,23333.200000000001,25643.200000000001]
["Шкаф 840х2030 2 дв стекло",null,null,25424,32504,26504,29144,null,27966.400000000001,35754.400000000001,29154.400000000001,32058.400000000001]
["Шкаф 840х2030 4 дв",null,null,18833,25873,19913,22553,null,20716.300000000003,28460.300000000003,21904.300000000003,24808.300000000003]
["Шкаф антр.навесной 840х420",null,null,5011,6491,5231,5781,null,5512.1,7140.1,5754.1,6359.1]
["Шкаф антр.навесной 840х420 стекло",null,null,5751,7231,5971,6521,null,6326.1,7954.1,6568.1,7173.1]
["Шкаф антр.навесной 1160х420",null,null,5909,7959,6219,6989,null,6499.9000000000005,8754.9000000000015,6840.9000000000005,7687.9000000000005]
["Шкаф антр.навесной 1160х420 стекло",null,null,7096,9146,7406,8176,null,7805.6,10060.6,8146.6,8993.6]
["Шкаф навесной 420х1200",null,null,6237,8357,6557,7347,null,6860.7000000000007,9192.7000000000007,7212.7000000000007,8081.7000000000007]
["Шкаф навесной 420х1200 стекло",null,null,8110,10230,8430,9220,null,8921,11253,9273,10142]
["Шкаф навесной 420х1400",null,null,7094,9564,7464,8384,null,7803.4000000000005,10520.400000000001,8210.4000000000015,9222.4000000000015]
["Шкаф навесной 420х1400 стекло",null,null,9553,12023,9923,10843,null,10508.300000000001,13225.300000000001,10915.300000000001,11927.300000000001]
["Панель 840х400",null,null,1736,3146,1946,2476,null,1909.6000000000001,3460.6000000000004,2140.6000000000004,2723.6000000000004]
["Панель 840х400 полка",null,null,3493,4903,3703,4233,null,3842.3,5393.3,4073.3,4656.3]
["Панель 1160х400",null,null,2256,4216,2556,3286,null,2481.6000000000004,4637.6000000000004,2811.6000000000004,3614.6000000000004]
["Панель 1160х400 полка",null,null,4325,6285,4625,5355,null,4757.5,6913.5000000000009,5087.5,5890.5000000000009]
["Панель 1360х400",null,null,2586,4876,2936,3786,null,2844.6000000000004,5363.6,3229.6000000000004,4164.6000000000004]
["Панель 1360х400 полка",null,null,4849,7139,5199,6049,null,5333.9000000000005,7852.9000000000005,5718.9000000000005,6653.9000000000005]
["«Альфа»"]
["Шкаф МЦ",null,null,36403,44793,37703,40843,null,40043.300000000003,{"$f":"E36*$H$3","v":49272.3},{"$f":"F36*$H$3","v":41473.300000000003},{"$f":"G36*$H$3","v":44927.3}]
["Шкаф книжный",null,null,27193,35193,28423,31423,null,{"$f":"D37*$H$3","v":29912.300000000003},{"$f":"E37*$H$3","v":38712.300000000003},{"$f":"F37*$H$3","v":31265.300000000003},{"$f":"G37*$H$3","v":34565.300000000003}]
["Шкаф комб.низкий",null,null,19725,25965,20695,23035,null,21697.5,28561.500000000004,22764.500000000004,25338.500000000004]
["Шк комб. с баром",null,null,22560,29500,23630,26220,null,24816.000000000004,32450.000000000004,25993.000000000004,28842.000000000004]
["Шкаф ТВ высокий",null,null,19783,26023,20753,23093,null,21761.300000000003,28625.300000000003,22828.300000000003,25402.300000000003]
["Шкаф ТВ низкий",null,null,15903,20823,16663,18523,null,17493.300000000003,22905.300000000003,18329.300000000003,20375.300000000003]
["Шк комб.с ящ. Л/П*",null,null,26786,34116,27926,30666,null,29464.600000000002,37527.600000000006,30718.600000000002,33732.600000000006]
["Шкаф ДО",null,null,18354,25434,19434,22074,null,20189.400000000001,27977.4,21377.4,24281.4]
["Шкаф торц. низ. Л/П*",null,null,17138,23328,18098,20408,null,18851.800000000003,25660.800000000003,19907.800000000003,22448.800000000003]
["Шкаф торц. Л/П*",null,null,20884,28494,22044,24904,null,22972.400000000001,31343.4,24248.400000000001,27394.400000000001]
["Тумба ТВ",null,null,10576,14356,11166,12606,null,11633.6,15791.600000000002,12282.6,13866.6]
["Тумба ТВ 1 ящ.",null,null,8882,12662,9472,10912,null,9770.2000000000007,13928.2,10419.200000000001,12003.2]
["Тумба угл. Л/П*",null,null,10925,15375,11605,13295,null,12017.500000000002,16912.5,12765.500000000002,14624.500000000002]
["Полка угл. Л/П*",null,null,1722,2142,1782,1942,null,1894.2,2356.2000000000003,1960.2,2136.2000000000003]
["Пенал ДБ",null,null,11715,15255,12255,13575,null,12886.500000000002,16780.5,13480.500000000002,14932.500000000002]
["Сириус",null,null,null,null,null,null,null,0,0,0,0]
["Сириус",null,null,67665,93245,71605,81245,null,74431.5,102569.50000000001,78765.5,89369.5]

{"sheet":"Loft","index":6,"n_rows":79,"n_cols":9,"rows_kept":79,"cut":false,"hidden":false,"merged":[[30,0,30,1],[34,0,34,9],[31,0,31,9],[55,0,55,9],[57,4,58,4],[57,5,58,5],[57,6,58,6],[57,0,58,3],[26,0,26,1],[5,0,5,9],[0,0,0,9],[14,0,14,9],[20,2,20,3],[20,4,20,5],[20,8,20,9],[20,0,20,1],[59,0,59,3],[60,0,60,3],[59,4,60,4],[61,4,62,4],[78,0,78,3],[77,0,77,9],[72,0,72,3],[64,0,64,3],[65,0,65,3],[61,0,61,3],[62,0,62,3],[63,0,63,3],[66,0,66,9],[79,0,79,3],[73,0,73,9],[67,0,68,3],[67,4,68,4],[67,5,68,5],[67,6,68,6],[69,0,69,3],[67,7,67,8],[70,0,70,3],[71,0,71,3],[74,0,74,3],[74,4,76,4],[75,0,75,3],[76,0,76,3]]}
["Loft, краткое описание"]
["Набор мебели для гостиной состоит из модулей с вкладным фасадом, т.е. фасад утоплен во внутрь каркаса."]
["Каркас тумб изготавливается из ЛДСП толщиной 22 мм, а каркас навесных шкафов изготавливается из ЛДСП толщиной 16 мм,"]
["а нижний и верхний горизонты изготавливаются из ЛДСП толщиной 22 мм."]
[]
["Базовая комплектация"]
["1. Каркас модулей изготовлен из ЛДСП оклеенной кромкой ПВХ 0,4 мм. Задняя стенка модулей из облагороженной ХДФ;"]
["2. Фасад UV-лак, толщиной 16 мм. в кромке ABS в цвет фасада;"]
["3. Петли Hettich Sensys плавного закрывания;"]
["4. Полки ЛДСП;"]
["5. Направляющие Blum TUNDEM для деревянных ящиков, без доводчика и частичного выдвижения;"]
["8. Ручка RS-47, белый + металл;"]
["9. Регулируемые ножки PI04 на тумбах;"]
["10. Стекло тонированное в шкафах-витринах."]
["Фасад UV-лак"]
[]
["Варианты цветового решения фасадов:"]
[]
[]
[]
["Белый скандинавский",null,"Черный",null,"Винный красный",null,"Серый шелк","Крем","Оранжевый"]
[]
[]
[]
["Желтый Нарцисс","Мята","Сирень"]
[]
["Ручка"]
[]
[]
[]
["RS-47, хром+белый"]
["Цветовое исполнение каркасов"]
["Дуб шамони темный, Дуб шамони светлый, Сонома"]
[]
["Состав комплекта"]
[]
[]
[]
[]
[]
[]
[]
[]
[]
[]
[]
[]
[]
[]
[]
[]
["1. Шкаф (320) навесной 1246 х 420 мм;",null,null,null,null,"3. Шкаф (320) барный 466х1200 мм.;"]
["2. Тумба (420) 1 ящик 380х1200;",null,null,null,null,"4. Полка ЛДСП 22 300х1200."]
[]
[]
["Прайс-лист"]
[]
["Наименование",null,null,null,"Эскиз","Габариты,  ШхГхВ мм.","Цена, руб"]
[]
["Шкаф (320) навесной 1246х420",null,null,null,null,"420х320х1246",{"$f":"CEILING('Loft (2)'!G60*Титульный!$AY$1,Титульный!$AY$3)","v":9405}]
["Шкаф (320) навесной 1446х420",null,null,null,null,"420х320х1446",{"$f":"CEILING('Loft (2)'!G61*Титульный!$AY$1,Титульный!$AY$3)","v":10572}]
["Шкаф (320) антресольный 466х840",null,null,null,null,"840х320х466",{"$f":"CEILING('Loft (2)'!G62*Титульный!$AY$1,Титульный!$AY$3)","v":7137}]
["Шкаф (320) антресольный 466х1200",null,null,null,null,"1200х320х466",{"$f":"CEILING('Loft (2)'!G63*Титульный!$AY$1,Титульный!$AY$3)","v":9277}]
["Шкаф (320) барный 466х1200",null,null,null,null,"1200х320х466",{"$f":"CEILING('Loft (2)'!G64*Титульный!$AY$1,Титульный!$AY$3)","v":12785}]
["Шкаф (420) 1 дв. 2040х560",null,null,null,null,"560х420х2040",{"$f":"CEILING('Loft (2)'!G65*Титульный!$AY$1,Титульный!$AY$3)","v":16927}]
["Шкаф (420) 2 дв. 2040х840",null,null,null,null,"840х420х2040",{"$f":"CEILING('Loft (2)'!G66*Титульный!$AY$1,Титульный!$AY$3)","v":27066}]
["Тумбы"]
["Наименование",null,null,null,"Эскиз","Габариты,  ШхГхВ мм.","Цена, руб","Замена направляющих"]
[null,null,null,null,null,null,null,"с доводчиком","c Tip-on"]
["Тумба (420) 1 ящ. 380х1200",null,null,null,null,"1200х420х380",{"$f":"CEILING('Loft (2)'!G70*Титульный!$AY$1,Титульный!$AY$3)","v":9699},{"$f":"CEILING('Loft (2)'!H70*Титульный!$AY$1,Титульный!$AY$3)","v":12410},{"$f":"CEILING('Loft (2)'!I70*Титульный!$AY$1,Титульный!$AY$3)","v":12732}]
["Тумба (420) 2 ящ. 380х1200",null,null,null,null,"1200х420х380",{"$f":"CEILING('Loft (2)'!G71*Титульный!$AY$1,Титульный!$AY$3)","v":12785},{"$f":"CEILING('Loft (2)'!H71*Титульный!$AY$1,Титульный!$AY$3)","v":18207},{"$f":"CEILING('Loft (2)'!I71*Титульный!$AY$1,Титульный!$AY$3)","v":18851}]
["Тумба (420) ниша 1 ящ. 380х1200",null,null,null,null,"1200х420х381",{"$f":"CEILING('Loft (2)'!G72*Титульный!$AY$1,Титульный!$AY$3)","v":9123},{"$f":"CEILING('Loft (2)'!H72*Титульный!$AY$1,Титульный!$AY$3)","v":11834},{"$f":"CEILING('Loft (2)'!I72*Титульный!$AY$1,Титульный!$AY$3)","v":12156}]
["Тумба (420) для обуви 860х820 1ящ.",null,null,null,null,"860х420х820",{"$f":"CEILING('Loft (2)'!G73*Титульный!$AY$1,Титульный!$AY$3)","v":11525}]
["Полки"]
["Панель настенная полка ЛДСП 22 300х1200",null,null,null,null,"1200х200х300",{"$f":"CEILING('Loft (2)'!G75*Титульный!$AY$1,Титульный!$AY$3)","v":1597}]
["Панель настенная полка ЛДСП 22 300х1260",null,null,null,null,"1200х200х300",{"$f":"CEILING('Loft (2)'!G76*Титульный!$AY$1,Титульный!$AY$3)","v":1806}]
["Панель настенная полка ЛДСП 22 500х1680",null,null,null,null,"1680х200х500",{"$f":"CEILING('Loft (2)'!G77*Титульный!$AY$1,Титульный!$AY$3)","v":3384}]
["Вешалка"]
["Вешалка (420) 2040х560 Л/Пр",null,null,null,null,"420х560х2040",{"$f":"CEILING('Loft (2)'!G79*Титульный!$AY$1,Титульный!$AY$3)","v":10978}]

{"sheet":"Loft (2)","index":7,"n_rows":79,"n_cols":17,"rows_kept":79,"cut":false,"hidden":true,"merged":[[79,0,79,3],[69,0,69,3],[73,0,73,9],[75,0,75,3],[76,0,76,3],[78,0,78,3],[70,0,70,3],[71,0,71,3],[74,0,74,3],[72,0,72,3],[77,0,77,9],[62,0,62,3],[63,0,63,3],[66,0,66,9],[67,0,68,3],[67,4,68,4],[67,5,68,5],[67,6,68,6],[67,7,67,8],[64,0,64,3],[65,0,65,3],[59,0,59,3],[60,0,60,3],[61,0,61,3],[34,0,34,9],[55,0,55,9],[57,0,58,3],[57,4,58,4],[57,5,58,5],[57,6,58,6],[31,0,31,9],[0,0,0,9],[5,0,5,9],[14,0,14,9],[20,0,20,1],[20,2,20,3],[20,4,20,5],[20,6,20,7],[20,8,20,9],[24,0,24,1],[24,2,24,3],[24,4,24,5],[26,0,26,1],[30,0,30,1]]}
["Loft, краткое описание"]
["Набор мебели для гостиной состоит из модулей с вкладным фасадом, т.е. фасад утоплен во внутрь каркаса."]
["Каркас тумб изготавливается из ЛДСП толщиной 22 мм, а каркас навесных шкафов изготавливается из ЛДСП толщиной 16 мм,"]
["а нижний и верхний горизонты изготавливаются из ЛДСП толщиной 22 мм."]
[]
["Базовая комплектация"]
["1. Каркас модулей изготовлен из ЛДСП оклеенной кромкой ПВХ 0,4 мм. Задняя стенка модулей из облагороженной ХДФ;"]
["2. Фасад UV-лак, толщиной 16 мм. в кромке ABS в цвет фасада;"]
["3. Петли Hettich Sensys плавного закрывания;"]
["4. Полки ЛДСП;"]
["5. Направляющие Blum TUNDEM для деревянных ящиков, без доводчика и частичного выдвижения;"]
["8. Ручка RS-47, белый + металл;"]
["9. Регулируемые ножки PI04 на тумбах;"]
["10. Стекло тонированное в шкафах-витринах."]
["Фасад UV-лак"]
[]
["Варианты цветового решения фасадов:"]
[]
[]
[]
["Белый скандинавский",null,"Черный",null,"Винный красный",null,"Дуб Тортона",null,"Оранжевый"]
[]
[]
[]
["Бирюза",null,"Крем",null,"Лайм"]
[]
["Ручка"]
[]
[]
[]
["RS-47, хром+белый"]
["Цветовое исполнение каркасов"]
["Дуб шамони темный, Дуб шамони светлый, Выбеленное дерево, Каппучино"]
[]
["Состав комплекта"]
[]
[]
[]
[]
[]
[]
[]
[]
[]
[]
[]
[]
[]
[]
[]
[]
["1. Шкаф (320) навесной 1246 х 420 мм;",null,null,null,null,"3. Шкаф (320) барный 466х1260 мм.;"]
["2. Тумба (420) 1 ящик 380х1260;",null,null,null,null,"4. Полка ЛДСП 22 300х1260."]
[]
[]
["Прайс-лист"]
[]
["Наименование",null,null,null,"Эскиз","Габариты,  ШхГхВ мм.","Цена, руб"]
[null,null,null,null,null,null,null,null,1.1000000000000001]
["Шкаф (320) навесной 1246х420",null,null,null,null,null,9405,null,{"$f":"G60*$I$59","v":10345.5}]
["Шкаф (320) навесной 1446х420",null,null,null,null,null,10572,null,{"$f":"G61*$I$59","v":11629.2}]
["Шкаф (320) антресольный 466х840",null,null,null,null,null,7137,null,7850.7000000000007]
["Шкаф (320) антресольный 466х1160",null,null,null,null,null,9277,null,10204.700000000001]
["Шкаф (320) барный 466х1260",null,null,null,null,null,12785,null,14063.500000000002]
["Шкаф (420) 1 дв. 2040х560",null,null,null,null,"560х420х2040",16927,null,18619.7]
["Шкаф (420) 2 дв. 2040х840",null,null,null,null,"840х420х2040",27066,null,29772.600000000002]
["Тумбы"]
["Наименование",null,null,null,"Эскиз","Габариты,  ШхГхВ мм.","Цена, руб","Замена направляющих"]
[null,null,null,null,null,null,null,"с доводчиком","c Tip-on"]
["Тумба (420) 1 ящ. 380х1260",null,null,null,null,720,9699,{"$f":"G70+J70","v":12410},{"$f":"G70+K70","v":12732},2711,3033,null,{"$f":"G70*$I$59","v":10668.900000000001},{"$f":"H70*$I$59","v":13651.000000000002},14005.2,2982.1000000000004,3336.3]
["Тумба (420) 2 ящ. 380х1260",null,null,null,null,{"$f":"F70*2","v":1440},12785,{"$f":"G71+J71","v":18207},{"$f":"G71+K71","v":18851},{"$f":"J70*2","v":5422},{"$f":"K70*2","v":6066},null,{"$f":"G71*$I$59","v":14063.500000000002},20027.7,20736.100000000002,5964.2000000000007,6672.6]
["Тумба (420) ниша 1 ящ. 380х1260",null,null,null,null,456,9123,11834,12156,2711,{"$f":"K70","v":3033},null,10035.300000000001,13017.400000000001,13371.6,2982.1000000000004,3336.3]
["Тумба (420) для обуви 860х820 1ящ.",null,null,null,null,"860х420х820",11525,null,null,null,null,null,12677.500000000002]
["Полки"]
["Панель настенная полка ЛДСП 22 300х1200",null,null,null,null,null,1596.1000000000001,null,null,null,null,null,1755.7100000000003]
["Панель настенная полка ЛДСП 22 300х1260",null,null,null,null,null,1805.1000000000001,null,null,null,null,null,1985.6100000000004]
["Панель настенная полка ЛДСП 22 500х1680",null,null,null,null,null,3383.6000000000004,null,null,null,null,null,3721.9600000000005]
["Вешалка",null,null,null,null,null,null,null,null,null,null,null,0]
["Вешалка (420) 2040х560 Л/Пр",null,null,null,null,"420х560х2040",10978,null,null,null,null,null,12075.800000000001]

{"sheet":"Александрия","index":8,"n_rows":79,"n_cols":5,"rows_kept":79,"cut":false,"hidden":false,"merged":[[62,2,63,2],[64,2,65,2],[66,2,67,2],[68,2,69,2],[73,0,73,8],[70,2,71,2],[77,2,78,2],[75,1,76,1],[75,2,76,2],[75,3,76,3],[75,4,76,4],[2,0,2,8],[0,0,0,8],[55,0,55,8],[57,4,58,4],[59,2,60,2],[3,0,3,7],[57,3,58,3],[57,2,58,2],[57,1,58,1],[12,0,12,8],[26,0,26,8],[45,0,45,8]]}
["Александрия, краткое описание"]
[]
["Базовая комплектация"]
["1. Каркас модулей изготовлен из ЛДСП оклеенной кромкой ПВХ 0,4 мм. Задняя стенка модулей из облагороженной ХДФ;"]
["2. Фасад из МДФ, покрытый пленкой ПВХ \"Кремовый ясень\" с золотой патиной;"]
["3. Петли Hettich Sensys плавного закрывания;"]
["4.","Полки ЛДСП"]
["5. Роликовые направляющие в выкатных ящиках тумб и шкафов;"]
["8. Ручка - кнопка \"Вензель латунь\";"]
["9. Регулируемые ножки PI04;"]
["10. Стекло тонированное в шкафах-витринах."]
[]
["Фасад"]
[]
[]
[]
[]
[]
[]
[]
[]
[]
[]
[]
[]
[]
["Состав комплекта"]
[]
[null,null,null,null,"1. Шкаф (420) 1дв витрина 1дв глух 2040х560;"]
[null,null,null,null,"2. Комод (420) 2дв 4ящ 860х1200;"]
[null,null,null,null,"3. Багетный блок (420) 560 мм."]
[]
[]
[]
[]
[]
[]
[]
[]
[]
[]
[]
[]
[]
[]
["Багетный блок"]
["Багетный блок состоит:"]
[null,null,null,"1. Багет 16, запиленный под необходимым углом;"]
[null,null,null,"2. Панель - козырек \"Классика\""]
[]
[]
[]
["Все составляющие комплекты имеют необходимые сверловки для облегчения процесса сборки и правильной"]
["стыковки багета."]
[]
["Доступные к заказу модули"]
[]
[null,"Наименование","Эскиз","Габариты,  ШхГхВ мм.","Цена, руб"]
[]
[null,"Шкаф (420) 1дв витрина зеркало 1дв глух 2040х420",null,"420х440х2040",{"$f":"CEILING('Александрия (2)'!E60*Титульный!$AY$1,Титульный!$AY$3)","v":19196}]
[null,"Шкаф (420) 1дв витрина зеркало 1дв глух 2040х560",null,"560х440х2040",{"$f":"CEILING('Александрия (2)'!E61*Титульный!$AY$1,Титульный!$AY$3)","v":23291}]
[null,"Стеллаж (420) Торцевой 2040х300 Радиусный",null,"300х420х2040",{"$f":"CEILING('Александрия (2)'!E62*Титульный!$AY$1,Титульный!$AY$3)","v":4487}]
[null,"Тумба TV (560) 2ящ 460х1260",null,"1260х560х460",{"$f":"CEILING('Александрия (2)'!E63*Титульный!$AY$1,Титульный!$AY$3)","v":24262}]
[null,"Тумба TV (560) 2ящ 460х840",null,"840х560х460",{"$f":"CEILING('Александрия (2)'!E64*Титульный!$AY$1,Титульный!$AY$3)","v":19226}]
[null,"Тумба TV (560) 4ящ 460х1680",null,"1680х560х460",{"$f":"CEILING('Александрия (2)'!E65*Титульный!$AY$1,Титульный!$AY$3)","v":37438}]
[null,"Тумба TV (560) 4ящ 460х2520",null,"2520х560х460",{"$f":"CEILING('Александрия (2)'!E66*Титульный!$AY$1,Титульный!$AY$3)","v":48375}]
[null,"Тумба TV (560) Ниша 1 ящ 460х1260",null,"1260х560х460",{"$f":"CEILING('Александрия (2)'!E67*Титульный!$AY$1,Титульный!$AY$3)","v":21621}]
[null,"Тумба TV (560) Ниша 1ящ 460х840",null,"840х560х460",{"$f":"CEILING('Александрия (2)'!E68*Титульный!$AY$1,Титульный!$AY$3)","v":15263}]
[null,"Тумба TV (560) Ниша 3ящ 460х1680",null,"1680х560х460",{"$f":"CEILING('Александрия (2)'!E69*Титульный!$AY$1,Титульный!$AY$3)","v":34198}]
[null,"Тумба TV (560) Ниша 3ящ 460х2520",null,"2520х560х460",{"$f":"CEILING('Александрия (2)'!E70*Титульный!$AY$1,Титульный!$AY$3)","v":45582}]
[null,"Комод (420) 2дв 4ящ 860х1060",null,"1060х440х860",{"$f":"CEILING('Александрия (2)'!E71*Титульный!$AY$1,Титульный!$AY$3)","v":22341}]
[null,"Комод (420) 2дв 4ящ 860х1200",null,"1200х440х860",{"$f":"CEILING('Александрия (2)'!E72*Титульный!$AY$1,Титульный!$AY$3)","v":24269}]
[]
["Дополнительная комплектация"]
[]
[null,"Наименование","Эскиз","Габариты,  ШхГхВ мм.","Цена, руб"]
[]
[null,"Багетный блок (420) 420",null,null,{"$f":"CEILING('Александрия (2)'!E78*Титульный!$AY$1,Титульный!$AY$3)","v":2500}]
[null,"Багетный блок (420) 560",null,null,{"$f":"CEILING('Александрия (2)'!E79*Титульный!$AY$1,Титульный!$AY$3)","v":3100}]

{"sheet":"Александрия (2)","index":9,"n_rows":79,"n_cols":8,"rows_kept":79,"cut":false,"hidden":true,"merged":[[75,3,76,3],[75,4,76,4],[62,2,63,2],[64,2,65,2],[66,2,67,2],[68,2,69,2],[70,2,71,2],[77,2,78,2],[59,2,60,2],[0,0,0,8],[2,0,2,8],[3,0,3,7],[12,0,12,8],[26,0,26,8],[45,0,45,8],[55,0,55,8],[57,1,58,1],[57,2,58,2],[57,3,58,3],[57,4,58,4],[73,0,73,8],[75,1,76,1],[75,2,76,2]]}
["Александрия, краткое описание"]
[]
["Базовая комплектация"]
["1. Каркас модулей изготовлен из ЛДСП оклеенной кромкой ПВХ 0,4 мм. Задняя стенка модулей из облагороженной ХДФ;"]
["2. Фасад из МДФ, покрытый пленкой ПВХ \"Кремовый ясень\" с золотой патиной;"]
["3. Петли Hettich Sensys плавного закрывания;"]
["4.","Полки ЛДСП"]
["5. Роликовые направляющие в выкатных ящиках тумб и шкафов;"]
["8. Ручка - кнопка \"Вензель латунь\";"]
["9. Регулируемые ножки PI04;"]
["10. Стекло тонированное в шкафах-витринах."]
[]
["Фасад"]
[]
[]
[]
[]
[]
[]
[]
[]
[]
[]
[]
[]
[]
["Состав комплекта"]
[]
[null,null,null,null,"1. Шкаф (420) 1дв витрина 1дв глух 2040х560;"]
[null,null,null,null,"2. Комод (420) 2дв 4ящ 860х1200;"]
[null,null,null,null,"3. Багетный блок (420) 560 мм."]
[]
[]
[]
[]
[]
[]
[]
[]
[]
[]
[]
[]
[]
[]
["Багетный блок"]
["Багетный блок состоит:"]
[null,null,null,"1. Багет 16, запиленный под необходимым углом;"]
[null,null,null,"2. Панель - козырек \"Классика\""]
[]
[]
[]
["Все составляющие комплекты имеют необходимые сверловки для облегчения процесса сборки и правильной"]
["стыковки багета."]
[]
["Доступные к заказу модули"]
[null,null,null,null,null,null,null,1.1000000000000001]
[null,"Наименование","Эскиз","Габариты,  ШхГхВ мм.","Цена, руб"]
[]
[null,"Шкаф (420) 1дв витрина 1дв глух 2040х420",null,"420х440х2040",19196,null,null,{"$f":"E60*$H$57","v":21115.600000000002}]
[null,"Шкаф (420) 1дв витрина 1дв глух 2040х560",null,"560х440х2040",23291,null,null,{"$f":"E61*$H$57","v":25620.100000000002}]
[null,"Стеллаж (420) Торцевой 2040х300 Радиусный",null,"300х420х2040",4487,null,null,4935.7000000000007]
[null,"Тумба TV (560) 2ящ 460х1260",null,"1260х560х460",24262,null,null,26688.2]
[null,"Тумба TV (560) 2ящ 460х840",null,"840х560х460",19226,null,null,21148.600000000002]
[null,"Тумба TV (560) 4ящ 460х1680",null,"1680х560х460",37438,null,null,41181.800000000003]
[null,"Тумба TV (560) 4ящ 460х2520",null,"2520х560х460",48375,null,null,53212.500000000007]
[null,"Тумба TV (560) Ниша 1 ящ 460х1260",null,"1260х560х460",21621,null,null,23783.100000000002]
[null,"Тумба TV (560) Ниша 1ящ 460х840",null,"840х560х460",15263,null,null,16789.300000000003]
[null,"Тумба TV (560) Ниша 3ящ 460х1680",null,"1680х560х460",34198,null,null,37617.800000000003]
[null,"Тумба TV (560) Ниша 3ящ 460х2520",null,"2520х560х460",45582,null,null,50140.200000000004]
[null,"Комод (420) 2дв 4ящ 860х1060",null,"1060х440х860",22341,null,null,24575.100000000002]
[null,"Комод (420) 2дв 4ящ 860х1200",null,"1200х440х860",24269,null,null,26695.9]
[]
["Дополнительная комплектация"]
[]
[null,"Наименование","Эскиз","Габариты,  ШхГхВ мм.","Цена, руб"]
[]
[null,"Багетный блок (420) 420",null,null,2500,null,null,{"$f":"E78*$H$57","v":2750}]
[null,"Багетный блок (420) 560",null,null,3100,null,null,3410.0000000000005]

{"sheet":"Retro","index":10,"n_rows":26,"n_cols":13,"rows_kept":26,"cut":false,"hidden":false,"merged":[[0,0,0,5],[3,0,3,5],[11,0,11,5],[18,0,19,0],[18,1,19,1],[18,2,19,2],[18,3,18,5],[18,6,18,10],[18,11,18,12],[20,0,20,12],[17,0,17,12],[24,1,25,1],[22,1,23,1]]}
["Loft, краткое описание"]
["Набор мебели для гостиной состоит из модулей с вкладным фасадом, т.е. фасад утоплен во внутрь каркаса."]
["Каркас тумб изготавливается из ЛДСП толщиной 16 мм. в кромке ПВХ черного цвета"]
["Базовая комплектация"]
["1. Каркас модулей изготовлен из ЛДСП оклеенной кромкой ПВХ черного цвета 0,4 мм. Задняя стенка модулей из облагороженной ХДФ;"]
["2. Фасад;"]
["3. Петли Hettich Sensys плавного закрывания;"]
["4. Полки ЛДСП;"]
["5. Ручка врезная CL хром глянец. ВНИМАНИЕ! НЕ ВОЗМОЖНО применение других ручек;"]
["6. Регулируемые ножки PI04 на шкафах и деревянные опоры на тумбах;"]
["7. Стекло простое в шкафах-витринах."]
["Классификация цветов фасадов "]
[]
["1. Фасады МДФ/ПВХ. Только с рисунком \"Мыло\""]
["2. Фасады UV-лак"]
["3. Фасады ЛДСП"]
[]
["МЕБЕЛЬ ДЛЯ ГОСТИННОЙ"]
["Наименование","Эскиз","Габариты,  ШхГхВ мм.","МДФ фасады",null,null,"ЛДСП",null,null,null,null,"UV-лак"]
[null,null,null,"1 ЦК","2 ЦК","3 ЦК","1-я ц.к.","2-я ц.к.","3-я ц.к.","4-я ц.к.","5-я ц.к.","кромка ABC/AL кромка","кромка 3D акр"]
["«Retro»"]
["Ретро_Тумба TV (420) 2дв ниша 460х1260",null,"1260х420х460",{"$f":"CEILING('Retro (2)'!D22*Титульный!$AY$1,Титульный!$AY$3)","v":10513},{"$f":"CEILING('Retro (2)'!E22*Титульный!$AY$1,Титульный!$AY$3)","v":10713},{"$f":"CEILING('Retro (2)'!F22*Титульный!$AY$1,Титульный!$AY$3)","v":11173},{"$f":"CEILING('Retro (2)'!G22*Титульный!$AY$1,Титульный!$AY$3)","v":10033},{"$f":"CEILING('Retro (2)'!H22*Титульный!$AY$1,Титульный!$AY$3)","v":10153},{"$f":"CEILING('Retro (2)'!I22*Титульный!$AY$1,Титульный!$AY$3)","v":10433},{"$f":"CEILING('Retro (2)'!J22*Титульный!$AY$1,Титульный!$AY$3)","v":10753},"-",{"$f":"CEILING('Retro (2)'!L22*Титульный!$AY$1,Титульный!$AY$3)","v":11933},{"$f":"CEILING('Retro (2)'!M22*Титульный!$AY$1,Титульный!$AY$3)","v":12593}]
["Ретро_Шкаф (420) 2040х560 2дв 1дв витрина лев",null,"560х420х2040",{"$f":"CEILING('Retro (2)'!D23*Титульный!$AY$1,Титульный!$AY$3)","v":13057},{"$f":"CEILING('Retro (2)'!E23*Титульный!$AY$1,Титульный!$AY$3)","v":13347},{"$f":"CEILING('Retro (2)'!F23*Титульный!$AY$1,Титульный!$AY$3)","v":14057},{"$f":"CEILING('Retro (2)'!G23*Титульный!$AY$1,Титульный!$AY$3)","v":11493},{"$f":"CEILING('Retro (2)'!H23*Титульный!$AY$1,Титульный!$AY$3)","v":11753},{"$f":"CEILING('Retro (2)'!I23*Титульный!$AY$1,Титульный!$AY$3)","v":12273},{"$f":"CEILING('Retro (2)'!J23*Титульный!$AY$1,Титульный!$AY$3)","v":12813},"-",{"$f":"CEILING('Retro (2)'!L23*Титульный!$AY$1,Титульный!$AY$3)","v":14893},{"$f":"CEILING('Retro (2)'!M23*Титульный!$AY$1,Титульный!$AY$3)","v":16443}]
["Ретро_Шкаф (420) 2040х560 2дв 1дв витрина прав",null,"560х420х2040",{"$f":"CEILING('Retro (2)'!D24*Титульный!$AY$1,Титульный!$AY$3)","v":13057},{"$f":"CEILING('Retro (2)'!E24*Титульный!$AY$1,Титульный!$AY$3)","v":13347},{"$f":"CEILING('Retro (2)'!F24*Титульный!$AY$1,Титульный!$AY$3)","v":14057},{"$f":"CEILING('Retro (2)'!G24*Титульный!$AY$1,Титульный!$AY$3)","v":11493},{"$f":"CEILING('Retro (2)'!H24*Титульный!$AY$1,Титульный!$AY$3)","v":11753},{"$f":"CEILING('Retro (2)'!I24*Титульный!$AY$1,Титульный!$AY$3)","v":12273},{"$f":"CEILING('Retro (2)'!J24*Титульный!$AY$1,Титульный!$AY$3)","v":12813},"-",{"$f":"CEILING('Retro (2)'!L24*Титульный!$AY$1,Титульный!$AY$3)","v":14893},{"$f":"CEILING('Retro (2)'!M24*Титульный!$AY$1,Титульный!$AY$3)","v":16443}]
["Ретро_Шкаф (420) 3 дв 1120х1120 лев ",null,"1120х420х1120",{"$f":"CEILING('Retro (2)'!D25*Титульный!$AY$1,Титульный!$AY$3)","v":16508},{"$f":"CEILING('Retro (2)'!E25*Титульный!$AY$1,Титульный!$AY$3)","v":17048},{"$f":"CEILING('Retro (2)'!F25*Титульный!$AY$1,Титульный!$AY$3)","v":18398},{"$f":"CEILING('Retro (2)'!G25*Титульный!$AY$1,Титульный!$AY$3)","v":15038},{"$f":"CEILING('Retro (2)'!H25*Титульный!$AY$1,Титульный!$AY$3)","v":15338},{"$f":"CEILING('Retro (2)'!I25*Титульный!$AY$1,Титульный!$AY$3)","v":16088},{"$f":"CEILING('Retro (2)'!J25*Титульный!$AY$1,Титульный!$AY$3)","v":16958},"-",{"$f":"CEILING('Retro (2)'!L25*Титульный!$AY$1,Титульный!$AY$3)","v":20138},{"$f":"CEILING('Retro (2)'!M25*Титульный!$AY$1,Титульный!$AY$3)","v":21458}]
["Ретро_Шкаф (420) 3 дв 1120х1120 прав",null,"1120х420х1120",{"$f":"CEILING('Retro (2)'!D26*Титульный!$AY$1,Титульный!$AY$3)","v":16508},{"$f":"CEILING('Retro (2)'!E26*Титульный!$AY$1,Титульный!$AY$3)","v":17048},{"$f":"CEILING('Retro (2)'!F26*Титульный!$AY$1,Титульный!$AY$3)","v":18398},{"$f":"CEILING('Retro (2)'!G26*Титульный!$AY$1,Титульный!$AY$3)","v":15038},{"$f":"CEILING('Retro (2)'!H26*Титульный!$AY$1,Титульный!$AY$3)","v":15338},{"$f":"CEILING('Retro (2)'!I26*Титульный!$AY$1,Титульный!$AY$3)","v":16088},{"$f":"CEILING('Retro (2)'!J26*Титульный!$AY$1,Титульный!$AY$3)","v":16958},"-",{"$f":"CEILING('Retro (2)'!L26*Титульный!$AY$1,Титульный!$AY$3)","v":20138},{"$f":"CEILING('Retro (2)'!M26*Титульный!$AY$1,Титульный!$AY$3)","v":21458}]

{"sheet":"Retro (2)","index":11,"n_rows":31,"n_cols":13,"rows_kept":31,"cut":false,"hidden":true,"merged":[[20,0,20,12],[0,0,0,5],[3,0,3,5],[11,0,11,5],[17,0,17,12],[18,0,19,0],[18,1,19,1],[18,2,19,2],[18,3,18,5],[18,6,18,10],[18,11,18,12]]}
["Loft, краткое описание"]
["Набор мебели для гостиной состоит из модулей с вкладным фасадом, т.е. фасад утоплен во внутрь каркаса."]
["Каркас тумб изготавливается из ЛДСП толщиной 16 мм. в кромке ПВХ черного цвета"]
["Базовая комплектация"]
["1. Каркас модулей изготовлен из ЛДСП оклеенной кромкой ПВХ черного цвета 0,4 мм. Задняя стенка модулей из облагороженной ХДФ;"]
["2. Фасад;"]
["3. Петли Hettich Sensys плавного закрывания;"]
["4. Полки ЛДСП;"]
["5. Ручка врезная CL хром глянец. ВНИМАНИЕ! НЕ ВОЗМОЖНО применение других ручек;"]
["6. Регулируемые ножки PI04 на шкафах и деревянные опоры на тумбах;"]
["7. Стекло простое в шкафах-витринах."]
["Классификация цветов фасадов "]
[]
["1. Фасады МДФ/ПВХ. Только с рисунком \"Мыло\""]
["2. Фасады UV-лак"]
["3. Фасады ЛДСП"]
[]
["МЕБЕЛЬ ДЛЯ ГОСТИННОЙ"]
["Наименование","Эскиз","Габариты,  ШхГхВ мм.","МДФ фасады",null,null,"ЛДСП",null,null,null,null,"UV-лак"]
[null,null,null,"1 ЦК","2 ЦК","3 ЦК","1-я ц.к.","2-я ц.к.","3-я ц.к.","4-я ц.к.","5-я ц.к.","кромка ABC/AL кромка","кромка 3D акр"]
["«Retro»"]
["Ретро_Тумба TV (420) 2дв ниша 460х1260",null,"1160х550х460",10513,10713,11173,10033,10153,10433,10753,null,11933,12593]
["Ретро_Шкаф (420) 2040х560 2дв 1дв витрина лев",null,"1160х550х460",13057,13347,14057,11493,11753,12273,12813,null,14893,16443]
["Ретро_Шкаф (420) 2040х560 2дв 1дв витрина прав",null,"1680х550х460",{"$f":"D23","v":13057},{"$f":"E23","v":13347},14057,11493,11753,12273,12813,0,14893,16443]
["Ретро_Шкаф (420) 3 дв 1120х1120 лев ",null,"1680х550х460",16508,17048,18398,15038,15338,16088,16958,null,20138,21458]
["Ретро_Шкаф (420) 3 дв 1120х1120 прав",null,"2320х550х460",{"$f":"D25","v":16508},{"$f":"E25","v":17048},18398,15038,15338,16088,16958,0,20138,21458]
[null,1.1000000000000001,null,{"$f":"D22*$B$27","v":11564.300000000001},{"$f":"E22*$B$27","v":11784.300000000001},12290.300000000001,11036.300000000001,11168.300000000001,11476.300000000001,11828.300000000001,0,13126.300000000001,13852.300000000001]
[null,null,null,{"$f":"D23*$B$27","v":14362.7},14681.7,15462.7,12642.300000000001,12928.300000000001,13500.300000000001,14094.300000000001,0,16382.300000000001,18087.300000000003]
[null,null,null,14362.7,14681.7,15462.7,12642.300000000001,12928.300000000001,13500.300000000001,14094.300000000001,0,16382.300000000001,18087.300000000003]
[null,null,null,18158.800000000003,18752.800000000003,20237.800000000003,16541.800000000003,16871.800000000003,17696.800000000003,18653.800000000003,0,22151.800000000003,23603.800000000003]
[null,null,null,18158.800000000003,18752.800000000003,20237.800000000003,16541.800000000003,16871.800000000003,17696.800000000003,18653.800000000003,0,22151.800000000003,23603.800000000003]

{"sheet":"Лист-калькулятор","index":12,"n_rows":44,"n_cols":5,"rows_kept":44,"cut":false,"hidden":false,"merged":[[42,3,42,4],[43,3,43,4],[1,0,1,4],[36,1,36,3],[37,2,37,3],[38,2,38,3],[39,2,39,3],[41,3,41,4]]}
[]
["Перечень выбранной продукции"]
[]
["№ п/п","Наименование \n(название, размер, фасад, опции)","Кол-во\n (шт.)","Цена за ед. \nруб.","Цена общая \nруб."]
[null,null,null,null,{"$f":"C5*D5","v":0}]
[null,null,null,null,{"$f":"C6*D6","v":0}]
[null,null,null,null,0]
[null,null,null,null,0]
[null,null,null,null,0]
[null,null,null,null,0]
[null,null,null,null,0]
[null,null,null,null,0]
[null,null,null,null,0]
[null,null,null,null,0]
[null,null,null,null,0]
[null,null,null,null,0]
[null,null,null,null,0]
[null,null,null,null,0]
[null,null,null,null,0]
[null,null,null,null,0]
[null,null,null,null,0]
[null,null,null,null,0]
[null,null,null,null,0]
[null,null,null,null,0]
[null,null,null,null,0]
[null,null,null,null,0]
[null,null,null,null,0]
[null,null,null,null,0]
[null,null,null,null,0]
[null,null,null,null,0]
[null,null,null,null,0]
[null,null,null,null,0]
[null,null,null,null,0]
[null,null,null,null,0]
[null,null,null,null,0]
[]
[null,"Итого:"]
[null,"Позиций :",{"$f":"COUNTA(A5:A35)","v":0}]
[null,"Кол-во продукции:",{"$f":"SUM(C5:C35)","v":0}]
[null,"Общая сумма:",{"$f":"SUM(E5:E35)","v":0}]
[]
["Подготовил:"]
[null,null,null,"Ф.И.О."]
[null,null,null,{"$f":"NOW()","v":"2025-11-19T08:57:18.140"}]

{"sheet":"Инструкция лист-калькулятор","index":13,"n_rows":27,"n_cols":2,"rows_kept":27,"cut":false,"hidden":false,"merged":[]}
["Уважаемые пользователи для работы с Листом-калькулятором пожалуйста ознакомьтесь с данной инструкцией"]
[]
["Лист-калькулятор (далее - ЛК) предназначен для помощи в расчете цен выбранную продукцию"]
["ЛК функционирует в приложении Microsoft Office Еxcel в версиях не ранее 2007."]
["Перед использованием ЛК выполните настройки параметров: процент увеличения и еденица округления на листе \"Титульный\" ."]
["При изменении параметров на листе \"Титульный\"  в ЛК на ранее добавленный товар изменения не производятся."]
["Для работы ЛК требуется включение поддержки (разрешение на использование) макросов."]
["Как включить макросы :"]
[null,"* обратитетсь к справочной системе;"]
[null,"* воспользуйтесь поисковыми системами Интернет;"]
[null,"* воспользуйтесь справочными ссылками в Интернет (http://excelvba.ru/articles/EnableMacros/Excel;  http://sirexcel.ru/makrosi_vba/kak-vklyuchit-ili-otklyuchit-makrosy-v-excel-2003-2007-i-2010/)"]
["После успешного включения макросов ЛК готов к работе."]
["Производится переход на лист \"прайс лист\"."]
["Выбирается необходимая продукция "]
["далее двойным кликом (левой клавишей)  мышью на ячеке с ценой этой продукции"]
["далее появится форма добавления продукции"]
["далее при необходимости выбираются опции"]
["далее производится добавление продукции или отмена выбора ее"]
["Вся выбранная продукция добавляется в таблицу листа \"Лист-калькулятор\"."]
["После окончания выбора продукции перейдите на лист \"Лист-каклькулятор\"."]
["При необходимости поправьте количество выбранной продукции"]
["Ненужный товар вручную удаляется из таблицы."]
["Перед выводом на печать неиспользуемые строки рекомендуется скрывать."]
["При необходимости ЛК распечатывается."]
[]
["В случае если необходимо сохранение  файла Microsoft Office Еxcel  под другим именем выполните следующее:"]
[null,"* Главное меню - \"Сохранить как..\". Выбирается тип документа \"Книга EXCEL с поддержкой макросов\""]